BEGIN:VCALENDAR
VERSION:2.0
PRODID:-//Potted - ECPv6.15.20//NONSGML v1.0//EN
CALSCALE:GREGORIAN
METHOD:PUBLISH
X-WR-CALNAME:Potted
X-ORIGINAL-URL:https://pottedinsl.com
X-WR-CALDESC:Events for Potted
REFRESH-INTERVAL;VALUE=DURATION:PT1H
X-Robots-Tag:noindex
X-PUBLISHED-TTL:PT1H
BEGIN:VTIMEZONE
TZID:America/Los_Angeles
BEGIN:DAYLIGHT
TZOFFSETFROM:-0800
TZOFFSETTO:-0700
TZNAME:PDT
DTSTART:20240310T100000
END:DAYLIGHT
BEGIN:STANDARD
TZOFFSETFROM:-0700
TZOFFSETTO:-0800
TZNAME:PST
DTSTART:20241103T090000
END:STANDARD
BEGIN:DAYLIGHT
TZOFFSETFROM:-0800
TZOFFSETTO:-0700
TZNAME:PDT
DTSTART:20250309T100000
END:DAYLIGHT
BEGIN:STANDARD
TZOFFSETFROM:-0700
TZOFFSETTO:-0800
TZNAME:PST
DTSTART:20251102T090000
END:STANDARD
BEGIN:DAYLIGHT
TZOFFSETFROM:-0800
TZOFFSETTO:-0700
TZNAME:PDT
DTSTART:20260308T100000
END:DAYLIGHT
BEGIN:STANDARD
TZOFFSETFROM:-0700
TZOFFSETTO:-0800
TZNAME:PST
DTSTART:20261101T090000
END:STANDARD
END:VTIMEZONE
BEGIN:VEVENT
DTSTART;TZID=America/Los_Angeles:20251115T120000
DTEND;TZID=America/Los_Angeles:20251117T120000
DTSTAMP:20260425T080241
CREATED:20251114T144442Z
LAST-MODIFIED:20251114T144442Z
UID:10012517-1763208000-1763380800@pottedinsl.com
SUMMARY:SIM BENEFIT POT
DESCRIPTION:Bid board offering the Sim Benefit pot LE Sir Borksalot Philodendron Pot – Spice at Amore d’Potted \nhttp://maps.secondlife.com/secondlife/Passions/208/147/21
URL:https://pottedinsl.com/event/sim-benefit-pot-636/
LOCATION:http://maps.secondlife.com/secondlife/Passions/208/147/21
END:VEVENT
BEGIN:VEVENT
DTSTART;TZID=America/Los_Angeles:20251115T120000
DTEND;TZID=America/Los_Angeles:20251115T130000
DTSTAMP:20260425T080241
CREATED:20251115T074848Z
LAST-MODIFIED:20251115T074848Z
UID:10012530-1763208000-1763211600@pottedinsl.com
SUMMARY:SIM BENEFIT POT
DESCRIPTION:Potted Auction to include the Sim Benefit pot Bloom at the Nest Egg \nhttp://maps.secondlife.com/secondlife/The%20Mystical%20Isle/209/211/22
URL:https://pottedinsl.com/event/sim-benefit-pot-649/
LOCATION:http://maps.secondlife.com/secondlife/The%20Mystical%20Isle/209/211/22
END:VEVENT
BEGIN:VEVENT
DTSTART;TZID=America/Los_Angeles:20251115T110000
DTEND;TZID=America/Los_Angeles:20251115T120000
DTSTAMP:20260425T080241
CREATED:20251111T105305Z
LAST-MODIFIED:20251111T105305Z
UID:10012503-1763204400-1763208000@pottedinsl.com
SUMMARY:SIM BENEFIT POT
DESCRIPTION:Potted Auction to include the Sim Benefit pot LE Sir Borksalot Philodendron Pot – Storm at Sweetflowers \nhttp://maps.secondlife.com/secondlife/Woodland%20Hills/216/194/26
URL:https://pottedinsl.com/event/sim-benefit-pot-628/
LOCATION:http://maps.secondlife.com/secondlife/Woodland%20Hills/216/194/26
END:VEVENT
BEGIN:VEVENT
DTSTART;TZID=America/Los_Angeles:20251115T110000
DTEND;TZID=America/Los_Angeles:20251115T120000
DTSTAMP:20260425T080241
CREATED:20251029T094637Z
LAST-MODIFIED:20251029T094637Z
UID:10012341-1763204400-1763208000@pottedinsl.com
SUMMARY:Sweetflowers
DESCRIPTION:Potted Auction \nhttp://maps.secondlife.com/secondlife/Woodland%20Hills/208/196/26
URL:https://pottedinsl.com/event/sweetflowers-54/2025-11-15/
LOCATION:http://maps.secondlife.com/secondlife/Woodland%20Hills/208/196/26
END:VEVENT
BEGIN:VEVENT
DTSTART;TZID=America/Los_Angeles:20251115T080000
DTEND;TZID=America/Los_Angeles:20251117T200000
DTSTAMP:20260425T080241
CREATED:20251114T154605Z
LAST-MODIFIED:20251114T154605Z
UID:10012526-1763193600-1763409600@pottedinsl.com
SUMMARY:SIM BENEFIT POT
DESCRIPTION:Bid board offering the Sim Benefit pot Storm at Delirium \nhttp://maps.secondlife.com/secondlife/Delirium%20Breedables/236/132/21
URL:https://pottedinsl.com/event/sim-benefit-pot-645/
LOCATION:http://maps.secondlife.com/secondlife/Delirium%20Breedables/236/132/21
END:VEVENT
BEGIN:VEVENT
DTSTART;TZID=America/Los_Angeles:20251114T163000
DTEND;TZID=America/Los_Angeles:20251114T173000
DTSTAMP:20260425T080241
CREATED:20251101T092915Z
LAST-MODIFIED:20251101T092915Z
UID:10012431-1763137800-1763141400@pottedinsl.com
SUMMARY:Jazzy Pots
DESCRIPTION:Potted Auction \nhttp://maps.secondlife.com/secondlife/Elston/102/229/3500
URL:https://pottedinsl.com/event/jazzy-pots-15/2025-11-14/
LOCATION:http://maps.secondlife.com/secondlife/Elston/102/229/3500
END:VEVENT
BEGIN:VEVENT
DTSTART;TZID=America/Los_Angeles:20251114T150000
DTEND;TZID=America/Los_Angeles:20251114T160000
DTSTAMP:20260425T080241
CREATED:20251102T061634Z
LAST-MODIFIED:20251102T061634Z
UID:10012470-1763132400-1763136000@pottedinsl.com
SUMMARY:Barbasz Got Potted
DESCRIPTION:Potted Auction \nhttp://maps.secondlife.com/secondlife/MOJO/50/128/22
URL:https://pottedinsl.com/event/barbasz-got-potted-81/2025-11-14/
LOCATION:http://maps.secondlife.com/secondlife/MOJO/50/128/22
END:VEVENT
BEGIN:VEVENT
DTSTART;TZID=America/Los_Angeles:20251114T130000
DTEND;TZID=America/Los_Angeles:20251114T140000
DTSTAMP:20260425T080241
CREATED:20251101T092508Z
LAST-MODIFIED:20251101T092508Z
UID:10012420-1763125200-1763128800@pottedinsl.com
SUMMARY:Rainbow Potted
DESCRIPTION:Potted Auction \nhttp://maps.secondlife.com/secondlife/Covdova/193/18/22
URL:https://pottedinsl.com/event/rainbow-potted-43/2025-11-14/
LOCATION:http://maps.secondlife.com/secondlife/Covdova/193/18/22
END:VEVENT
BEGIN:VEVENT
DTSTART;TZID=America/Los_Angeles:20251114T120000
DTEND;TZID=America/Los_Angeles:20251114T130000
DTSTAMP:20260425T080241
CREATED:20251105T084206Z
LAST-MODIFIED:20251105T084206Z
UID:10012487-1763121600-1763125200@pottedinsl.com
SUMMARY:Bakery Woods
DESCRIPTION:Potted Auction \nhttp://maps.secondlife.com/secondlife/Purple%20Rose/38/32/11
URL:https://pottedinsl.com/event/bakery-woods-55/2025-11-14/
LOCATION:http://maps.secondlife.com/secondlife/Purple%20Rose/38/32/11
END:VEVENT
BEGIN:VEVENT
DTSTART;TZID=America/Los_Angeles:20251114T110000
DTEND;TZID=America/Los_Angeles:20251114T120000
DTSTAMP:20260425T080241
CREATED:20251030T101303Z
LAST-MODIFIED:20251030T101303Z
UID:10012403-1763118000-1763121600@pottedinsl.com
SUMMARY:Charmed
DESCRIPTION:Potted Auction \nhttp://maps.secondlife.com/secondlife/Noctura/133/161/30
URL:https://pottedinsl.com/event/charmed-2/2025-11-14/
LOCATION:http://maps.secondlife.com/secondlife/Noctura/133/161/30
END:VEVENT
BEGIN:VEVENT
DTSTART;TZID=America/Los_Angeles:20251114T090000
DTEND;TZID=America/Los_Angeles:20251114T100000
DTSTAMP:20260425T080241
CREATED:20251023T143900Z
LAST-MODIFIED:20251023T143900Z
UID:10012322-1763110800-1763114400@pottedinsl.com
SUMMARY:Garden of Eden
DESCRIPTION:Potted Auction \nhttp://maps.secondlife.com/secondlife/Wines/141/127/19
URL:https://pottedinsl.com/event/garden-of-eden-353/
LOCATION:http://maps.secondlife.com/secondlife/Wines/141/127/19
END:VEVENT
BEGIN:VEVENT
DTSTART;TZID=America/Los_Angeles:20251113T200000
DTEND;TZID=America/Los_Angeles:20251113T210000
DTSTAMP:20260425T080241
CREATED:20251029T102658Z
LAST-MODIFIED:20251029T102658Z
UID:10012384-1763064000-1763067600@pottedinsl.com
SUMMARY:Soil & Soul
DESCRIPTION:Potted Auction \nhttp://maps.secondlife.com/secondlife/Silex/100/126/33
URL:https://pottedinsl.com/event/soil-soul-9/2025-11-13/
LOCATION:http://maps.secondlife.com/secondlife/Silex/100/126/33
END:VEVENT
BEGIN:VEVENT
DTSTART;TZID=America/Los_Angeles:20251113T180000
DTEND;TZID=America/Los_Angeles:20251113T190000
DTSTAMP:20260425T080241
CREATED:20251029T101905Z
LAST-MODIFIED:20251029T101905Z
UID:10012371-1763056800-1763060400@pottedinsl.com
SUMMARY:Riacats
DESCRIPTION:Potted Auction \nhttp://maps.secondlife.com/secondlife/Solarian%20Prime/63/159/25
URL:https://pottedinsl.com/event/riacats-51/2025-11-13/
LOCATION:http://maps.secondlife.com/secondlife/Solarian%20Prime/63/159/25
END:VEVENT
BEGIN:VEVENT
DTSTART;TZID=America/Los_Angeles:20251113T160000
DTEND;TZID=America/Los_Angeles:20251113T170000
DTSTAMP:20260425T080241
CREATED:20251102T060903Z
LAST-MODIFIED:20251102T060903Z
UID:10012458-1763049600-1763053200@pottedinsl.com
SUMMARY:Nest Egg
DESCRIPTION:Potted Auction \nhttp://maps.secondlife.com/secondlife/The%20Mystical%20Isle/209/211/22
URL:https://pottedinsl.com/event/nest-egg-66/2025-11-13/
LOCATION:http://maps.secondlife.com/secondlife/The%20Mystical%20Isle/209/211/22
END:VEVENT
BEGIN:VEVENT
DTSTART;TZID=America/Los_Angeles:20251113T120000
DTEND;TZID=America/Los_Angeles:20251113T130000
DTSTAMP:20260425T080241
CREATED:20251023T143803Z
LAST-MODIFIED:20251023T143803Z
UID:10012321-1763035200-1763038800@pottedinsl.com
SUMMARY:Garden of Eden
DESCRIPTION:Potted Auction \nhttp://maps.secondlife.com/secondlife/Wines/141/127/19
URL:https://pottedinsl.com/event/garden-of-eden-352/
LOCATION:http://maps.secondlife.com/secondlife/Wines/141/127/19
END:VEVENT
BEGIN:VEVENT
DTSTART;TZID=America/Los_Angeles:20251113T110000
DTEND;TZID=America/Los_Angeles:20251113T120000
DTSTAMP:20260425T080241
CREATED:20251023T144808Z
LAST-MODIFIED:20251023T144808Z
UID:10012334-1763031600-1763035200@pottedinsl.com
SUMMARY:The Secret Garden
DESCRIPTION:Potted Auction \nhttp://maps.secondlife.com/secondlife/Sweet%20Desire/211/200/44
URL:https://pottedinsl.com/event/the-secret-garden-72/2025-11-13/
LOCATION:http://maps.secondlife.com/secondlife/Sweet%20Desire/211/200/44
END:VEVENT
BEGIN:VEVENT
DTSTART;TZID=America/Los_Angeles:20251113T090000
DTEND;TZID=America/Los_Angeles:20251113T100000
DTSTAMP:20260425T080241
CREATED:20251102T060518Z
LAST-MODIFIED:20251102T060518Z
UID:10012445-1763024400-1763028000@pottedinsl.com
SUMMARY:Ganja Garden
DESCRIPTION:Potted Auction \nhttp://maps.secondlife.com/secondlife/CreditCard/74/195/3482
URL:https://pottedinsl.com/event/ganja-garden-54/2025-11-13/
LOCATION:http://maps.secondlife.com/secondlife/CreditCard/74/195/3482
END:VEVENT
BEGIN:VEVENT
DTSTART;TZID=America/Los_Angeles:20251112T164500
DTEND;TZID=America/Los_Angeles:20251112T174500
DTSTAMP:20260425T080241
CREATED:20251029T095301Z
LAST-MODIFIED:20251029T095301Z
UID:10012357-1762965900-1762969500@pottedinsl.com
SUMMARY:Celtic Mystics
DESCRIPTION:Potted Auction \nhttp://maps.secondlife.com/secondlife/Celtic/191/73/22
URL:https://pottedinsl.com/event/celtic-mystics-39/2025-11-12/
LOCATION:http://maps.secondlife.com/secondlife/Celtic/191/73/22
END:VEVENT
BEGIN:VEVENT
DTSTART;TZID=America/Los_Angeles:20251112T153000
DTEND;TZID=America/Los_Angeles:20251112T163000
DTSTAMP:20260425T080241
CREATED:20251102T061520Z
LAST-MODIFIED:20251102T061520Z
UID:10012466-1762961400-1762965000@pottedinsl.com
SUMMARY:Barbasz Got Potted
DESCRIPTION:Potted Auction \nhttp://maps.secondlife.com/secondlife/MOJO/50/128/22
URL:https://pottedinsl.com/event/barbasz-got-potted-80/2025-11-12/
LOCATION:http://maps.secondlife.com/secondlife/MOJO/50/128/22
END:VEVENT
BEGIN:VEVENT
DTSTART;TZID=America/Los_Angeles:20251112T130000
DTEND;TZID=America/Los_Angeles:20251112T140000
DTSTAMP:20260425T080241
CREATED:20251029T094841Z
LAST-MODIFIED:20251029T094841Z
UID:10012349-1762952400-1762956000@pottedinsl.com
SUMMARY:Sweetflowers
DESCRIPTION:Potted Auction \nhttp://maps.secondlife.com/secondlife/Woodland%20Hills/208/196/26
URL:https://pottedinsl.com/event/sweetflowers-56/2025-11-12/
LOCATION:http://maps.secondlife.com/secondlife/Woodland%20Hills/208/196/26
END:VEVENT
BEGIN:VEVENT
DTSTART;TZID=America/Los_Angeles:20251112T120000
DTEND;TZID=America/Los_Angeles:20251112T130000
DTSTAMP:20260425T080241
CREATED:20251102T060758Z
LAST-MODIFIED:20251102T060758Z
UID:10012454-1762948800-1762952400@pottedinsl.com
SUMMARY:Nest Egg
DESCRIPTION:Potted Auction \nhttp://maps.secondlife.com/secondlife/The%20Mystical%20Isle/209/211/22
URL:https://pottedinsl.com/event/nest-egg-65/2025-11-12/
LOCATION:http://maps.secondlife.com/secondlife/The%20Mystical%20Isle/209/211/22
END:VEVENT
BEGIN:VEVENT
DTSTART;TZID=America/Los_Angeles:20251112T090000
DTEND;TZID=America/Los_Angeles:20251112T100000
DTSTAMP:20260425T080241
CREATED:20251023T143632Z
LAST-MODIFIED:20251023T143632Z
UID:10012320-1762938000-1762941600@pottedinsl.com
SUMMARY:Garden of Eden
DESCRIPTION:Potted Auction \nhttp://maps.secondlife.com/secondlife/Wines/141/127/19
URL:https://pottedinsl.com/event/garden-of-eden-351/
LOCATION:http://maps.secondlife.com/secondlife/Wines/141/127/19
END:VEVENT
BEGIN:VEVENT
DTSTART;TZID=America/Los_Angeles:20251111T200000
DTEND;TZID=America/Los_Angeles:20251111T210000
DTSTAMP:20260425T080241
CREATED:20251029T102607Z
LAST-MODIFIED:20251029T102607Z
UID:10012380-1762891200-1762894800@pottedinsl.com
SUMMARY:Soil & Soul
DESCRIPTION:Potted Auction \nhttp://maps.secondlife.com/secondlife/Silex/100/126/33
URL:https://pottedinsl.com/event/soil-soul-8/2025-11-11/
LOCATION:http://maps.secondlife.com/secondlife/Silex/100/126/33
END:VEVENT
BEGIN:VEVENT
DTSTART;TZID=America/Los_Angeles:20251111T180000
DTEND;TZID=America/Los_Angeles:20251111T190000
DTSTAMP:20260425T080241
CREATED:20251029T101652Z
LAST-MODIFIED:20251029T101652Z
UID:10012368-1762884000-1762887600@pottedinsl.com
SUMMARY:Riacats
DESCRIPTION:Potted Auction \nhttp://maps.secondlife.com/secondlife/Solarian%20Prime/63/159/25
URL:https://pottedinsl.com/event/riacats-49/
LOCATION:http://maps.secondlife.com/secondlife/Solarian%20Prime/63/159/25
END:VEVENT
BEGIN:VEVENT
DTSTART;TZID=America/Los_Angeles:20251111T163000
DTEND;TZID=America/Los_Angeles:20251111T170000
DTSTAMP:20260425T080241
CREATED:20251023T144656Z
LAST-MODIFIED:20251023T144656Z
UID:10012330-1762878600-1762880400@pottedinsl.com
SUMMARY:The Secret Garden
DESCRIPTION:Potted Auction \nhttp://maps.secondlife.com/secondlife/Sweet%20Desire/211/200/44
URL:https://pottedinsl.com/event/the-secret-garden-71/2025-11-11/
LOCATION:http://maps.secondlife.com/secondlife/Sweet%20Desire/211/200/44
END:VEVENT
BEGIN:VEVENT
DTSTART;TZID=America/Los_Angeles:20251111T150000
DTEND;TZID=America/Los_Angeles:20251111T160000
DTSTAMP:20260425T080241
CREATED:20251101T092804Z
LAST-MODIFIED:20251101T092804Z
UID:10012428-1762873200-1762876800@pottedinsl.com
SUMMARY:Jazzy Pots
DESCRIPTION:Potted Auction \nhttp://maps.secondlife.com/secondlife/Elston/102/229/3500
URL:https://pottedinsl.com/event/jazzy-pots-14/2025-11-11/
LOCATION:http://maps.secondlife.com/secondlife/Elston/102/229/3500
END:VEVENT
BEGIN:VEVENT
DTSTART;TZID=America/Los_Angeles:20251111T140000
DTEND;TZID=America/Los_Angeles:20251111T150000
DTSTAMP:20260425T080241
CREATED:20251102T062410Z
LAST-MODIFIED:20251102T062410Z
UID:10012476-1762869600-1762873200@pottedinsl.com
SUMMARY:Potted with Passion
DESCRIPTION:Potted Auction \nhttp://maps.secondlife.com/secondlife/Stalkers%20Allowed/128/182/21
URL:https://pottedinsl.com/event/potted-with-passion-23/2025-11-11/
LOCATION:http://maps.secondlife.com/secondlife/Stalkers%20Allowed/128/182/21
END:VEVENT
BEGIN:VEVENT
DTSTART;TZID=America/Los_Angeles:20251111T120000
DTEND;TZID=America/Los_Angeles:20251111T130000
DTSTAMP:20260425T080241
CREATED:20251105T084048Z
LAST-MODIFIED:20251105T084048Z
UID:10012483-1762862400-1762866000@pottedinsl.com
SUMMARY:Bakery Woods
DESCRIPTION:Potted Auction \nhttp://maps.secondlife.com/secondlife/Purple%20Rose/38/32/11
URL:https://pottedinsl.com/event/bakery-woods-54/2025-11-11/
LOCATION:http://maps.secondlife.com/secondlife/Purple%20Rose/38/32/11
END:VEVENT
BEGIN:VEVENT
DTSTART;TZID=America/Los_Angeles:20251111T110000
DTEND;TZID=America/Los_Angeles:20251111T120000
DTSTAMP:20260425T080241
CREATED:20251101T092407Z
LAST-MODIFIED:20251101T092407Z
UID:10012416-1762858800-1762862400@pottedinsl.com
SUMMARY:Rainbow Potted
DESCRIPTION:Potted Auction \nhttp://maps.secondlife.com/secondlife/Covdova/193/18/22
URL:https://pottedinsl.com/event/rainbow-potted-42/2025-11-11/
LOCATION:http://maps.secondlife.com/secondlife/Covdova/193/18/22
END:VEVENT
BEGIN:VEVENT
DTSTART;TZID=America/Los_Angeles:20251111T090000
DTEND;TZID=America/Los_Angeles:20251111T100000
DTSTAMP:20260425T080241
CREATED:20251102T060400Z
LAST-MODIFIED:20251102T060400Z
UID:10012441-1762851600-1762855200@pottedinsl.com
SUMMARY:Ganja Garden
DESCRIPTION:Potted Auction \nhttp://maps.secondlife.com/secondlife/CreditCard/74/195/3482
URL:https://pottedinsl.com/event/ganja-garden-53/2025-11-11/
LOCATION:http://maps.secondlife.com/secondlife/CreditCard/74/195/3482
END:VEVENT
END:VCALENDAR