BEGIN:VCALENDAR
VERSION:2.0
PRODID:-//Potted - ECPv6.15.20//NONSGML v1.0//EN
CALSCALE:GREGORIAN
METHOD:PUBLISH
X-WR-CALNAME:Potted
X-ORIGINAL-URL:https://pottedinsl.com
X-WR-CALDESC:Events for Potted
REFRESH-INTERVAL;VALUE=DURATION:PT1H
X-Robots-Tag:noindex
X-PUBLISHED-TTL:PT1H
BEGIN:VTIMEZONE
TZID:America/Los_Angeles
BEGIN:DAYLIGHT
TZOFFSETFROM:-0800
TZOFFSETTO:-0700
TZNAME:PDT
DTSTART:20250309T100000
END:DAYLIGHT
BEGIN:STANDARD
TZOFFSETFROM:-0700
TZOFFSETTO:-0800
TZNAME:PST
DTSTART:20251102T090000
END:STANDARD
BEGIN:DAYLIGHT
TZOFFSETFROM:-0800
TZOFFSETTO:-0700
TZNAME:PDT
DTSTART:20260308T100000
END:DAYLIGHT
BEGIN:STANDARD
TZOFFSETFROM:-0700
TZOFFSETTO:-0800
TZNAME:PST
DTSTART:20261101T090000
END:STANDARD
BEGIN:DAYLIGHT
TZOFFSETFROM:-0800
TZOFFSETTO:-0700
TZNAME:PDT
DTSTART:20270314T100000
END:DAYLIGHT
BEGIN:STANDARD
TZOFFSETFROM:-0700
TZOFFSETTO:-0800
TZNAME:PST
DTSTART:20271107T090000
END:STANDARD
END:VTIMEZONE
BEGIN:VEVENT
DTSTART;TZID=America/Los_Angeles:20260127T120000
DTEND;TZID=America/Los_Angeles:20260127T130000
DTSTAMP:20260421T122708
CREATED:20251231T112251Z
LAST-MODIFIED:20251231T112251Z
UID:10012792-1769515200-1769518800@pottedinsl.com
SUMMARY:Bakery Woods
DESCRIPTION:Potted Auction \nhttp://maps.secondlife.com/secondlife/Purple%20Rose/38/32/11
URL:https://pottedinsl.com/event/bakery-woods-60/2026-01-27/
LOCATION:http://maps.secondlife.com/secondlife/Purple%20Rose/38/32/11
END:VEVENT
BEGIN:VEVENT
DTSTART;TZID=America/Los_Angeles:20260127T110000
DTEND;TZID=America/Los_Angeles:20260127T120000
DTSTAMP:20260421T122708
CREATED:20260112T141341Z
LAST-MODIFIED:20260112T141341Z
UID:10012914-1769511600-1769515200@pottedinsl.com
SUMMARY:SIM BENEFIT POT
DESCRIPTION:Potted Auction to include the Sim Benefit pot LE Spriggle Snail Succulent Pot – Sammy at Rainbow Potted \nhttp://maps.secondlife.com/secondlife/Covdova/193/170/22
URL:https://pottedinsl.com/event/sim-benefit-pot-699/
LOCATION:http://maps.secondlife.com/secondlife/Covdova/193/170/22
END:VEVENT
BEGIN:VEVENT
DTSTART;TZID=America/Los_Angeles:20260127T110000
DTEND;TZID=America/Los_Angeles:20260127T120000
DTSTAMP:20260421T122708
CREATED:20251231T095404Z
LAST-MODIFIED:20251231T095404Z
UID:10012768-1769511600-1769515200@pottedinsl.com
SUMMARY:Rainbow Potted
DESCRIPTION:Potted Auction \nhttp://maps.secondlife.com/secondlife/Covdova/193/18/22
URL:https://pottedinsl.com/event/rainbow-potted-46/2026-01-27/
LOCATION:http://maps.secondlife.com/secondlife/Covdova/193/18/22
END:VEVENT
BEGIN:VEVENT
DTSTART;TZID=America/Los_Angeles:20260127T090000
DTEND;TZID=America/Los_Angeles:20260127T100000
DTSTAMP:20260421T122708
CREATED:20260123T104619Z
LAST-MODIFIED:20260123T104619Z
UID:10012950-1769504400-1769508000@pottedinsl.com
SUMMARY:GOE
DESCRIPTION:Potted Auction \nhttp://maps.secondlife.com/secondlife/Wines/141/127/20
URL:https://pottedinsl.com/event/goe-30/
LOCATION:http://maps.secondlife.com/secondlife/Wines/141/127/20
END:VEVENT
BEGIN:VEVENT
DTSTART;TZID=America/Los_Angeles:20260127T090000
DTEND;TZID=America/Los_Angeles:20260127T100000
DTSTAMP:20260421T122708
CREATED:20260102T143630Z
LAST-MODIFIED:20260102T143630Z
UID:10012845-1769504400-1769508000@pottedinsl.com
SUMMARY:Ganja Garden
DESCRIPTION:Potted Auction \nhttp://maps.secondlife.com/secondlife/CreditCard/74/195/3482
URL:https://pottedinsl.com/event/ganja-garden-59/2026-01-27/
LOCATION:http://maps.secondlife.com/secondlife/CreditCard/74/195/3482
END:VEVENT
BEGIN:VEVENT
DTSTART;TZID=America/Los_Angeles:20260127T060000
DTEND;TZID=America/Los_Angeles:20260131T210000
DTSTAMP:20260421T122708
CREATED:20260113T144645Z
LAST-MODIFIED:20260113T144645Z
UID:10012926-1769493600-1769893200@pottedinsl.com
SUMMARY:SIM BENEFIT POT
DESCRIPTION:Bid board offering the Sim Benefit pot LE Spriggle Snail Succulent Pot – Sammy at Delirium \nhttp://maps.secondlife.com/secondlife/Delirium%20Breedables/247/133/23
URL:https://pottedinsl.com/event/sim-benefit-pot-711/
LOCATION:http://maps.secondlife.com/secondlife/Delirium%20Breedables/247/133/23
END:VEVENT
BEGIN:VEVENT
DTSTART;TZID=America/Los_Angeles:20260126T180000
DTEND;TZID=America/Los_Angeles:20260126T190000
DTSTAMP:20260421T122708
CREATED:20260112T012935Z
LAST-MODIFIED:20260112T012936Z
UID:10012893-1769450400-1769454000@pottedinsl.com
SUMMARY:Riacats
DESCRIPTION:Potted Auction \nhttp://maps.secondlife.com/secondlife/Solarian%20Prime/63/159/25
URL:https://pottedinsl.com/event/riacats-60-3/2026-01-26/
LOCATION:http://maps.secondlife.com/secondlife/Solarian%20Prime/63/159/25
END:VEVENT
BEGIN:VEVENT
DTSTART;TZID=America/Los_Angeles:20260126T170000
DTEND;TZID=America/Los_Angeles:20260126T180000
DTSTAMP:20260421T122708
CREATED:20260105T090316Z
LAST-MODIFIED:20260105T090316Z
UID:10012884-1769446800-1769450400@pottedinsl.com
SUMMARY:Jazzy Pots
DESCRIPTION:Potted Auction \nhttp://maps.secondlife.com/secondlife/Elston/102/229/3500
URL:https://pottedinsl.com/event/jazzy-pots-19/2026-01-26/
LOCATION:http://maps.secondlife.com/secondlife/Elston/102/229/3500
END:VEVENT
BEGIN:VEVENT
DTSTART;TZID=America/Los_Angeles:20260126T143000
DTEND;TZID=America/Los_Angeles:20260126T153000
DTSTAMP:20260421T122708
CREATED:20260102T142049Z
LAST-MODIFIED:20260102T142049Z
UID:10012832-1769437800-1769441400@pottedinsl.com
SUMMARY:Sweetflowers
DESCRIPTION:Potted Auction \nhttp://maps.secondlife.com/secondlife/Woodland%20Hills/208/196/26
URL:https://pottedinsl.com/event/sweetflowers-60/2026-01-26/
LOCATION:http://maps.secondlife.com/secondlife/Woodland%20Hills/208/196/26
END:VEVENT
BEGIN:VEVENT
DTSTART;TZID=America/Los_Angeles:20260126T133000
DTEND;TZID=America/Los_Angeles:20260126T143000
DTSTAMP:20260421T122708
CREATED:20251231T112130Z
LAST-MODIFIED:20251231T112130Z
UID:10012789-1769434200-1769437800@pottedinsl.com
SUMMARY:Bakery Woods
DESCRIPTION:Potted Auction \nhttp://maps.secondlife.com/secondlife/Purple%20Rose/38/32/11
URL:https://pottedinsl.com/event/bakery-woods-59/2026-01-26/
LOCATION:http://maps.secondlife.com/secondlife/Purple%20Rose/38/32/11
END:VEVENT
BEGIN:VEVENT
DTSTART;TZID=America/Los_Angeles:20260126T120000
DTEND;TZID=America/Los_Angeles:20260128T120000
DTSTAMP:20260421T122708
CREATED:20260113T141554Z
LAST-MODIFIED:20260113T141554Z
UID:10012922-1769428800-1769601600@pottedinsl.com
SUMMARY:SIM BENEFIT POT
DESCRIPTION:Bid board  offering the Sim Benefit pot LE Spriggle Snail Succulent Pot – Salley at Amore d’Potted \nhttp://maps.secondlife.com/secondlife/Passions/208/147/21
URL:https://pottedinsl.com/event/sim-benefit-pot-707/
LOCATION:http://maps.secondlife.com/secondlife/Passions/208/147/21
END:VEVENT
BEGIN:VEVENT
DTSTART;TZID=America/Los_Angeles:20260126T120000
DTEND;TZID=America/Los_Angeles:20260126T130000
DTSTAMP:20260421T122708
CREATED:20260102T141634Z
LAST-MODIFIED:20260102T141634Z
UID:10012826-1769428800-1769432400@pottedinsl.com
SUMMARY:GOE
DESCRIPTION:Potted Auction \nhttp://maps.secondlife.com/secondlife/Wines/141/127/20
URL:https://pottedinsl.com/event/goe-16/
LOCATION:http://maps.secondlife.com/secondlife/Wines/141/127/20
END:VEVENT
BEGIN:VEVENT
DTSTART;TZID=America/Los_Angeles:20260126T110000
DTEND;TZID=America/Los_Angeles:20260126T120000
DTSTAMP:20260421T122708
CREATED:20251231T095719Z
LAST-MODIFIED:20251231T095719Z
UID:10012777-1769425200-1769428800@pottedinsl.com
SUMMARY:Charmed
DESCRIPTION:Potted Auction \nhttp://maps.secondlife.com/secondlife/Noctura/124/49/27
URL:https://pottedinsl.com/event/charmed-7/2026-01-26/
LOCATION:http://maps.secondlife.com/secondlife/Noctura/124/49/27
END:VEVENT
BEGIN:VEVENT
DTSTART;TZID=America/Los_Angeles:20260125T160000
DTEND;TZID=America/Los_Angeles:20260125T170000
DTSTAMP:20260421T122708
CREATED:20260115T054818Z
LAST-MODIFIED:20260115T054818Z
UID:10012928-1769356800-1769360400@pottedinsl.com
SUMMARY:SIM BENEFIT POT
DESCRIPTION:Potted Auction to include the Sim Benefit pot Sammy at Ganja Garden \nhttp://maps.secondlife.com/secondlife/CreditCard/74/195/3482
URL:https://pottedinsl.com/event/sim-benefit-pot-713/
LOCATION:http://maps.secondlife.com/secondlife/CreditCard/74/195/3482
END:VEVENT
BEGIN:VEVENT
DTSTART;TZID=America/Los_Angeles:20260125T160000
DTEND;TZID=America/Los_Angeles:20260125T170000
DTSTAMP:20260421T122708
CREATED:20260102T143856Z
LAST-MODIFIED:20260102T143856Z
UID:10012853-1769356800-1769360400@pottedinsl.com
SUMMARY:Ganja Garden
DESCRIPTION:Potted Auction \nhttp://maps.secondlife.com/secondlife/CreditCard/74/195/3482
URL:https://pottedinsl.com/event/ganja-garden-61/2026-01-25/
LOCATION:http://maps.secondlife.com/secondlife/CreditCard/74/195/3482
END:VEVENT
BEGIN:VEVENT
DTSTART;TZID=America/Los_Angeles:20260125T120000
DTEND;TZID=America/Los_Angeles:20260125T130000
DTSTAMP:20260421T122708
CREATED:20260112T131811Z
LAST-MODIFIED:20260112T131811Z
UID:10012901-1769342400-1769346000@pottedinsl.com
SUMMARY:SIM BENEFIT POT
DESCRIPTION:Potted Auction to include the Sim Benefit pot LE Spriggle Snail Succulent Pot – Sammy at GOE \nhttp://maps.secondlife.com/secondlife/Wines/122/123/19
URL:https://pottedinsl.com/event/sim-benefit-pot-688/
LOCATION:http://maps.secondlife.com/secondlife/Wines/122/123/19
END:VEVENT
BEGIN:VEVENT
DTSTART;TZID=America/Los_Angeles:20260125T110000
DTEND;TZID=America/Los_Angeles:20260125T120000
DTSTAMP:20260421T122708
CREATED:20260118T061651Z
LAST-MODIFIED:20260118T061651Z
UID:10012936-1769338800-1769342400@pottedinsl.com
SUMMARY:SIM BENEFIT POT
DESCRIPTION:Potted Auction to include the Sim Benefit pot LE Spriggle Snail Succulent Pot – Sammy at Claudia & Co \nhttp://maps.secondlife.com/secondlife/Eternal%20Flames/201/91/25 \n 
URL:https://pottedinsl.com/event/sim-benefit-pot-721/
LOCATION:http://maps.secondlife.com/secondlife/Eternal%20Flames/201/91/25
END:VEVENT
BEGIN:VEVENT
DTSTART;TZID=America/Los_Angeles:20260125T110000
DTEND;TZID=America/Los_Angeles:20260125T120000
DTSTAMP:20260421T122708
CREATED:20260103T081835Z
LAST-MODIFIED:20260103T081835Z
UID:10012877-1769338800-1769342400@pottedinsl.com
SUMMARY:Claudia & Co
DESCRIPTION:Potted Auction \nhttp://maps.secondlife.com/secondlife/Eternal%20Flames/201/91/25
URL:https://pottedinsl.com/event/claudia-co-24/2026-01-25/
LOCATION:http://maps.secondlife.com/secondlife/Eternal%20Flames/201/91/25
END:VEVENT
BEGIN:VEVENT
DTSTART;TZID=America/Los_Angeles:20260124T170000
DTEND;TZID=America/Los_Angeles:20260124T180000
DTSTAMP:20260421T122708
CREATED:20251231T095154Z
LAST-MODIFIED:20251231T095154Z
UID:10012763-1769274000-1769277600@pottedinsl.com
SUMMARY:Delirium
DESCRIPTION:Potted Auction \nhttp://maps.secondlife.com/secondlife/Delirium%20Breedables/231/131/21
URL:https://pottedinsl.com/event/delirium-15/2026-01-24/
LOCATION:http://maps.secondlife.com/secondlife/Delirium%20Breedables/231/131/21
END:VEVENT
BEGIN:VEVENT
DTSTART;TZID=America/Los_Angeles:20260124T160000
DTEND;TZID=America/Los_Angeles:20260124T170000
DTSTAMP:20260421T122708
CREATED:20260102T144329Z
LAST-MODIFIED:20260104T020659Z
UID:10012879-1769270400-1769274000@pottedinsl.com
SUMMARY:Celtic Mystics
DESCRIPTION:Potted Auction \nhttp://maps.secondlife.com/secondlife/Celtic/190/73/22
URL:https://pottedinsl.com/event/celtic-mystics-44/2026-01-24/
LOCATION:http://maps.secondlife.com/secondlife/Celtic/190/73/22
END:VEVENT
BEGIN:VEVENT
DTSTART;TZID=America/Los_Angeles:20260124T130000
DTEND;TZID=America/Los_Angeles:20260124T140000
DTSTAMP:20260421T122708
CREATED:20260112T140149Z
LAST-MODIFIED:20260112T140149Z
UID:10012912-1769259600-1769263200@pottedinsl.com
SUMMARY:SIM BENEFIT POT
DESCRIPTION:Potted Auction to include the Sim Benefit pot LE Spriggle Snail Succulent Pot – Sammy at PWP \nhttp://maps.secondlife.com/secondlife/Stalkers%20Allowed/128/179/21
URL:https://pottedinsl.com/event/sim-benefit-pot-697/
LOCATION:http://maps.secondlife.com/secondlife/Stalkers%20Allowed/128/179/21
END:VEVENT
BEGIN:VEVENT
DTSTART;TZID=America/Los_Angeles:20260124T130000
DTEND;TZID=America/Los_Angeles:20260124T140000
DTSTAMP:20260421T122708
CREATED:20260112T131350Z
LAST-MODIFIED:20260112T131350Z
UID:10012895-1769259600-1769263200@pottedinsl.com
SUMMARY:PWP
DESCRIPTION:Potted Auction \nhttp://maps.secondlife.com/secondlife/Stalkers%20Allowed/128/179/21
URL:https://pottedinsl.com/event/pwp-2/2026-01-24/
LOCATION:http://maps.secondlife.com/secondlife/Stalkers%20Allowed/128/179/21
END:VEVENT
BEGIN:VEVENT
DTSTART;TZID=America/Los_Angeles:20260124T120000
DTEND;TZID=America/Los_Angeles:20260124T130000
DTSTAMP:20260421T122708
CREATED:20260115T055624Z
LAST-MODIFIED:20260115T055624Z
UID:10012932-1769256000-1769259600@pottedinsl.com
SUMMARY:SIM BENEFIT POT
DESCRIPTION:Potted Auction to include the Sim Benefit pot Sammy at Nest Egg \nhttp://maps.secondlife.com/secondlife/The%20Mystical%20Isle/209/211/22
URL:https://pottedinsl.com/event/sim-benefit-pot-717/
LOCATION:http://maps.secondlife.com/secondlife/The%20Mystical%20Isle/209/211/22
END:VEVENT
BEGIN:VEVENT
DTSTART;TZID=America/Los_Angeles:20260124T120000
DTEND;TZID=America/Los_Angeles:20260124T130000
DTSTAMP:20260421T122708
CREATED:20260103T081415Z
LAST-MODIFIED:20260103T081415Z
UID:10012873-1769256000-1769259600@pottedinsl.com
SUMMARY:Nest Egg
DESCRIPTION:Potted Auction \nhttp://maps.secondlife.com/secondlife/The%20Mystical%20Isle/209/211/22
URL:https://pottedinsl.com/event/nest-egg-74/2026-01-24/
LOCATION:http://maps.secondlife.com/secondlife/The%20Mystical%20Isle/209/211/22
END:VEVENT
BEGIN:VEVENT
DTSTART;TZID=America/Los_Angeles:20260124T110000
DTEND;TZID=America/Los_Angeles:20260124T120000
DTSTAMP:20260421T122708
CREATED:20260112T132132Z
LAST-MODIFIED:20260112T132132Z
UID:10012903-1769252400-1769256000@pottedinsl.com
SUMMARY:SIM BENEFIT POT
DESCRIPTION:Potted Auction to include the Sim Benefit pot LE Spriggle Snail Succulent Pot – Sammy at Sweetflowers \nhttp://maps.secondlife.com/secondlife/Woodland%20Hills/216/194/26
URL:https://pottedinsl.com/event/sim-benefit-pot-690/
LOCATION:http://maps.secondlife.com/secondlife/Woodland%20Hills/216/194/26
END:VEVENT
BEGIN:VEVENT
DTSTART;TZID=America/Los_Angeles:20260124T110000
DTEND;TZID=America/Los_Angeles:20260124T120000
DTSTAMP:20260421T122708
CREATED:20260102T142319Z
LAST-MODIFIED:20260102T142319Z
UID:10012840-1769252400-1769256000@pottedinsl.com
SUMMARY:Sweetflowers
DESCRIPTION:Potted Auction \nhttp://maps.secondlife.com/secondlife/Woodland%20Hills/208/196/26
URL:https://pottedinsl.com/event/sweetflowers-62/2026-01-24/
LOCATION:http://maps.secondlife.com/secondlife/Woodland%20Hills/208/196/26
END:VEVENT
BEGIN:VEVENT
DTSTART;TZID=America/Los_Angeles:20260123T163000
DTEND;TZID=America/Los_Angeles:20260123T173000
DTSTAMP:20260421T122708
CREATED:20260105T090617Z
LAST-MODIFIED:20260105T090617Z
UID:10012891-1769185800-1769189400@pottedinsl.com
SUMMARY:Jazzy Pots
DESCRIPTION:Potted Auction \nhttp://maps.secondlife.com/secondlife/Elston/102/229/3500
URL:https://pottedinsl.com/event/jazzy-pots-21/2026-01-23/
LOCATION:http://maps.secondlife.com/secondlife/Elston/102/229/3500
END:VEVENT
BEGIN:VEVENT
DTSTART;TZID=America/Los_Angeles:20260123T150000
DTEND;TZID=America/Los_Angeles:20260123T160000
DTSTAMP:20260421T122708
CREATED:20260113T142710Z
LAST-MODIFIED:20260113T142710Z
UID:10012924-1769180400-1769184000@pottedinsl.com
SUMMARY:SIM BENEFIT POT
DESCRIPTION:Potted Auction to include the Sim Benefit pot LE Spriggle Snail Succulent Pot – Sammy  at Barbasz \nhttp://maps.secondlife.com/secondlife/MOJO/50/128/22
URL:https://pottedinsl.com/event/sim-benefit-pot-709/
LOCATION:http://maps.secondlife.com/secondlife/MOJO/50/128/22
END:VEVENT
BEGIN:VEVENT
DTSTART;TZID=America/Los_Angeles:20260123T150000
DTEND;TZID=America/Los_Angeles:20260123T160000
DTSTAMP:20260421T122708
CREATED:20260102T135519Z
LAST-MODIFIED:20260102T135519Z
UID:10012804-1769180400-1769184000@pottedinsl.com
SUMMARY:Barbasz Got Potted
DESCRIPTION:Potted Auction \nhttp://maps.secondlife.com/secondlife/MOJO/50/128/22
URL:https://pottedinsl.com/event/barbasz-got-potted-86/2026-01-23/
LOCATION:http://maps.secondlife.com/secondlife/MOJO/50/128/22
END:VEVENT
BEGIN:VEVENT
DTSTART;TZID=America/Los_Angeles:20260123T140000
DTEND;TZID=America/Los_Angeles:20260123T150000
DTSTAMP:20260421T122708
CREATED:20260103T080955Z
LAST-MODIFIED:20260103T080955Z
UID:10012861-1769176800-1769180400@pottedinsl.com
SUMMARY:Potted Jungle
DESCRIPTION:Potted Auction \nhttp://maps.secondlife.com/secondlife/Infinity%20Acres/104/190/24
URL:https://pottedinsl.com/event/potted-jungle/2026-01-23/
LOCATION:http://maps.secondlife.com/secondlife/Infinity%20Acres/104/190/24
END:VEVENT
END:VCALENDAR