BEGIN:VCALENDAR
VERSION:2.0
PRODID:-//Potted - ECPv6.15.20//NONSGML v1.0//EN
CALSCALE:GREGORIAN
METHOD:PUBLISH
X-WR-CALNAME:Potted
X-ORIGINAL-URL:https://pottedinsl.com
X-WR-CALDESC:Events for Potted
REFRESH-INTERVAL;VALUE=DURATION:PT1H
X-Robots-Tag:noindex
X-PUBLISHED-TTL:PT1H
BEGIN:VTIMEZONE
TZID:America/Los_Angeles
BEGIN:DAYLIGHT
TZOFFSETFROM:-0800
TZOFFSETTO:-0700
TZNAME:PDT
DTSTART:20240310T100000
END:DAYLIGHT
BEGIN:STANDARD
TZOFFSETFROM:-0700
TZOFFSETTO:-0800
TZNAME:PST
DTSTART:20241103T090000
END:STANDARD
BEGIN:DAYLIGHT
TZOFFSETFROM:-0800
TZOFFSETTO:-0700
TZNAME:PDT
DTSTART:20250309T100000
END:DAYLIGHT
BEGIN:STANDARD
TZOFFSETFROM:-0700
TZOFFSETTO:-0800
TZNAME:PST
DTSTART:20251102T090000
END:STANDARD
BEGIN:DAYLIGHT
TZOFFSETFROM:-0800
TZOFFSETTO:-0700
TZNAME:PDT
DTSTART:20260308T100000
END:DAYLIGHT
BEGIN:STANDARD
TZOFFSETFROM:-0700
TZOFFSETTO:-0800
TZNAME:PST
DTSTART:20261101T090000
END:STANDARD
END:VTIMEZONE
BEGIN:VEVENT
DTSTART;TZID=America/Los_Angeles:20251228T120000
DTEND;TZID=America/Los_Angeles:20251228T130000
DTSTAMP:20260420T230837
CREATED:20251126T131323Z
LAST-MODIFIED:20251126T131323Z
UID:10012543-1766923200-1766926800@pottedinsl.com
SUMMARY:Garden of Eden
DESCRIPTION:Potted Auction \nhttp://maps.secondlife.com/secondlife/Wines/141/127/19
URL:https://pottedinsl.com/event/garden-of-eden-370/
LOCATION:http://maps.secondlife.com/secondlife/Wines/141/127/19
END:VEVENT
BEGIN:VEVENT
DTSTART;TZID=America/Los_Angeles:20251228T110000
DTEND;TZID=America/Los_Angeles:20251228T120000
DTSTAMP:20260420T230837
CREATED:20251214T145552Z
LAST-MODIFIED:20251214T145552Z
UID:10012730-1766919600-1766923200@pottedinsl.com
SUMMARY:SIM BENEFIT POT
DESCRIPTION:Potted Auction to include the Sim Benefit pot Potted ~ LE Santa Claus Philodendron Pot at Claudia & Co \nhttp://maps.secondlife.com/secondlife/Eternal%20Flames/201/91/25
URL:https://pottedinsl.com/event/sim-benefit-pot-678/
LOCATION:http://maps.secondlife.com/secondlife/Eternal%20Flames/201/91/25
END:VEVENT
BEGIN:VEVENT
DTSTART;TZID=America/Los_Angeles:20251228T110000
DTEND;TZID=America/Los_Angeles:20251228T120000
DTSTAMP:20260420T230837
CREATED:20251206T084501Z
LAST-MODIFIED:20251206T084501Z
UID:10012696-1766919600-1766923200@pottedinsl.com
SUMMARY:Claudia & Co
DESCRIPTION:Potted Auction \nhttp://maps.secondlife.com/secondlife/Eternal%20Flames/201/91/25
URL:https://pottedinsl.com/event/claudia-co-23/2025-12-28/
LOCATION:http://maps.secondlife.com/secondlife/Eternal%20Flames/201/91/25
END:VEVENT
BEGIN:VEVENT
DTSTART;TZID=America/Los_Angeles:20251228T090000
DTEND;TZID=America/Los_Angeles:20251230T090000
DTSTAMP:20260420T230837
CREATED:20251214T144211Z
LAST-MODIFIED:20251214T144211Z
UID:10012723-1766912400-1767085200@pottedinsl.com
SUMMARY:SIM BENEFIT POT
DESCRIPTION:Bid board offering the Sim Benefit pot  LE Santa Claus Philodendron Pot at Braxton Flowers \nhttp://maps.secondlife.com/secondlife/Firanelli%20Estates/60/66/77
URL:https://pottedinsl.com/event/sim-benefit-pot-674/
LOCATION:http://maps.secondlife.com/secondlife/Firanelli%20Estates/60/66/77
END:VEVENT
BEGIN:VEVENT
DTSTART;TZID=America/Los_Angeles:20251227T170000
DTEND;TZID=America/Los_Angeles:20251227T180000
DTSTAMP:20260420T230837
CREATED:20251201T090521Z
LAST-MODIFIED:20251201T090521Z
UID:10012625-1766854800-1766858400@pottedinsl.com
SUMMARY:Delirium
DESCRIPTION:Potted Auction \nhttp://maps.secondlife.com/secondlife/Delirium%20Breedables/221/151/21
URL:https://pottedinsl.com/event/delirium-14/2025-12-27/
LOCATION:http://maps.secondlife.com/secondlife/Delirium%20Breedables/221/151/21
END:VEVENT
BEGIN:VEVENT
DTSTART;TZID=America/Los_Angeles:20251227T160000
DTEND;TZID=America/Los_Angeles:20251227T170000
DTSTAMP:20260420T230837
CREATED:20251201T090141Z
LAST-MODIFIED:20251201T090141Z
UID:10012621-1766851200-1766854800@pottedinsl.com
SUMMARY:Celtic Mystics
DESCRIPTION:Potted Auction \nhttp://maps.secondlife.com/secondlife/Celtic/190/73/22
URL:https://pottedinsl.com/event/celtic-mystics-42/2025-12-27/
LOCATION:http://maps.secondlife.com/secondlife/Celtic/190/73/22
END:VEVENT
BEGIN:VEVENT
DTSTART;TZID=America/Los_Angeles:20251227T130000
DTEND;TZID=America/Los_Angeles:20251227T140000
DTSTAMP:20260420T230837
CREATED:20251208T074147Z
LAST-MODIFIED:20251208T074147Z
UID:10012698-1766840400-1766844000@pottedinsl.com
SUMMARY:SIM BENEFIT POT
DESCRIPTION:Potted Auction to include the Sim Benefit pot Potted ~ LE Mrs. Claus Philodendron at PWP \nhttp://maps.secondlife.com/secondlife/Stalkers%20Allowed/128/194/19
URL:https://pottedinsl.com/event/sim-benefit-pot-652/
LOCATION:http://maps.secondlife.com/secondlife/Stalkers%20Allowed/128/194/19
END:VEVENT
BEGIN:VEVENT
DTSTART;TZID=America/Los_Angeles:20251227T130000
DTEND;TZID=America/Los_Angeles:20251227T140000
DTSTAMP:20260420T230837
CREATED:20251206T084302Z
LAST-MODIFIED:20251206T084302Z
UID:10012692-1766840400-1766844000@pottedinsl.com
SUMMARY:PWP
DESCRIPTION:Potted Auction \nhttp://maps.secondlife.com/secondlife/Stalkers%20Allowed/128/194/19
URL:https://pottedinsl.com/event/pwp/2025-12-27/
LOCATION:http://maps.secondlife.com/secondlife/Stalkers%20Allowed/128/194/19
END:VEVENT
BEGIN:VEVENT
DTSTART;TZID=America/Los_Angeles:20251227T120000
DTEND;TZID=America/Los_Angeles:20251229T120000
DTSTAMP:20260420T230837
CREATED:20251208T083511Z
LAST-MODIFIED:20251208T083511Z
UID:10012706-1766836800-1767009600@pottedinsl.com
SUMMARY:SIM BENEFIT POT
DESCRIPTION:Bid board offering the Sim Benefit pot LE Mrs Claus at Barbasz \nhttp://maps.secondlife.com/secondlife/MOJO/50/128/22
URL:https://pottedinsl.com/event/sim-benefit-pot-660/
LOCATION:http://maps.secondlife.com/secondlife/MOJO/50/128/22
END:VEVENT
BEGIN:VEVENT
DTSTART;TZID=America/Los_Angeles:20251227T113000
DTEND;TZID=America/Los_Angeles:20251227T130000
DTSTAMP:20260420T230837
CREATED:20251202T152256Z
LAST-MODIFIED:20251202T152256Z
UID:10012654-1766835000-1766840400@pottedinsl.com
SUMMARY:Nest Egg
DESCRIPTION:Potted Auction \nhttp://maps.secondlife.com/secondlife/The%20Mystical%20Isle/209/211/22
URL:https://pottedinsl.com/event/nest-egg-70/2025-12-27/
LOCATION:http://maps.secondlife.com/secondlife/The%20Mystical%20Isle/209/211/22
END:VEVENT
BEGIN:VEVENT
DTSTART;TZID=America/Los_Angeles:20251227T110000
DTEND;TZID=America/Los_Angeles:20251227T120000
DTSTAMP:20260420T230837
CREATED:20251206T084012Z
LAST-MODIFIED:20251206T084012Z
UID:10012689-1766833200-1766836800@pottedinsl.com
SUMMARY:Sweetflowers
DESCRIPTION:Potted Auction \nhttp://maps.secondlife.com/secondlife/Woodland%20Hills/208/196/26
URL:https://pottedinsl.com/event/sweetflowers-59/2025-12-27/
LOCATION:http://maps.secondlife.com/secondlife/Woodland%20Hills/208/196/26
END:VEVENT
BEGIN:VEVENT
DTSTART;TZID=America/Los_Angeles:20251227T060000
DTEND;TZID=America/Los_Angeles:20251231T200000
DTSTAMP:20260420T230837
CREATED:20251216T110517Z
LAST-MODIFIED:20251216T110517Z
UID:10012733-1766815200-1767211200@pottedinsl.com
SUMMARY:SIM BENEFIT POT
DESCRIPTION:Bid board offering the Sim Benefit pot LE Mrs. Claus Philodendron Pot at Delirium \nhttp://maps.secondlife.com/secondlife/Delirium%20Breedables/234/132/21
URL:https://pottedinsl.com/event/sim-benefit-pot-681/
LOCATION:http://maps.secondlife.com/secondlife/Delirium%20Breedables/234/132/21
END:VEVENT
BEGIN:VEVENT
DTSTART;TZID=America/Los_Angeles:20251226T163000
DTEND;TZID=America/Los_Angeles:20251226T173000
DTSTAMP:20260420T230837
CREATED:20251203T102503Z
LAST-MODIFIED:20251203T102503Z
UID:10012670-1766766600-1766770200@pottedinsl.com
SUMMARY:Jazzy Pots
DESCRIPTION:Potted Auction \nhttp://maps.secondlife.com/secondlife/Elston/102/229/3500
URL:https://pottedinsl.com/event/jazzy-pots-18/2025-12-26/
LOCATION:http://maps.secondlife.com/secondlife/Elston/102/229/3500
END:VEVENT
BEGIN:VEVENT
DTSTART;TZID=America/Los_Angeles:20251226T150000
DTEND;TZID=America/Los_Angeles:20251226T160000
DTSTAMP:20260420T230837
CREATED:20251202T150646Z
LAST-MODIFIED:20251202T150646Z
UID:10012634-1766761200-1766764800@pottedinsl.com
SUMMARY:Barbasz Got Potted
DESCRIPTION:Potted Auction \nhttp://maps.secondlife.com/secondlife/MOJO/50/128/22
URL:https://pottedinsl.com/event/barbasz-got-potted-83/2025-12-26/
LOCATION:http://maps.secondlife.com/secondlife/MOJO/50/128/22
END:VEVENT
BEGIN:VEVENT
DTSTART;TZID=America/Los_Angeles:20251226T130000
DTEND;TZID=America/Los_Angeles:20251226T140000
DTSTAMP:20260420T230837
CREATED:20251201T085527Z
LAST-MODIFIED:20251201T085527Z
UID:10012612-1766754000-1766757600@pottedinsl.com
SUMMARY:Rainbow Potted
DESCRIPTION:Potted Auction \nhttp://maps.secondlife.com/secondlife/Covdova/193/18/22
URL:https://pottedinsl.com/event/rainbow-potted-45/2025-12-26/
LOCATION:http://maps.secondlife.com/secondlife/Covdova/193/18/22
END:VEVENT
BEGIN:VEVENT
DTSTART;TZID=America/Los_Angeles:20251226T120000
DTEND;TZID=America/Los_Angeles:20251228T120000
DTSTAMP:20260420T230837
CREATED:20251213T094048Z
LAST-MODIFIED:20251213T094048Z
UID:10012720-1766750400-1766923200@pottedinsl.com
SUMMARY:SIM BENEFIT POT
DESCRIPTION:Bid board offering the Sim benefit pot LE Mrs. Claus at Amore d’Potted \nhttp://maps.secondlife.com/secondlife/Passions/208/147/21
URL:https://pottedinsl.com/event/sim-benefit-pot-672/
LOCATION:http://maps.secondlife.com/secondlife/Passions/208/147/21
END:VEVENT
BEGIN:VEVENT
DTSTART;TZID=America/Los_Angeles:20251226T120000
DTEND;TZID=America/Los_Angeles:20251226T130000
DTSTAMP:20260420T230837
CREATED:20251127T102456Z
LAST-MODIFIED:20251127T102456Z
UID:10012557-1766750400-1766754000@pottedinsl.com
SUMMARY:Bakery Woods
DESCRIPTION:Potted Auction \nhttp://maps.secondlife.com/secondlife/Purple%20Rose/38/32/11
URL:https://pottedinsl.com/event/bakery-woods-58/2025-12-26/
LOCATION:http://maps.secondlife.com/secondlife/Purple%20Rose/38/32/11
END:VEVENT
BEGIN:VEVENT
DTSTART;TZID=America/Los_Angeles:20251225T200000
DTEND;TZID=America/Los_Angeles:20251225T210000
DTSTAMP:20260420T230837
CREATED:20251201T084138Z
LAST-MODIFIED:20251201T084138Z
UID:10012599-1766692800-1766696400@pottedinsl.com
SUMMARY:Soil & Soul
DESCRIPTION:Potted Auction \nhttp://maps.secondlife.com/secondlife/Silex/100/126/33 \n 
URL:https://pottedinsl.com/event/soil-soul-12/2025-12-25/
LOCATION:http://maps.secondlife.com/secondlife/Silex/100/126/33
END:VEVENT
BEGIN:VEVENT
DTSTART;TZID=America/Los_Angeles:20251225T180000
DTEND;TZID=America/Los_Angeles:20251225T190000
DTSTAMP:20260420T230837
CREATED:20251127T103353Z
LAST-MODIFIED:20251127T103353Z
UID:10012568-1766685600-1766689200@pottedinsl.com
SUMMARY:Riacats
DESCRIPTION:Potted Auction \nhttp://maps.secondlife.com/secondlife/Solarian%20Prime/63/159/25
URL:https://pottedinsl.com/event/riacats-58/
LOCATION:http://maps.secondlife.com/secondlife/Solarian%20Prime/63/159/25
END:VEVENT
BEGIN:VEVENT
DTSTART;TZID=America/Los_Angeles:20251224T153000
DTEND;TZID=America/Los_Angeles:20251224T163000
DTSTAMP:20260420T230837
CREATED:20251202T150517Z
LAST-MODIFIED:20251202T150517Z
UID:10012629-1766590200-1766593800@pottedinsl.com
SUMMARY:Barbasz Got Potted
DESCRIPTION:Potted Auction \nhttp://maps.secondlife.com/secondlife/MOJO/50/128/22
URL:https://pottedinsl.com/event/barbasz-got-potted-82/2025-12-24/
LOCATION:http://maps.secondlife.com/secondlife/MOJO/50/128/22
END:VEVENT
BEGIN:VEVENT
DTSTART;TZID=America/Los_Angeles:20251224T130000
DTEND;TZID=America/Los_Angeles:20251224T140000
DTSTAMP:20260420T230837
CREATED:20251206T083859Z
LAST-MODIFIED:20251206T083859Z
UID:10012684-1766581200-1766584800@pottedinsl.com
SUMMARY:Sweetflowers
DESCRIPTION:Potted Auction \nhttp://maps.secondlife.com/secondlife/Woodland%20Hills/208/196/26
URL:https://pottedinsl.com/event/sweetflowers-58/2025-12-24/
LOCATION:http://maps.secondlife.com/secondlife/Woodland%20Hills/208/196/26
END:VEVENT
BEGIN:VEVENT
DTSTART;TZID=America/Los_Angeles:20251224T120000
DTEND;TZID=America/Los_Angeles:20251227T120000
DTSTAMP:20260420T230837
CREATED:20251217T112841Z
LAST-MODIFIED:20251217T112841Z
UID:10012737-1766577600-1766836800@pottedinsl.com
SUMMARY:SIM BENEFIT POT
DESCRIPTION:Bid Board offering the Sim Benefit pot Santa at Nest Egg \nhttp://maps.secondlife.com/secondlife/The%20Mystical%20Isle/209/211/22
URL:https://pottedinsl.com/event/sim-benefit-pot-685/
LOCATION:http://maps.secondlife.com/secondlife/The%20Mystical%20Isle/209/211/22
END:VEVENT
BEGIN:VEVENT
DTSTART;TZID=America/Los_Angeles:20251223T200000
DTEND;TZID=America/Los_Angeles:20251223T210000
DTSTAMP:20260420T230837
CREATED:20251201T083942Z
LAST-MODIFIED:20251201T083942Z
UID:10012594-1766520000-1766523600@pottedinsl.com
SUMMARY:Soil & Soul
DESCRIPTION:Potted Auction \nhttp://maps.secondlife.com/secondlife/Silex/100/126/33
URL:https://pottedinsl.com/event/soil-soul-11/2025-12-23/
LOCATION:http://maps.secondlife.com/secondlife/Silex/100/126/33
END:VEVENT
BEGIN:VEVENT
DTSTART;TZID=America/Los_Angeles:20251223T180000
DTEND;TZID=America/Los_Angeles:20251223T190000
DTSTAMP:20260420T230837
CREATED:20251127T103207Z
LAST-MODIFIED:20251127T103207Z
UID:10012565-1766512800-1766516400@pottedinsl.com
SUMMARY:Riacats
DESCRIPTION:Potted Auction \nhttp://maps.secondlife.com/secondlife/Solarian%20Prime/63/159/25
URL:https://pottedinsl.com/event/riacats-56/2025-12-23/
LOCATION:http://maps.secondlife.com/secondlife/Solarian%20Prime/63/159/25
END:VEVENT
BEGIN:VEVENT
DTSTART;TZID=America/Los_Angeles:20251223T160000
DTEND;TZID=America/Los_Angeles:20251223T170000
DTSTAMP:20260420T230837
CREATED:20251208T083026Z
LAST-MODIFIED:20251208T083026Z
UID:10012704-1766505600-1766509200@pottedinsl.com
SUMMARY:SIM BENEFIT POT
DESCRIPTION:Potted Auction to include the Sim Benefit pot Potted ~ LE Mrs. Claus Philodendron Pot at the Secret Garden \nhttp://maps.secondlife.com/secondlife/Sweet%20Desire/211/198/44 \n 
URL:https://pottedinsl.com/event/sim-benefit-pot-658/
LOCATION:http://maps.secondlife.com/secondlife/Sweet%20Desire/211/198/44
END:VEVENT
BEGIN:VEVENT
DTSTART;TZID=America/Los_Angeles:20251223T160000
DTEND;TZID=America/Los_Angeles:20251223T170000
DTSTAMP:20260420T230837
CREATED:20251129T095236Z
LAST-MODIFIED:20251129T095236Z
UID:10012579-1766505600-1766509200@pottedinsl.com
SUMMARY:The Secret Garden
DESCRIPTION:Potted Auction \nhttp://maps.secondlife.com/secondlife/Sweet%20Desire/211/198/44
URL:https://pottedinsl.com/event/the-secret-garden-73/2025-12-23/
LOCATION:http://maps.secondlife.com/secondlife/Sweet%20Desire/211/198/44
END:VEVENT
BEGIN:VEVENT
DTSTART;TZID=America/Los_Angeles:20251223T150000
DTEND;TZID=America/Los_Angeles:20251223T160000
DTSTAMP:20260420T230837
CREATED:20251203T102406Z
LAST-MODIFIED:20251203T102406Z
UID:10012665-1766502000-1766505600@pottedinsl.com
SUMMARY:Jazzy Pots
DESCRIPTION:Potted Auction \nhttp://maps.secondlife.com/secondlife/Elston/102/229/3500
URL:https://pottedinsl.com/event/jazzy-pots-17/2025-12-23/
LOCATION:http://maps.secondlife.com/secondlife/Elston/102/229/3500
END:VEVENT
BEGIN:VEVENT
DTSTART;TZID=America/Los_Angeles:20251223T140000
DTEND;TZID=America/Los_Angeles:20251223T150000
DTSTAMP:20260420T230837
CREATED:20251129T100104Z
LAST-MODIFIED:20251129T100104Z
UID:10012583-1766498400-1766502000@pottedinsl.com
SUMMARY:Charmed
DESCRIPTION:Potted Auction \nhttp://maps.secondlife.com/secondlife/Noctura/133/161/30
URL:https://pottedinsl.com/event/charmed-4/2025-12-23/
LOCATION:http://maps.secondlife.com/secondlife/Noctura/133/161/30
END:VEVENT
BEGIN:VEVENT
DTSTART;TZID=America/Los_Angeles:20251223T130000
DTEND;TZID=America/Los_Angeles:20251223T140000
DTSTAMP:20260420T230837
CREATED:20251214T144404Z
LAST-MODIFIED:20251214T144404Z
UID:10012725-1766494800-1766498400@pottedinsl.com
SUMMARY:Braxton Flowers
DESCRIPTION:Potted Auction \nhttp://maps.secondlife.com/secondlife/Firanelli%20Estates/89/56/76
URL:https://pottedinsl.com/event/braxton-flowers-6/2025-12-23/
LOCATION:http://maps.secondlife.com/secondlife/Firanelli%20Estates/89/56/76
END:VEVENT
BEGIN:VEVENT
DTSTART;TZID=America/Los_Angeles:20251223T130000
DTEND;TZID=America/Los_Angeles:20251223T140000
DTSTAMP:20260420T230837
CREATED:20251127T172258Z
LAST-MODIFIED:20251127T172258Z
UID:10012574-1766494800-1766498400@pottedinsl.com
SUMMARY:Braxton Flowers
DESCRIPTION:Potted Auction \nhttp://maps.secondlife.com/secondlife/Firanelli%20Estates/89/56/76
URL:https://pottedinsl.com/event/braxton-flowers-5/2025-12-23/
LOCATION:http://maps.secondlife.com/secondlife/Firanelli%20Estates/89/56/76
END:VEVENT
END:VCALENDAR