BEGIN:VCALENDAR
VERSION:2.0
PRODID:-//Potted - ECPv6.15.20//NONSGML v1.0//EN
CALSCALE:GREGORIAN
METHOD:PUBLISH
X-WR-CALNAME:Potted
X-ORIGINAL-URL:https://pottedinsl.com
X-WR-CALDESC:Events for Potted
REFRESH-INTERVAL;VALUE=DURATION:PT1H
X-Robots-Tag:noindex
X-PUBLISHED-TTL:PT1H
BEGIN:VTIMEZONE
TZID:America/Los_Angeles
BEGIN:DAYLIGHT
TZOFFSETFROM:-0800
TZOFFSETTO:-0700
TZNAME:PDT
DTSTART:20240310T100000
END:DAYLIGHT
BEGIN:STANDARD
TZOFFSETFROM:-0700
TZOFFSETTO:-0800
TZNAME:PST
DTSTART:20241103T090000
END:STANDARD
BEGIN:DAYLIGHT
TZOFFSETFROM:-0800
TZOFFSETTO:-0700
TZNAME:PDT
DTSTART:20250309T100000
END:DAYLIGHT
BEGIN:STANDARD
TZOFFSETFROM:-0700
TZOFFSETTO:-0800
TZNAME:PST
DTSTART:20251102T090000
END:STANDARD
BEGIN:DAYLIGHT
TZOFFSETFROM:-0800
TZOFFSETTO:-0700
TZNAME:PDT
DTSTART:20260308T100000
END:DAYLIGHT
BEGIN:STANDARD
TZOFFSETFROM:-0700
TZOFFSETTO:-0800
TZNAME:PST
DTSTART:20261101T090000
END:STANDARD
END:VTIMEZONE
BEGIN:VEVENT
DTSTART;TZID=America/Los_Angeles:20251123T120000
DTEND;TZID=America/Los_Angeles:20251123T130000
DTSTAMP:20260424T082642
CREATED:20251023T144151Z
LAST-MODIFIED:20251023T144151Z
UID:10012325-1763899200-1763902800@pottedinsl.com
SUMMARY:Garden of Eden
DESCRIPTION:Potted Auction \nhttp://maps.secondlife.com/secondlife/Wines/141/127/19
URL:https://pottedinsl.com/event/garden-of-eden-356/
LOCATION:http://maps.secondlife.com/secondlife/Wines/141/127/19
END:VEVENT
BEGIN:VEVENT
DTSTART;TZID=America/Los_Angeles:20251123T110000
DTEND;TZID=America/Los_Angeles:20251123T120000
DTSTAMP:20260424T082642
CREATED:20251114T145343Z
LAST-MODIFIED:20251114T145343Z
UID:10012522-1763895600-1763899200@pottedinsl.com
SUMMARY:SIM BENEFIT POT
DESCRIPTION:Potted Auction to include the Sim Benefit pot LE Sir Borksalot Philodendron Pot – Spice at Claudia & Co \nhttp://maps.secondlife.com/secondlife/Eternal%20Flames/201/91/25
URL:https://pottedinsl.com/event/sim-benefit-pot-641/
LOCATION:http://maps.secondlife.com/secondlife/Eternal%20Flames/201/91/25
END:VEVENT
BEGIN:VEVENT
DTSTART;TZID=America/Los_Angeles:20251123T110000
DTEND;TZID=America/Los_Angeles:20251123T120000
DTSTAMP:20260424T082642
CREATED:20251101T093049Z
LAST-MODIFIED:20251101T093049Z
UID:10012437-1763895600-1763899200@pottedinsl.com
SUMMARY:Claudia & Co
DESCRIPTION:Potted Auction \nhttp://maps.secondlife.com/secondlife/Eternal%20Flames/201/91/25
URL:https://pottedinsl.com/event/claudia-co-22/2025-11-23/
LOCATION:http://maps.secondlife.com/secondlife/Eternal%20Flames/201/91/25
END:VEVENT
BEGIN:VEVENT
DTSTART;TZID=America/Los_Angeles:20251122T170000
DTEND;TZID=America/Los_Angeles:20251122T180000
DTSTAMP:20260424T082642
CREATED:20251101T092231Z
LAST-MODIFIED:20251101T092231Z
UID:10012413-1763830800-1763834400@pottedinsl.com
SUMMARY:Delirium
DESCRIPTION:Potted Auction \nhttp://maps.secondlife.com/secondlife/Delirium%20Breedables/224/149/21
URL:https://pottedinsl.com/event/delirium-13/2025-11-22/
LOCATION:http://maps.secondlife.com/secondlife/Delirium%20Breedables/224/149/21
END:VEVENT
BEGIN:VEVENT
DTSTART;TZID=America/Los_Angeles:20251122T160000
DTEND;TZID=America/Los_Angeles:20251122T170000
DTSTAMP:20260424T082642
CREATED:20251111T105750Z
LAST-MODIFIED:20251111T105750Z
UID:10012506-1763827200-1763830800@pottedinsl.com
SUMMARY:SIM BENEFIT POT
DESCRIPTION:Potted Auction to include the Sim Benefit pot LE Sir Borksalot Philodendron Pot – Spice at Celtic Mystics \nhttp://maps.secondlife.com/secondlife/Celtic/192/74/22
URL:https://pottedinsl.com/event/sim-benefit-pot-631/
LOCATION:http://maps.secondlife.com/secondlife/Celtic/192/74/22\, http://maps.secondlife.com/secondlife/Celtic/192/74/22
END:VEVENT
BEGIN:VEVENT
DTSTART;TZID=America/Los_Angeles:20251122T160000
DTEND;TZID=America/Los_Angeles:20251122T170000
DTSTAMP:20260424T082642
CREATED:20251029T095357Z
LAST-MODIFIED:20251029T095357Z
UID:10012363-1763827200-1763830800@pottedinsl.com
SUMMARY:Celtic Mystics
DESCRIPTION:Potted Auction \nhttp://maps.secondlife.com/secondlife/Celtic/191/73/22
URL:https://pottedinsl.com/event/celtic-mystics-40/2025-11-22/
LOCATION:http://maps.secondlife.com/secondlife/Celtic/191/73/22
END:VEVENT
BEGIN:VEVENT
DTSTART;TZID=America/Los_Angeles:20251122T130000
DTEND;TZID=America/Los_Angeles:20251122T140000
DTSTAMP:20260424T082642
CREATED:20251113T154439Z
LAST-MODIFIED:20251113T154439Z
UID:10012510-1763816400-1763820000@pottedinsl.com
SUMMARY:SIM BENEFIT POT
DESCRIPTION:Potted Auction to include the Sim Benefit pot LE Sir Borksalot Philodendron Pot – Spice at PWP \nhttp://maps.secondlife.com/secondlife/Stalkers%20Allowed/128/182/21
URL:https://pottedinsl.com/event/sim-benefit-pot-635/
LOCATION:http://maps.secondlife.com/secondlife/Stalkers%20Allowed/128/182/21
END:VEVENT
BEGIN:VEVENT
DTSTART;TZID=America/Los_Angeles:20251122T130000
DTEND;TZID=America/Los_Angeles:20251122T140000
DTSTAMP:20260424T082642
CREATED:20251110T111212Z
LAST-MODIFIED:20251110T111212Z
UID:10012491-1763816400-1763820000@pottedinsl.com
SUMMARY:Potted with Passion
DESCRIPTION:Potted Auction \nhttp://maps.secondlife.com/secondlife/Stalkers%20Allowed/128/182/21
URL:https://pottedinsl.com/event/potted-with-passion-22-2/2025-11-22/
LOCATION:http://maps.secondlife.com/secondlife/Stalkers%20Allowed/128/182/21
END:VEVENT
BEGIN:VEVENT
DTSTART;TZID=America/Los_Angeles:20251122T120000
DTEND;TZID=America/Los_Angeles:20251122T130000
DTSTAMP:20260424T082642
CREATED:20251122T194645Z
LAST-MODIFIED:20251122T194645Z
UID:10012463-1763812800-1763816400@pottedinsl.com
SUMMARY:Nest Egg
DESCRIPTION:Potted Auction \nhttp://maps.secondlife.com/secondlife/The%20Mystical%20Isle/209/211/22
URL:https://pottedinsl.com/event/nest-egg-67/2025-11-22/
LOCATION:http://maps.secondlife.com/secondlife/The%20Mystical%20Isle/209/211/22
END:VEVENT
BEGIN:VEVENT
DTSTART;TZID=America/Los_Angeles:20251122T110000
DTEND;TZID=America/Los_Angeles:20251122T120000
DTSTAMP:20260424T082642
CREATED:20251111T105440Z
LAST-MODIFIED:20251111T105440Z
UID:10012504-1763809200-1763812800@pottedinsl.com
SUMMARY:SIM BENEFIT POT
DESCRIPTION:Potted Auction to include the Sim Benefit pot LE Sir Borksalot Philodendron Pot – Spice at Sweetflowers \nhttp://maps.secondlife.com/secondlife/Woodland%20Hills/216/194/26 \n 
URL:https://pottedinsl.com/event/sim-benefit-pot-629/
LOCATION:http://maps.secondlife.com/secondlife/Woodland%20Hills/216/194/26
END:VEVENT
BEGIN:VEVENT
DTSTART;TZID=America/Los_Angeles:20251122T110000
DTEND;TZID=America/Los_Angeles:20251122T120000
DTSTAMP:20260424T082642
CREATED:20251029T094637Z
LAST-MODIFIED:20251029T094637Z
UID:10012342-1763809200-1763812800@pottedinsl.com
SUMMARY:Sweetflowers
DESCRIPTION:Potted Auction \nhttp://maps.secondlife.com/secondlife/Woodland%20Hills/208/196/26
URL:https://pottedinsl.com/event/sweetflowers-54/2025-11-22/
LOCATION:http://maps.secondlife.com/secondlife/Woodland%20Hills/208/196/26
END:VEVENT
BEGIN:VEVENT
DTSTART;TZID=America/Los_Angeles:20251121T163000
DTEND;TZID=America/Los_Angeles:20251121T173000
DTSTAMP:20260424T082642
CREATED:20251114T145549Z
LAST-MODIFIED:20251114T145549Z
UID:10012523-1763742600-1763746200@pottedinsl.com
SUMMARY:SIM BENEFIT POT
DESCRIPTION:Potted Auction to include the Sim Benefit pot  LE Sir Borksalot Philodendron Pot – Spice at Jazzy Pots \nhttp://maps.secondlife.com/secondlife/Elston/102/229/3500
URL:https://pottedinsl.com/event/sim-benefit-pot-642/
LOCATION:http://maps.secondlife.com/secondlife/Elston/102/229/3500
END:VEVENT
BEGIN:VEVENT
DTSTART;TZID=America/Los_Angeles:20251121T163000
DTEND;TZID=America/Los_Angeles:20251121T173000
DTSTAMP:20260424T082642
CREATED:20251101T092915Z
LAST-MODIFIED:20251101T092915Z
UID:10012432-1763742600-1763746200@pottedinsl.com
SUMMARY:Jazzy Pots
DESCRIPTION:Potted Auction \nhttp://maps.secondlife.com/secondlife/Elston/102/229/3500
URL:https://pottedinsl.com/event/jazzy-pots-15/2025-11-21/
LOCATION:http://maps.secondlife.com/secondlife/Elston/102/229/3500
END:VEVENT
BEGIN:VEVENT
DTSTART;TZID=America/Los_Angeles:20251121T150000
DTEND;TZID=America/Los_Angeles:20251121T160000
DTSTAMP:20260424T082642
CREATED:20251102T061634Z
LAST-MODIFIED:20251102T061634Z
UID:10012471-1763737200-1763740800@pottedinsl.com
SUMMARY:Barbasz Got Potted
DESCRIPTION:Potted Auction \nhttp://maps.secondlife.com/secondlife/MOJO/50/128/22
URL:https://pottedinsl.com/event/barbasz-got-potted-81/2025-11-21/
LOCATION:http://maps.secondlife.com/secondlife/MOJO/50/128/22
END:VEVENT
BEGIN:VEVENT
DTSTART;TZID=America/Los_Angeles:20251121T130000
DTEND;TZID=America/Los_Angeles:20251121T140000
DTSTAMP:20260424T082642
CREATED:20251101T092508Z
LAST-MODIFIED:20251101T092508Z
UID:10012421-1763730000-1763733600@pottedinsl.com
SUMMARY:Rainbow Potted
DESCRIPTION:Potted Auction \nhttp://maps.secondlife.com/secondlife/Covdova/193/18/22
URL:https://pottedinsl.com/event/rainbow-potted-43/2025-11-21/
LOCATION:http://maps.secondlife.com/secondlife/Covdova/193/18/22
END:VEVENT
BEGIN:VEVENT
DTSTART;TZID=America/Los_Angeles:20251121T120000
DTEND;TZID=America/Los_Angeles:20251121T130000
DTSTAMP:20260424T082642
CREATED:20251105T084206Z
LAST-MODIFIED:20251105T084206Z
UID:10012488-1763726400-1763730000@pottedinsl.com
SUMMARY:Bakery Woods
DESCRIPTION:Potted Auction \nhttp://maps.secondlife.com/secondlife/Purple%20Rose/38/32/11
URL:https://pottedinsl.com/event/bakery-woods-55/2025-11-21/
LOCATION:http://maps.secondlife.com/secondlife/Purple%20Rose/38/32/11
END:VEVENT
BEGIN:VEVENT
DTSTART;TZID=America/Los_Angeles:20251121T110000
DTEND;TZID=America/Los_Angeles:20251121T120000
DTSTAMP:20260424T082642
CREATED:20251030T101303Z
LAST-MODIFIED:20251030T101303Z
UID:10012404-1763722800-1763726400@pottedinsl.com
SUMMARY:Charmed
DESCRIPTION:Potted Auction \nhttp://maps.secondlife.com/secondlife/Noctura/133/161/30
URL:https://pottedinsl.com/event/charmed-2/2025-11-21/
LOCATION:http://maps.secondlife.com/secondlife/Noctura/133/161/30
END:VEVENT
BEGIN:VEVENT
DTSTART;TZID=America/Los_Angeles:20251120T200000
DTEND;TZID=America/Los_Angeles:20251120T210000
DTSTAMP:20260424T082642
CREATED:20251029T102658Z
LAST-MODIFIED:20251029T102658Z
UID:10012385-1763668800-1763672400@pottedinsl.com
SUMMARY:Soil & Soul
DESCRIPTION:Potted Auction \nhttp://maps.secondlife.com/secondlife/Silex/100/126/33
URL:https://pottedinsl.com/event/soil-soul-9/2025-11-20/
LOCATION:http://maps.secondlife.com/secondlife/Silex/100/126/33
END:VEVENT
BEGIN:VEVENT
DTSTART;TZID=America/Los_Angeles:20251120T160000
DTEND;TZID=America/Los_Angeles:20251120T170000
DTSTAMP:20260424T082642
CREATED:20251102T060903Z
LAST-MODIFIED:20251102T060903Z
UID:10012459-1763654400-1763658000@pottedinsl.com
SUMMARY:Nest Egg
DESCRIPTION:Potted Auction \nhttp://maps.secondlife.com/secondlife/The%20Mystical%20Isle/209/211/22
URL:https://pottedinsl.com/event/nest-egg-66/2025-11-20/
LOCATION:http://maps.secondlife.com/secondlife/The%20Mystical%20Isle/209/211/22
END:VEVENT
BEGIN:VEVENT
DTSTART;TZID=America/Los_Angeles:20251120T120000
DTEND;TZID=America/Los_Angeles:20251120T130000
DTSTAMP:20260424T082642
CREATED:20251023T144059Z
LAST-MODIFIED:20251023T144059Z
UID:10012324-1763640000-1763643600@pottedinsl.com
SUMMARY:Garden of Eden
DESCRIPTION:Potted Auction \nhttp://maps.secondlife.com/secondlife/Wines/141/127/19
URL:https://pottedinsl.com/event/garden-of-eden-355/
LOCATION:http://maps.secondlife.com/secondlife/Wines/141/127/19
END:VEVENT
BEGIN:VEVENT
DTSTART;TZID=America/Los_Angeles:20251120T090000
DTEND;TZID=America/Los_Angeles:20251122T210000
DTSTAMP:20260424T082642
CREATED:20251109T071752Z
LAST-MODIFIED:20251109T071752Z
UID:10012490-1763629200-1763845200@pottedinsl.com
SUMMARY:A NOVEL AFFAIR - PATRON ONLY EVENT
DESCRIPTION:
URL:https://pottedinsl.com/event/a-novel-affair-patron-only-event/
END:VEVENT
BEGIN:VEVENT
DTSTART;TZID=America/Los_Angeles:20251120T090000
DTEND;TZID=America/Los_Angeles:20251120T100000
DTSTAMP:20260424T082642
CREATED:20251102T060518Z
LAST-MODIFIED:20251102T060518Z
UID:10012446-1763629200-1763632800@pottedinsl.com
SUMMARY:Ganja Garden
DESCRIPTION:Potted Auction \nhttp://maps.secondlife.com/secondlife/CreditCard/74/195/3482
URL:https://pottedinsl.com/event/ganja-garden-54/2025-11-20/
LOCATION:http://maps.secondlife.com/secondlife/CreditCard/74/195/3482
END:VEVENT
BEGIN:VEVENT
DTSTART;TZID=America/Los_Angeles:20251119T164500
DTEND;TZID=America/Los_Angeles:20251119T174500
DTSTAMP:20260424T082642
CREATED:20251029T095301Z
LAST-MODIFIED:20251029T095301Z
UID:10012358-1763570700-1763574300@pottedinsl.com
SUMMARY:Celtic Mystics
DESCRIPTION:Potted Auction \nhttp://maps.secondlife.com/secondlife/Celtic/191/73/22
URL:https://pottedinsl.com/event/celtic-mystics-39/2025-11-19/
LOCATION:http://maps.secondlife.com/secondlife/Celtic/191/73/22
END:VEVENT
BEGIN:VEVENT
DTSTART;TZID=America/Los_Angeles:20251119T153000
DTEND;TZID=America/Los_Angeles:20251119T163000
DTSTAMP:20260424T082642
CREATED:20251102T061520Z
LAST-MODIFIED:20251102T061520Z
UID:10012467-1763566200-1763569800@pottedinsl.com
SUMMARY:Barbasz Got Potted
DESCRIPTION:Potted Auction \nhttp://maps.secondlife.com/secondlife/MOJO/50/128/22
URL:https://pottedinsl.com/event/barbasz-got-potted-80/2025-11-19/
LOCATION:http://maps.secondlife.com/secondlife/MOJO/50/128/22
END:VEVENT
BEGIN:VEVENT
DTSTART;TZID=America/Los_Angeles:20251119T130000
DTEND;TZID=America/Los_Angeles:20251119T140000
DTSTAMP:20260424T082642
CREATED:20251029T094841Z
LAST-MODIFIED:20251029T094841Z
UID:10012350-1763557200-1763560800@pottedinsl.com
SUMMARY:Sweetflowers
DESCRIPTION:Potted Auction \nhttp://maps.secondlife.com/secondlife/Woodland%20Hills/208/196/26
URL:https://pottedinsl.com/event/sweetflowers-56/2025-11-19/
LOCATION:http://maps.secondlife.com/secondlife/Woodland%20Hills/208/196/26
END:VEVENT
BEGIN:VEVENT
DTSTART;TZID=America/Los_Angeles:20251119T120000
DTEND;TZID=America/Los_Angeles:20251119T130000
DTSTAMP:20260424T082642
CREATED:20251102T060758Z
LAST-MODIFIED:20251102T060758Z
UID:10012455-1763553600-1763557200@pottedinsl.com
SUMMARY:Nest Egg
DESCRIPTION:Potted Auction \nhttp://maps.secondlife.com/secondlife/The%20Mystical%20Isle/209/211/22
URL:https://pottedinsl.com/event/nest-egg-65/2025-11-19/
LOCATION:http://maps.secondlife.com/secondlife/The%20Mystical%20Isle/209/211/22
END:VEVENT
BEGIN:VEVENT
DTSTART;TZID=America/Los_Angeles:20251118T200000
DTEND;TZID=America/Los_Angeles:20251118T210000
DTSTAMP:20260424T082642
CREATED:20251029T102607Z
LAST-MODIFIED:20251029T102607Z
UID:10012381-1763496000-1763499600@pottedinsl.com
SUMMARY:Soil & Soul
DESCRIPTION:Potted Auction \nhttp://maps.secondlife.com/secondlife/Silex/100/126/33
URL:https://pottedinsl.com/event/soil-soul-8/2025-11-18/
LOCATION:http://maps.secondlife.com/secondlife/Silex/100/126/33
END:VEVENT
BEGIN:VEVENT
DTSTART;TZID=America/Los_Angeles:20251118T163000
DTEND;TZID=America/Los_Angeles:20251118T170000
DTSTAMP:20260424T082642
CREATED:20251023T144656Z
LAST-MODIFIED:20251023T144656Z
UID:10012331-1763483400-1763485200@pottedinsl.com
SUMMARY:The Secret Garden
DESCRIPTION:Potted Auction \nhttp://maps.secondlife.com/secondlife/Sweet%20Desire/211/200/44
URL:https://pottedinsl.com/event/the-secret-garden-71/2025-11-18/
LOCATION:http://maps.secondlife.com/secondlife/Sweet%20Desire/211/200/44
END:VEVENT
BEGIN:VEVENT
DTSTART;TZID=America/Los_Angeles:20251118T160000
DTEND;TZID=America/Los_Angeles:20251118T170000
DTSTAMP:20260424T082642
CREATED:20251111T102414Z
LAST-MODIFIED:20251111T102414Z
UID:10012495-1763481600-1763485200@pottedinsl.com
SUMMARY:SIM BENEFIT POT
DESCRIPTION:Potted Auction to include the Sim Benefit pot Potted ~ LE Sir Borksalot Philodendron Pot – Storm at the Secret Garden \nhttp://maps.secondlife.com/secondlife/Sweet%20Desire/211/198/44
URL:https://pottedinsl.com/event/sim-benefit-pot-622/
LOCATION:http://maps.secondlife.com/secondlife/Sweet%20Desire/211/198/44
END:VEVENT
BEGIN:VEVENT
DTSTART;TZID=America/Los_Angeles:20251118T150000
DTEND;TZID=America/Los_Angeles:20251118T160000
DTSTAMP:20260424T082642
CREATED:20251101T092804Z
LAST-MODIFIED:20251101T092804Z
UID:10012429-1763478000-1763481600@pottedinsl.com
SUMMARY:Jazzy Pots
DESCRIPTION:Potted Auction \nhttp://maps.secondlife.com/secondlife/Elston/102/229/3500
URL:https://pottedinsl.com/event/jazzy-pots-14/2025-11-18/
LOCATION:http://maps.secondlife.com/secondlife/Elston/102/229/3500
END:VEVENT
END:VCALENDAR