BEGIN:VCALENDAR
VERSION:2.0
PRODID:-//Potted - ECPv6.15.20//NONSGML v1.0//EN
CALSCALE:GREGORIAN
METHOD:PUBLISH
X-WR-CALNAME:Potted
X-ORIGINAL-URL:https://pottedinsl.com
X-WR-CALDESC:Events for Potted
REFRESH-INTERVAL;VALUE=DURATION:PT1H
X-Robots-Tag:noindex
X-PUBLISHED-TTL:PT1H
BEGIN:VTIMEZONE
TZID:America/Los_Angeles
BEGIN:DAYLIGHT
TZOFFSETFROM:-0800
TZOFFSETTO:-0700
TZNAME:PDT
DTSTART:20240310T100000
END:DAYLIGHT
BEGIN:STANDARD
TZOFFSETFROM:-0700
TZOFFSETTO:-0800
TZNAME:PST
DTSTART:20241103T090000
END:STANDARD
BEGIN:DAYLIGHT
TZOFFSETFROM:-0800
TZOFFSETTO:-0700
TZNAME:PDT
DTSTART:20250309T100000
END:DAYLIGHT
BEGIN:STANDARD
TZOFFSETFROM:-0700
TZOFFSETTO:-0800
TZNAME:PST
DTSTART:20251102T090000
END:STANDARD
BEGIN:DAYLIGHT
TZOFFSETFROM:-0800
TZOFFSETTO:-0700
TZNAME:PDT
DTSTART:20260308T100000
END:DAYLIGHT
BEGIN:STANDARD
TZOFFSETFROM:-0700
TZOFFSETTO:-0800
TZNAME:PST
DTSTART:20261101T090000
END:STANDARD
END:VTIMEZONE
BEGIN:VEVENT
DTSTART;TZID=America/Los_Angeles:20251102T110000
DTEND;TZID=America/Los_Angeles:20251102T120000
DTSTAMP:20260425T210610
CREATED:20251101T093049Z
LAST-MODIFIED:20251101T093049Z
UID:10012434-1762081200-1762084800@pottedinsl.com
SUMMARY:Claudia & Co
DESCRIPTION:Potted Auction \nhttp://maps.secondlife.com/secondlife/Eternal%20Flames/201/91/25
URL:https://pottedinsl.com/event/claudia-co-22/2025-11-02/
LOCATION:http://maps.secondlife.com/secondlife/Eternal%20Flames/201/91/25
END:VEVENT
BEGIN:VEVENT
DTSTART;TZID=America/Los_Angeles:20251101T200000
DTEND;TZID=America/Los_Angeles:20251101T210000
DTSTAMP:20260425T210610
CREATED:20251030T100913Z
LAST-MODIFIED:20251030T100913Z
UID:10012392-1762027200-1762030800@pottedinsl.com
SUMMARY:The Potted Jungle
DESCRIPTION:Potted Auction \nhttp://maps.secondlife.com/secondlife/Infinity%20Acres/65/225/21
URL:https://pottedinsl.com/event/the-potted-jungle-2/2025-11-01/
LOCATION:http://maps.secondlife.com/secondlife/Infinity%20Acres/65/225/21
END:VEVENT
BEGIN:VEVENT
DTSTART;TZID=America/Los_Angeles:20251101T170000
DTEND;TZID=America/Los_Angeles:20251101T180000
DTSTAMP:20260425T210610
CREATED:20251101T092231Z
LAST-MODIFIED:20251101T092231Z
UID:10012410-1762016400-1762020000@pottedinsl.com
SUMMARY:Delirium
DESCRIPTION:Potted Auction \nhttp://maps.secondlife.com/secondlife/Delirium%20Breedables/224/149/21
URL:https://pottedinsl.com/event/delirium-13/2025-11-01/
LOCATION:http://maps.secondlife.com/secondlife/Delirium%20Breedables/224/149/21
END:VEVENT
BEGIN:VEVENT
DTSTART;TZID=America/Los_Angeles:20251101T160000
DTEND;TZID=America/Los_Angeles:20251101T170000
DTSTAMP:20260425T210610
CREATED:20251029T095357Z
LAST-MODIFIED:20251029T095357Z
UID:10012360-1762012800-1762016400@pottedinsl.com
SUMMARY:Celtic Mystics
DESCRIPTION:Potted Auction \nhttp://maps.secondlife.com/secondlife/Celtic/191/73/22
URL:https://pottedinsl.com/event/celtic-mystics-40/2025-11-01/
LOCATION:http://maps.secondlife.com/secondlife/Celtic/191/73/22
END:VEVENT
BEGIN:VEVENT
DTSTART;TZID=America/Los_Angeles:20251031T200000
DTEND;TZID=America/Los_Angeles:20251031T210000
DTSTAMP:20260425T210610
CREATED:20251030T100811Z
LAST-MODIFIED:20251030T100811Z
UID:10012387-1761940800-1761944400@pottedinsl.com
SUMMARY:The Potted Jungle
DESCRIPTION:Potted Auction \nhttp://maps.secondlife.com/secondlife/Infinity%20Acres/65/225/21
URL:https://pottedinsl.com/event/the-potted-jungle/2025-10-31/
LOCATION:http://maps.secondlife.com/secondlife/Infinity%20Acres/65/225/21
END:VEVENT
BEGIN:VEVENT
DTSTART;TZID=America/Los_Angeles:20251031T190000
DTEND;TZID=America/Los_Angeles:20251031T200000
DTSTAMP:20260425T210610
CREATED:20251010T082635Z
LAST-MODIFIED:20251010T082635Z
UID:10012280-1761937200-1761940800@pottedinsl.com
SUMMARY:SUPERSTAR SEED EVENT
DESCRIPTION:Halloween Party! \nBest in costume – Superstar seed for the top 3 winners \nhttp://maps.secondlife.com/secondlife/Silex/126/131/3002
URL:https://pottedinsl.com/event/superstar-seed-event-60/
LOCATION:http://maps.secondlife.com/secondlife/Silex/126/131/3002
END:VEVENT
BEGIN:VEVENT
DTSTART;TZID=America/Los_Angeles:20251031T163000
DTEND;TZID=America/Los_Angeles:20251031T173000
DTSTAMP:20260425T210610
CREATED:20251004T160811Z
LAST-MODIFIED:20251004T160811Z
UID:10012263-1761928200-1761931800@pottedinsl.com
SUMMARY:Jazzy Pots
DESCRIPTION:Potted Auction \nhttp://maps.secondlife.com/secondlife/Elston/102/229/3500
URL:https://pottedinsl.com/event/jazzy-pots-12/2025-10-31/
LOCATION:http://maps.secondlife.com/secondlife/Elston/102/229/3500
END:VEVENT
BEGIN:VEVENT
DTSTART;TZID=America/Los_Angeles:20251031T150000
DTEND;TZID=America/Los_Angeles:20251031T160000
DTSTAMP:20260425T210610
CREATED:20250928T081828Z
LAST-MODIFIED:20250928T081828Z
UID:10012118-1761922800-1761926400@pottedinsl.com
SUMMARY:Barbasz Got Potted
DESCRIPTION:Potted Auction \nhttp://maps.secondlife.com/secondlife/MOJO/50/128/22
URL:https://pottedinsl.com/event/barbasz-got-potted-79/2025-10-31/
LOCATION:http://maps.secondlife.com/secondlife/MOJO/50/128/22
END:VEVENT
BEGIN:VEVENT
DTSTART;TZID=America/Los_Angeles:20251031T130000
DTEND;TZID=America/Los_Angeles:20251031T140000
DTSTAMP:20260425T210610
CREATED:20251004T161218Z
LAST-MODIFIED:20251004T161218Z
UID:10012271-1761915600-1761919200@pottedinsl.com
SUMMARY:Rainbow Potted
DESCRIPTION:Potted Auction \nhttp://maps.secondlife.com/secondlife/Covdova/193/18/22
URL:https://pottedinsl.com/event/rainbow-potted-41/2025-10-31/
LOCATION:http://maps.secondlife.com/secondlife/Covdova/193/18/22
END:VEVENT
BEGIN:VEVENT
DTSTART;TZID=America/Los_Angeles:20251031T120000
DTEND;TZID=America/Los_Angeles:20251031T130000
DTSTAMP:20260425T210610
CREATED:20250928T084001Z
LAST-MODIFIED:20250928T084001Z
UID:10012144-1761912000-1761915600@pottedinsl.com
SUMMARY:Bakery Woods
DESCRIPTION:Potted Auction \nhttp://maps.secondlife.com/secondlife/Purple%20Rose/38/32/11
URL:https://pottedinsl.com/event/bakery-woods-52/2025-10-31/
LOCATION:http://maps.secondlife.com/secondlife/Purple%20Rose/38/32/11
END:VEVENT
BEGIN:VEVENT
DTSTART;TZID=America/Los_Angeles:20251031T090000
DTEND;TZID=America/Los_Angeles:20251031T100000
DTSTAMP:20260425T210610
CREATED:20250923T052929Z
LAST-MODIFIED:20250923T052929Z
UID:10012103-1761901200-1761904800@pottedinsl.com
SUMMARY:Garden of Eden
DESCRIPTION:Potted Auction \nhttp://maps.secondlife.com/secondlife/Wines/123/134/19
URL:https://pottedinsl.com/event/garden-of-eden-347/
LOCATION:http://maps.secondlife.com/secondlife/Wines/123/134/19
END:VEVENT
BEGIN:VEVENT
DTSTART;TZID=America/Los_Angeles:20251030T200000
DTEND;TZID=America/Los_Angeles:20251030T210000
DTSTAMP:20260425T210610
CREATED:20251003T071953Z
LAST-MODIFIED:20251003T071953Z
UID:10012251-1761854400-1761858000@pottedinsl.com
SUMMARY:Soil & Soul
DESCRIPTION:Potted Auction \nhttp://maps.secondlife.com/secondlife/Silex/100/126/33
URL:https://pottedinsl.com/event/soil-soul-6/2025-10-30/
LOCATION:http://maps.secondlife.com/secondlife/Silex/100/126/33
END:VEVENT
BEGIN:VEVENT
DTSTART;TZID=America/Los_Angeles:20251030T160000
DTEND;TZID=America/Los_Angeles:20251030T170000
DTSTAMP:20260425T210610
CREATED:20250928T134833Z
LAST-MODIFIED:20250928T134833Z
UID:10012181-1761840000-1761843600@pottedinsl.com
SUMMARY:Nest Egg
DESCRIPTION:Potted Auction \nhttp://maps.secondlife.com/secondlife/The%20Mystical%20Isle/209/211/22
URL:https://pottedinsl.com/event/nest-egg-63/2025-10-30/
LOCATION:http://maps.secondlife.com/secondlife/The%20Mystical%20Isle/209/211/22
END:VEVENT
BEGIN:VEVENT
DTSTART;TZID=America/Los_Angeles:20251030T120000
DTEND;TZID=America/Los_Angeles:20251031T120000
DTSTAMP:20260425T210610
CREATED:20251010T081628Z
LAST-MODIFIED:20251020T174317Z
UID:10012275-1761825600-1761912000@pottedinsl.com
SUMMARY:PUBLIC HALLOWEEN EVENT
DESCRIPTION:Always check notices for start time and location
URL:https://pottedinsl.com/event/public-halloween-event/
END:VEVENT
BEGIN:VEVENT
DTSTART;TZID=America/Los_Angeles:20251030T120000
DTEND;TZID=America/Los_Angeles:20251030T130000
DTSTAMP:20260425T210610
CREATED:20250923T052834Z
LAST-MODIFIED:20250923T052834Z
UID:10012102-1761825600-1761829200@pottedinsl.com
SUMMARY:Garden of Eden
DESCRIPTION:Potted Auction \nhttp://maps.secondlife.com/secondlife/Wines/123/134/19
URL:https://pottedinsl.com/event/garden-of-eden-346/
LOCATION:http://maps.secondlife.com/secondlife/Wines/123/134/19
END:VEVENT
BEGIN:VEVENT
DTSTART;TZID=America/Los_Angeles:20251030T110000
DTEND;TZID=America/Los_Angeles:20251030T120000
DTSTAMP:20260425T210610
CREATED:20250928T134420Z
LAST-MODIFIED:20250928T134420Z
UID:10012171-1761822000-1761825600@pottedinsl.com
SUMMARY:The Secret Garden
DESCRIPTION:Potted Auction \nhttp://maps.secondlife.com/secondlife/Sweet%20Desire/211/198/44
URL:https://pottedinsl.com/event/the-secret-garden-70/2025-10-30/
LOCATION:http://maps.secondlife.com/secondlife/Sweet%20Desire/211/198/44
END:VEVENT
BEGIN:VEVENT
DTSTART;TZID=America/Los_Angeles:20251030T090000
DTEND;TZID=America/Los_Angeles:20251030T100000
DTSTAMP:20260425T210610
CREATED:20251021T083213Z
LAST-MODIFIED:20251021T083213Z
UID:10012316-1761814800-1761818400@pottedinsl.com
SUMMARY:SIM BENEFIT POT
DESCRIPTION:Potted Auction to include the Sim Benefit pot Doctor at Ganja Garden \nhttp://maps.secondlife.com/secondlife/CreditCard/74/195/3482
URL:https://pottedinsl.com/event/sim-benefit-pot-616/
LOCATION:http://maps.secondlife.com/secondlife/CreditCard/74/195/3482
END:VEVENT
BEGIN:VEVENT
DTSTART;TZID=America/Los_Angeles:20251030T090000
DTEND;TZID=America/Los_Angeles:20251030T100000
DTSTAMP:20260425T210610
CREATED:20250928T133214Z
LAST-MODIFIED:20250928T133214Z
UID:10012157-1761814800-1761818400@pottedinsl.com
SUMMARY:Ganja Garden
DESCRIPTION:Potted Auction \nhttp://maps.secondlife.com/secondlife/CreditCard/74/195/3482
URL:https://pottedinsl.com/event/ganja-garden-52/2025-10-30/
LOCATION:http://maps.secondlife.com/secondlife/CreditCard/74/195/3482
END:VEVENT
BEGIN:VEVENT
DTSTART;TZID=America/Los_Angeles:20251029T164500
DTEND;TZID=America/Los_Angeles:20251029T174500
DTSTAMP:20260425T210610
CREATED:20251026T084717Z
LAST-MODIFIED:20251026T084717Z
UID:10012235-1761756300-1761759900@pottedinsl.com
SUMMARY:Celtic Mystics
DESCRIPTION:Potted Auction \nhttp://maps.secondlife.com/secondlife/Celtic/193/73/22
URL:https://pottedinsl.com/event/celtic-mystics-36-2/
LOCATION:http://maps.secondlife.com/secondlife/Celtic/193/73/22
END:VEVENT
BEGIN:VEVENT
DTSTART;TZID=America/Los_Angeles:20251029T153000
DTEND;TZID=America/Los_Angeles:20251029T163000
DTSTAMP:20260425T210610
CREATED:20250928T081153Z
LAST-MODIFIED:20250928T081153Z
UID:10012113-1761751800-1761755400@pottedinsl.com
SUMMARY:Barbasz Got Potted
DESCRIPTION:Potted Auction \nhttp://maps.secondlife.com/secondlife/MOJO/50/128/22
URL:https://pottedinsl.com/event/barbasz-got-potted-78/2025-10-29/
LOCATION:http://maps.secondlife.com/secondlife/MOJO/50/128/22
END:VEVENT
BEGIN:VEVENT
DTSTART;TZID=America/Los_Angeles:20251029T130000
DTEND;TZID=America/Los_Angeles:20251029T140000
DTSTAMP:20260425T210610
CREATED:20250928T135134Z
LAST-MODIFIED:20250928T135134Z
UID:10012190-1761742800-1761746400@pottedinsl.com
SUMMARY:Sweetflowers
DESCRIPTION:Potted Auction \nhttp://maps.secondlife.com/secondlife/Woodland%20Hills/208/196/26
URL:https://pottedinsl.com/event/sweetflowers-51/2025-10-29/
LOCATION:http://maps.secondlife.com/secondlife/Woodland%20Hills/208/196/26
END:VEVENT
BEGIN:VEVENT
DTSTART;TZID=America/Los_Angeles:20251029T120000
DTEND;TZID=America/Los_Angeles:20251029T130000
DTSTAMP:20260425T210610
CREATED:20250928T134619Z
LAST-MODIFIED:20250928T134619Z
UID:10012176-1761739200-1761742800@pottedinsl.com
SUMMARY:Nest Egg
DESCRIPTION:Potted Auction \nhttp://maps.secondlife.com/secondlife/The%20Mystical%20Isle/209/211/22
URL:https://pottedinsl.com/event/nest-egg-62/2025-10-29/
LOCATION:http://maps.secondlife.com/secondlife/The%20Mystical%20Isle/209/211/22
END:VEVENT
BEGIN:VEVENT
DTSTART;TZID=America/Los_Angeles:20251029T110000
DTEND;TZID=America/Los_Angeles:20251029T120000
DTSTAMP:20260425T210610
CREATED:20251004T160648Z
LAST-MODIFIED:20251004T160648Z
UID:10012259-1761735600-1761739200@pottedinsl.com
SUMMARY:Jazzy Pots
DESCRIPTION:Potted  Auction \nhttp://maps.secondlife.com/secondlife/Elston/102/229/3500
URL:https://pottedinsl.com/event/jazzy-pots-11/2025-10-29/
LOCATION:http://maps.secondlife.com/secondlife/Elston/102/229/3500
END:VEVENT
BEGIN:VEVENT
DTSTART;TZID=America/Los_Angeles:20251029T090000
DTEND;TZID=America/Los_Angeles:20251031T090000
DTSTAMP:20260425T210610
CREATED:20251016T161851Z
LAST-MODIFIED:20251016T161851Z
UID:10012311-1761728400-1761901200@pottedinsl.com
SUMMARY:SIM BENEFIT POT
DESCRIPTION:Bid board offering the Sim Benefit pot LE Franklestein Missus at Braxton Flowers \nhttp://maps.secondlife.com/secondlife/Firanelli%20Estates/60/66/77
URL:https://pottedinsl.com/event/sim-benefit-pot-611/
LOCATION:http://maps.secondlife.com/secondlife/Firanelli%20Estates/60/66/77
END:VEVENT
BEGIN:VEVENT
DTSTART;TZID=America/Los_Angeles:20251029T090000
DTEND;TZID=America/Los_Angeles:20251029T100000
DTSTAMP:20260425T210610
CREATED:20250923T052732Z
LAST-MODIFIED:20250923T052732Z
UID:10012101-1761728400-1761732000@pottedinsl.com
SUMMARY:Garden of Eden
DESCRIPTION:Potted Auction \nhttp://maps.secondlife.com/secondlife/Wines/123/134/19
URL:https://pottedinsl.com/event/garden-of-eden-345/
LOCATION:http://maps.secondlife.com/secondlife/Wines/123/134/19
END:VEVENT
BEGIN:VEVENT
DTSTART;TZID=America/Los_Angeles:20251028T200000
DTEND;TZID=America/Los_Angeles:20251028T210000
DTSTAMP:20260425T210610
CREATED:20251003T071832Z
LAST-MODIFIED:20251003T071832Z
UID:10012247-1761681600-1761685200@pottedinsl.com
SUMMARY:Soil & Soul
DESCRIPTION:Potted Auction \nhttp://maps.secondlife.com/secondlife/Silex/100/126/33
URL:https://pottedinsl.com/event/soil-soul-5/2025-10-28/
LOCATION:http://maps.secondlife.com/secondlife/Silex/100/126/33
END:VEVENT
BEGIN:VEVENT
DTSTART;TZID=America/Los_Angeles:20251028T180000
DTEND;TZID=America/Los_Angeles:20251028T190000
DTSTAMP:20260425T210610
CREATED:20250928T082357Z
LAST-MODIFIED:20250928T082357Z
UID:10012126-1761674400-1761678000@pottedinsl.com
SUMMARY:RiaCats
DESCRIPTION:Potted Auction \nhttp://maps.secondlife.com/secondlife/Solarian%20Prime/63/159/25
URL:https://pottedinsl.com/event/riacats-43/2025-10-28/
LOCATION:http://maps.secondlife.com/secondlife/Solarian%20Prime/63/159/25
END:VEVENT
BEGIN:VEVENT
DTSTART;TZID=America/Los_Angeles:20251028T160000
DTEND;TZID=America/Los_Angeles:20251028T170000
DTSTAMP:20260425T210610
CREATED:20250928T134038Z
LAST-MODIFIED:20250928T134038Z
UID:10012167-1761667200-1761670800@pottedinsl.com
SUMMARY:The Secret Garden
DESCRIPTION:Potted Auction \nhttp://maps.secondlife.com/secondlife/Sweet%20Desire/211/198/44
URL:https://pottedinsl.com/event/the-secret-garden-69/2025-10-28/
LOCATION:http://maps.secondlife.com/secondlife/Sweet%20Desire/211/198/44
END:VEVENT
BEGIN:VEVENT
DTSTART;TZID=America/Los_Angeles:20251028T140000
DTEND;TZID=America/Los_Angeles:20251028T150000
DTSTAMP:20260425T210610
CREATED:20250928T133645Z
LAST-MODIFIED:20250928T133645Z
UID:10012160-1761660000-1761663600@pottedinsl.com
SUMMARY:Potted with Passion
DESCRIPTION:Potted Auction \nhttp://maps.secondlife.com/secondlife/Stalkers%20Allowed/128/177/20
URL:https://pottedinsl.com/event/potted-with-passion-20/2025-10-28/
LOCATION:http://maps.secondlife.com/secondlife/Stalkers%20Allowed/128/177/20
END:VEVENT
BEGIN:VEVENT
DTSTART;TZID=America/Los_Angeles:20251028T130000
DTEND;TZID=America/Los_Angeles:20251028T140000
DTSTAMP:20260425T210610
CREATED:20251001T094410Z
LAST-MODIFIED:20251001T094410Z
UID:10012218-1761656400-1761660000@pottedinsl.com
SUMMARY:Hula Rock
DESCRIPTION:Potted Auction \nhttp://maps.secondlife.com/secondlife/Lythe/209/69/31
URL:https://pottedinsl.com/event/hula-rock-106/2025-10-28/
LOCATION:http://maps.secondlife.com/secondlife/Lythe/209/69/31
END:VEVENT
END:VCALENDAR