BEGIN:VCALENDAR
VERSION:2.0
PRODID:-//Potted - ECPv6.15.20//NONSGML v1.0//EN
CALSCALE:GREGORIAN
METHOD:PUBLISH
X-WR-CALNAME:Potted
X-ORIGINAL-URL:https://pottedinsl.com
X-WR-CALDESC:Events for Potted
REFRESH-INTERVAL;VALUE=DURATION:PT1H
X-Robots-Tag:noindex
X-PUBLISHED-TTL:PT1H
BEGIN:VTIMEZONE
TZID:America/Los_Angeles
BEGIN:DAYLIGHT
TZOFFSETFROM:-0800
TZOFFSETTO:-0700
TZNAME:PDT
DTSTART:20240310T100000
END:DAYLIGHT
BEGIN:STANDARD
TZOFFSETFROM:-0700
TZOFFSETTO:-0800
TZNAME:PST
DTSTART:20241103T090000
END:STANDARD
BEGIN:DAYLIGHT
TZOFFSETFROM:-0800
TZOFFSETTO:-0700
TZNAME:PDT
DTSTART:20250309T100000
END:DAYLIGHT
BEGIN:STANDARD
TZOFFSETFROM:-0700
TZOFFSETTO:-0800
TZNAME:PST
DTSTART:20251102T090000
END:STANDARD
BEGIN:DAYLIGHT
TZOFFSETFROM:-0800
TZOFFSETTO:-0700
TZNAME:PDT
DTSTART:20260308T100000
END:DAYLIGHT
BEGIN:STANDARD
TZOFFSETFROM:-0700
TZOFFSETTO:-0800
TZNAME:PST
DTSTART:20261101T090000
END:STANDARD
END:VTIMEZONE
BEGIN:VEVENT
DTSTART;TZID=America/Los_Angeles:20251111T110000
DTEND;TZID=America/Los_Angeles:20251111T120000
DTSTAMP:20260425T074706
CREATED:20251101T092407Z
LAST-MODIFIED:20251101T092407Z
UID:10012416-1762858800-1762862400@pottedinsl.com
SUMMARY:Rainbow Potted
DESCRIPTION:Potted Auction \nhttp://maps.secondlife.com/secondlife/Covdova/193/18/22
URL:https://pottedinsl.com/event/rainbow-potted-42/2025-11-11/
LOCATION:http://maps.secondlife.com/secondlife/Covdova/193/18/22
END:VEVENT
BEGIN:VEVENT
DTSTART;TZID=America/Los_Angeles:20251111T090000
DTEND;TZID=America/Los_Angeles:20251111T100000
DTSTAMP:20260425T074706
CREATED:20251102T060400Z
LAST-MODIFIED:20251102T060400Z
UID:10012441-1762851600-1762855200@pottedinsl.com
SUMMARY:Ganja Garden
DESCRIPTION:Potted Auction \nhttp://maps.secondlife.com/secondlife/CreditCard/74/195/3482
URL:https://pottedinsl.com/event/ganja-garden-53/2025-11-11/
LOCATION:http://maps.secondlife.com/secondlife/CreditCard/74/195/3482
END:VEVENT
BEGIN:VEVENT
DTSTART;TZID=America/Los_Angeles:20251110T200000
DTEND;TZID=America/Los_Angeles:20251110T210000
DTSTAMP:20260425T074706
CREATED:20251029T102452Z
LAST-MODIFIED:20251029T102452Z
UID:10012376-1762804800-1762808400@pottedinsl.com
SUMMARY:Soil & Soul
DESCRIPTION:Potted Auction \nhttp://maps.secondlife.com/secondlife/Silex/100/126/33
URL:https://pottedinsl.com/event/soil-soul-7/2025-11-10/
LOCATION:http://maps.secondlife.com/secondlife/Silex/100/126/33
END:VEVENT
BEGIN:VEVENT
DTSTART;TZID=America/Los_Angeles:20251110T180000
DTEND;TZID=America/Los_Angeles:20251110T190000
DTSTAMP:20260425T074706
CREATED:20251029T101454Z
LAST-MODIFIED:20251029T101454Z
UID:10012366-1762797600-1762801200@pottedinsl.com
SUMMARY:Riacats
DESCRIPTION:Potted Auction \nhttp://maps.secondlife.com/secondlife/Solarian%20Prime/63/159/25
URL:https://pottedinsl.com/event/riacats-47/2025-11-10/
LOCATION:http://maps.secondlife.com/secondlife/Solarian%20Prime/63/159/25
END:VEVENT
BEGIN:VEVENT
DTSTART;TZID=America/Los_Angeles:20251110T170000
DTEND;TZID=America/Los_Angeles:20251110T180000
DTSTAMP:20260425T074706
CREATED:20251101T092703Z
LAST-MODIFIED:20251101T092703Z
UID:10012424-1762794000-1762797600@pottedinsl.com
SUMMARY:Jazzy Pots
DESCRIPTION:Potted Auction \nhttp://maps.secondlife.com/secondlife/Elston/102/229/3500
URL:https://pottedinsl.com/event/jazzy-pots-13/2025-11-10/
LOCATION:http://maps.secondlife.com/secondlife/Elston/102/229/3500
END:VEVENT
BEGIN:VEVENT
DTSTART;TZID=America/Los_Angeles:20251110T154500
DTEND;TZID=America/Los_Angeles:20251110T164500
DTSTAMP:20260425T074706
CREATED:20251029T095149Z
LAST-MODIFIED:20251029T095149Z
UID:10012353-1762789500-1762793100@pottedinsl.com
SUMMARY:Celtic Mystics
DESCRIPTION:Potted Auction \nhttp://maps.secondlife.com/secondlife/Celtic/191/73/22
URL:https://pottedinsl.com/event/celtic-mystics-38/2025-11-10/
LOCATION:http://maps.secondlife.com/secondlife/Celtic/191/73/22
END:VEVENT
BEGIN:VEVENT
DTSTART;TZID=America/Los_Angeles:20251110T143000
DTEND;TZID=America/Los_Angeles:20251110T153000
DTSTAMP:20260425T074706
CREATED:20251029T094738Z
LAST-MODIFIED:20251029T094738Z
UID:10012345-1762785000-1762788600@pottedinsl.com
SUMMARY:Sweetflowers
DESCRIPTION:Potted Auction \nhttp://maps.secondlife.com/secondlife/Woodland%20Hills/208/196/26
URL:https://pottedinsl.com/event/sweetflowers-55/2025-11-10/
LOCATION:http://maps.secondlife.com/secondlife/Woodland%20Hills/208/196/26
END:VEVENT
BEGIN:VEVENT
DTSTART;TZID=America/Los_Angeles:20251110T133000
DTEND;TZID=America/Los_Angeles:20251110T143000
DTSTAMP:20260425T074706
CREATED:20251105T083917Z
LAST-MODIFIED:20251105T083917Z
UID:10012480-1762781400-1762785000@pottedinsl.com
SUMMARY:Bakery Woods
DESCRIPTION:Potted Auction \nhttp://maps.secondlife.com/secondlife/Purple%20Rose/38/32/11
URL:https://pottedinsl.com/event/bakery-woods-53/2025-11-10/
LOCATION:http://maps.secondlife.com/secondlife/Purple%20Rose/38/32/11
END:VEVENT
BEGIN:VEVENT
DTSTART;TZID=America/Los_Angeles:20251109T200000
DTEND;TZID=America/Los_Angeles:20251109T210000
DTSTAMP:20260425T074706
CREATED:20251030T101020Z
LAST-MODIFIED:20251030T101020Z
UID:10012398-1762718400-1762722000@pottedinsl.com
SUMMARY:The Potted Jungle
DESCRIPTION:Potted Auction \nhttp://maps.secondlife.com/secondlife/Infinity%20Acres/65/225/21
URL:https://pottedinsl.com/event/the-potted-jungle-3/2025-11-09/
LOCATION:http://maps.secondlife.com/secondlife/Infinity%20Acres/65/225/21
END:VEVENT
BEGIN:VEVENT
DTSTART;TZID=America/Los_Angeles:20251109T180000
DTEND;TZID=America/Los_Angeles:20251109T190000
DTSTAMP:20260425T074706
CREATED:20251105T083626Z
LAST-MODIFIED:20251105T083626Z
UID:10012479-1762711200-1762714800@pottedinsl.com
SUMMARY:SUPERSTAR SEED EVENT
DESCRIPTION:Ready to shine? \nEnter our Disney-themed contest! \nThree winners will snag a coveted Superstar Seed! \nContest opens: 6:00 PM SLT Voting starts: 6:45 PM SLT \nThe best part? Contestants vote for the winners! Bring your A-game! Good luck! ✨ \nhttp://maps.secondlife.com/secondlife/Solarian%20Prime/22/186/26
URL:https://pottedinsl.com/event/superstar-seed-event-61/
LOCATION:http://maps.secondlife.com/secondlife/Solarian%20Prime/22/186/26
END:VEVENT
BEGIN:VEVENT
DTSTART;TZID=America/Los_Angeles:20251109T160000
DTEND;TZID=America/Los_Angeles:20251109T170000
DTSTAMP:20260425T074706
CREATED:20251102T060620Z
LAST-MODIFIED:20251102T060620Z
UID:10012449-1762704000-1762707600@pottedinsl.com
SUMMARY:Ganja Garden
DESCRIPTION:Potted Auction \nhttp://maps.secondlife.com/secondlife/CreditCard/74/195/3482
URL:https://pottedinsl.com/event/ganja-garden-55/2025-11-09/
LOCATION:http://maps.secondlife.com/secondlife/CreditCard/74/195/3482
END:VEVENT
BEGIN:VEVENT
DTSTART;TZID=America/Los_Angeles:20251109T140000
DTEND;TZID=America/Los_Angeles:20251109T150000
DTSTAMP:20260425T074706
CREATED:20251030T101436Z
LAST-MODIFIED:20251030T101436Z
UID:10012406-1762696800-1762700400@pottedinsl.com
SUMMARY:Charmed
DESCRIPTION:Potted Auction \nhttp://maps.secondlife.com/secondlife/Noctura/133/161/30
URL:https://pottedinsl.com/event/charmed-3/2025-11-09/
LOCATION:http://maps.secondlife.com/secondlife/Noctura/133/161/30
END:VEVENT
BEGIN:VEVENT
DTSTART;TZID=America/Los_Angeles:20251109T130000
DTEND;TZID=America/Los_Angeles:20251109T140000
DTSTAMP:20260425T074706
CREATED:20251102T062228Z
LAST-MODIFIED:20251102T062228Z
UID:10012473-1762693200-1762696800@pottedinsl.com
SUMMARY:Potted with Passion
DESCRIPTION:Potted Auction \nhttp://maps.secondlife.com/secondlife/Stalkers%20Allowed/128/182/21
URL:https://pottedinsl.com/event/potted-with-passion-22/
LOCATION:http://maps.secondlife.com/secondlife/Stalkers%20Allowed/128/182/21
END:VEVENT
BEGIN:VEVENT
DTSTART;TZID=America/Los_Angeles:20251109T120000
DTEND;TZID=America/Los_Angeles:20251109T130000
DTSTAMP:20260425T074706
CREATED:20251023T142409Z
LAST-MODIFIED:20251023T142409Z
UID:10012319-1762689600-1762693200@pottedinsl.com
SUMMARY:Garden of Eden
DESCRIPTION:Potted Auction \nhttp://maps.secondlife.com/secondlife/Wines/141/127/19
URL:https://pottedinsl.com/event/garden-of-eden-350/
LOCATION:http://maps.secondlife.com/secondlife/Wines/141/127/19
END:VEVENT
BEGIN:VEVENT
DTSTART;TZID=America/Los_Angeles:20251108T200000
DTEND;TZID=America/Los_Angeles:20251108T210000
DTSTAMP:20260425T074706
CREATED:20251030T100913Z
LAST-MODIFIED:20251030T100913Z
UID:10012393-1762632000-1762635600@pottedinsl.com
SUMMARY:The Potted Jungle
DESCRIPTION:Potted Auction \nhttp://maps.secondlife.com/secondlife/Infinity%20Acres/65/225/21
URL:https://pottedinsl.com/event/the-potted-jungle-2/2025-11-08/
LOCATION:http://maps.secondlife.com/secondlife/Infinity%20Acres/65/225/21
END:VEVENT
BEGIN:VEVENT
DTSTART;TZID=America/Los_Angeles:20251108T170000
DTEND;TZID=America/Los_Angeles:20251108T180000
DTSTAMP:20260425T074706
CREATED:20251101T092231Z
LAST-MODIFIED:20251101T092231Z
UID:10012411-1762621200-1762624800@pottedinsl.com
SUMMARY:Delirium
DESCRIPTION:Potted Auction \nhttp://maps.secondlife.com/secondlife/Delirium%20Breedables/224/149/21
URL:https://pottedinsl.com/event/delirium-13/2025-11-08/
LOCATION:http://maps.secondlife.com/secondlife/Delirium%20Breedables/224/149/21
END:VEVENT
BEGIN:VEVENT
DTSTART;TZID=America/Los_Angeles:20251108T160000
DTEND;TZID=America/Los_Angeles:20251108T170000
DTSTAMP:20260425T074706
CREATED:20251029T095357Z
LAST-MODIFIED:20251029T095357Z
UID:10012361-1762617600-1762621200@pottedinsl.com
SUMMARY:Celtic Mystics
DESCRIPTION:Potted Auction \nhttp://maps.secondlife.com/secondlife/Celtic/191/73/22
URL:https://pottedinsl.com/event/celtic-mystics-40/2025-11-08/
LOCATION:http://maps.secondlife.com/secondlife/Celtic/191/73/22
END:VEVENT
BEGIN:VEVENT
DTSTART;TZID=America/Los_Angeles:20251108T110000
DTEND;TZID=America/Los_Angeles:20251108T120000
DTSTAMP:20260425T074706
CREATED:20251029T094637Z
LAST-MODIFIED:20251029T094637Z
UID:10012340-1762599600-1762603200@pottedinsl.com
SUMMARY:Sweetflowers
DESCRIPTION:Potted Auction \nhttp://maps.secondlife.com/secondlife/Woodland%20Hills/208/196/26
URL:https://pottedinsl.com/event/sweetflowers-54/2025-11-08/
LOCATION:http://maps.secondlife.com/secondlife/Woodland%20Hills/208/196/26
END:VEVENT
BEGIN:VEVENT
DTSTART;TZID=America/Los_Angeles:20251107T200000
DTEND;TZID=America/Los_Angeles:20251107T210000
DTSTAMP:20260425T074706
CREATED:20251030T100811Z
LAST-MODIFIED:20251030T100811Z
UID:10012388-1762545600-1762549200@pottedinsl.com
SUMMARY:The Potted Jungle
DESCRIPTION:Potted Auction \nhttp://maps.secondlife.com/secondlife/Infinity%20Acres/65/225/21
URL:https://pottedinsl.com/event/the-potted-jungle/2025-11-07/
LOCATION:http://maps.secondlife.com/secondlife/Infinity%20Acres/65/225/21
END:VEVENT
BEGIN:VEVENT
DTSTART;TZID=America/Los_Angeles:20251107T163000
DTEND;TZID=America/Los_Angeles:20251107T173000
DTSTAMP:20260425T074706
CREATED:20251101T092915Z
LAST-MODIFIED:20251101T092915Z
UID:10012430-1762533000-1762536600@pottedinsl.com
SUMMARY:Jazzy Pots
DESCRIPTION:Potted Auction \nhttp://maps.secondlife.com/secondlife/Elston/102/229/3500
URL:https://pottedinsl.com/event/jazzy-pots-15/2025-11-07/
LOCATION:http://maps.secondlife.com/secondlife/Elston/102/229/3500
END:VEVENT
BEGIN:VEVENT
DTSTART;TZID=America/Los_Angeles:20251107T150000
DTEND;TZID=America/Los_Angeles:20251107T160000
DTSTAMP:20260425T074706
CREATED:20251102T061634Z
LAST-MODIFIED:20251102T061634Z
UID:10012469-1762527600-1762531200@pottedinsl.com
SUMMARY:Barbasz Got Potted
DESCRIPTION:Potted Auction \nhttp://maps.secondlife.com/secondlife/MOJO/50/128/22
URL:https://pottedinsl.com/event/barbasz-got-potted-81/2025-11-07/
LOCATION:http://maps.secondlife.com/secondlife/MOJO/50/128/22
END:VEVENT
BEGIN:VEVENT
DTSTART;TZID=America/Los_Angeles:20251107T130000
DTEND;TZID=America/Los_Angeles:20251107T140000
DTSTAMP:20260425T074706
CREATED:20251101T092508Z
LAST-MODIFIED:20251101T092508Z
UID:10012419-1762520400-1762524000@pottedinsl.com
SUMMARY:Rainbow Potted
DESCRIPTION:Potted Auction \nhttp://maps.secondlife.com/secondlife/Covdova/193/18/22
URL:https://pottedinsl.com/event/rainbow-potted-43/2025-11-07/
LOCATION:http://maps.secondlife.com/secondlife/Covdova/193/18/22
END:VEVENT
BEGIN:VEVENT
DTSTART;TZID=America/Los_Angeles:20251107T120000
DTEND;TZID=America/Los_Angeles:20251107T130000
DTSTAMP:20260425T074706
CREATED:20251105T084206Z
LAST-MODIFIED:20251105T084206Z
UID:10012486-1762516800-1762520400@pottedinsl.com
SUMMARY:Bakery Woods
DESCRIPTION:Potted Auction \nhttp://maps.secondlife.com/secondlife/Purple%20Rose/38/32/11
URL:https://pottedinsl.com/event/bakery-woods-55/2025-11-07/
LOCATION:http://maps.secondlife.com/secondlife/Purple%20Rose/38/32/11
END:VEVENT
BEGIN:VEVENT
DTSTART;TZID=America/Los_Angeles:20251106T200000
DTEND;TZID=America/Los_Angeles:20251106T210000
DTSTAMP:20260425T074706
CREATED:20251029T102658Z
LAST-MODIFIED:20251029T102658Z
UID:10012383-1762459200-1762462800@pottedinsl.com
SUMMARY:Soil & Soul
DESCRIPTION:Potted Auction \nhttp://maps.secondlife.com/secondlife/Silex/100/126/33
URL:https://pottedinsl.com/event/soil-soul-9/2025-11-06/
LOCATION:http://maps.secondlife.com/secondlife/Silex/100/126/33
END:VEVENT
BEGIN:VEVENT
DTSTART;TZID=America/Los_Angeles:20251106T180000
DTEND;TZID=America/Los_Angeles:20251106T190000
DTSTAMP:20260425T074706
CREATED:20251029T101905Z
LAST-MODIFIED:20251029T101905Z
UID:10012370-1762452000-1762455600@pottedinsl.com
SUMMARY:Riacats
DESCRIPTION:Potted Auction \nhttp://maps.secondlife.com/secondlife/Solarian%20Prime/63/159/25
URL:https://pottedinsl.com/event/riacats-51/2025-11-06/
LOCATION:http://maps.secondlife.com/secondlife/Solarian%20Prime/63/159/25
END:VEVENT
BEGIN:VEVENT
DTSTART;TZID=America/Los_Angeles:20251106T160000
DTEND;TZID=America/Los_Angeles:20251106T170000
DTSTAMP:20260425T074706
CREATED:20251102T060903Z
LAST-MODIFIED:20251102T060903Z
UID:10012457-1762444800-1762448400@pottedinsl.com
SUMMARY:Nest Egg
DESCRIPTION:Potted Auction \nhttp://maps.secondlife.com/secondlife/The%20Mystical%20Isle/209/211/22
URL:https://pottedinsl.com/event/nest-egg-66/2025-11-06/
LOCATION:http://maps.secondlife.com/secondlife/The%20Mystical%20Isle/209/211/22
END:VEVENT
BEGIN:VEVENT
DTSTART;TZID=America/Los_Angeles:20251106T120000
DTEND;TZID=America/Los_Angeles:20251106T130000
DTSTAMP:20260425T074706
CREATED:20251023T142049Z
LAST-MODIFIED:20251023T142049Z
UID:10012318-1762430400-1762434000@pottedinsl.com
SUMMARY:Garden of Eden
DESCRIPTION:Potted Auction \nhttp://maps.secondlife.com/secondlife/Wines/141/127/19
URL:https://pottedinsl.com/event/garden-of-eden-349/
LOCATION:http://maps.secondlife.com/secondlife/Wines/141/127/19
END:VEVENT
BEGIN:VEVENT
DTSTART;TZID=America/Los_Angeles:20251106T110000
DTEND;TZID=America/Los_Angeles:20251106T120000
DTSTAMP:20260425T074706
CREATED:20251023T144808Z
LAST-MODIFIED:20251023T144808Z
UID:10012333-1762426800-1762430400@pottedinsl.com
SUMMARY:The Secret Garden
DESCRIPTION:Potted Auction \nhttp://maps.secondlife.com/secondlife/Sweet%20Desire/211/200/44
URL:https://pottedinsl.com/event/the-secret-garden-72/2025-11-06/
LOCATION:http://maps.secondlife.com/secondlife/Sweet%20Desire/211/200/44
END:VEVENT
BEGIN:VEVENT
DTSTART;TZID=America/Los_Angeles:20251106T090000
DTEND;TZID=America/Los_Angeles:20251106T100000
DTSTAMP:20260425T074706
CREATED:20251102T060518Z
LAST-MODIFIED:20251102T060518Z
UID:10012444-1762419600-1762423200@pottedinsl.com
SUMMARY:Ganja Garden
DESCRIPTION:Potted Auction \nhttp://maps.secondlife.com/secondlife/CreditCard/74/195/3482
URL:https://pottedinsl.com/event/ganja-garden-54/2025-11-06/
LOCATION:http://maps.secondlife.com/secondlife/CreditCard/74/195/3482
END:VEVENT
BEGIN:VEVENT
DTSTART;TZID=America/Los_Angeles:20251105T164500
DTEND;TZID=America/Los_Angeles:20251105T174500
DTSTAMP:20260425T074706
CREATED:20251029T095301Z
LAST-MODIFIED:20251029T095301Z
UID:10012356-1762361100-1762364700@pottedinsl.com
SUMMARY:Celtic Mystics
DESCRIPTION:Potted Auction \nhttp://maps.secondlife.com/secondlife/Celtic/191/73/22
URL:https://pottedinsl.com/event/celtic-mystics-39/2025-11-05/
LOCATION:http://maps.secondlife.com/secondlife/Celtic/191/73/22
END:VEVENT
END:VCALENDAR