BEGIN:VCALENDAR
VERSION:2.0
PRODID:-//Potted - ECPv6.15.20//NONSGML v1.0//EN
CALSCALE:GREGORIAN
METHOD:PUBLISH
X-ORIGINAL-URL:https://pottedinsl.com
X-WR-CALDESC:Events for Potted
REFRESH-INTERVAL;VALUE=DURATION:PT1H
X-Robots-Tag:noindex
X-PUBLISHED-TTL:PT1H
BEGIN:VTIMEZONE
TZID:America/Los_Angeles
BEGIN:DAYLIGHT
TZOFFSETFROM:-0800
TZOFFSETTO:-0700
TZNAME:PDT
DTSTART:20250309T100000
END:DAYLIGHT
BEGIN:STANDARD
TZOFFSETFROM:-0700
TZOFFSETTO:-0800
TZNAME:PST
DTSTART:20251102T090000
END:STANDARD
BEGIN:DAYLIGHT
TZOFFSETFROM:-0800
TZOFFSETTO:-0700
TZNAME:PDT
DTSTART:20260308T100000
END:DAYLIGHT
BEGIN:STANDARD
TZOFFSETFROM:-0700
TZOFFSETTO:-0800
TZNAME:PST
DTSTART:20261101T090000
END:STANDARD
BEGIN:DAYLIGHT
TZOFFSETFROM:-0800
TZOFFSETTO:-0700
TZNAME:PDT
DTSTART:20270314T100000
END:DAYLIGHT
BEGIN:STANDARD
TZOFFSETFROM:-0700
TZOFFSETTO:-0800
TZNAME:PST
DTSTART:20271107T090000
END:STANDARD
END:VTIMEZONE
BEGIN:VEVENT
DTSTART;TZID=America/Los_Angeles:20260115T090000
DTEND;TZID=America/Los_Angeles:20260115T100000
DTSTAMP:20260420T192413
CREATED:20260102T143754Z
LAST-MODIFIED:20260102T143754Z
UID:10012847-1768467600-1768471200@pottedinsl.com
SUMMARY:Ganja Garden
DESCRIPTION:Potted Auction \nhttp://maps.secondlife.com/secondlife/CreditCard/74/195/3482
URL:https://pottedinsl.com/event/ganja-garden-60/2026-01-15/
LOCATION:http://maps.secondlife.com/secondlife/CreditCard/74/195/3482
END:VEVENT
BEGIN:VEVENT
DTSTART;TZID=America/Los_Angeles:20260115T090000
DTEND;TZID=America/Los_Angeles:20260115T100000
DTSTAMP:20260420T192413
CREATED:20260115T054648Z
LAST-MODIFIED:20260115T054648Z
UID:10012927-1768467600-1768471200@pottedinsl.com
SUMMARY:SIM BENEFIT POT
DESCRIPTION:Potted Auction to include the Sim Benefit pot Sally at Ganja Garden \nhttp://maps.secondlife.com/secondlife/CreditCard/74/195/3482
URL:https://pottedinsl.com/event/sim-benefit-pot-712/
LOCATION:http://maps.secondlife.com/secondlife/CreditCard/74/195/3482
END:VEVENT
BEGIN:VEVENT
DTSTART;TZID=America/Los_Angeles:20260115T090000
DTEND;TZID=America/Los_Angeles:20260117T090000
DTSTAMP:20260420T192413
CREATED:20260112T132646Z
LAST-MODIFIED:20260112T132646Z
UID:10012907-1768467600-1768640400@pottedinsl.com
SUMMARY:SIM BENEFIT POT
DESCRIPTION:Bid board offering the Sim Benefit pot  LE Spriggle Snail Succulent Pot – Sammy at Braxton Flowers \nhttp://maps.secondlife.com/secondlife/Firanelli%20Estates/59/47/77
URL:https://pottedinsl.com/event/sim-benefit-pot-692/
LOCATION:http://maps.secondlife.com/secondlife/Firanelli%20Estates/59/47/77
END:VEVENT
BEGIN:VEVENT
DTSTART;TZID=America/Los_Angeles:20260115T110000
DTEND;TZID=America/Los_Angeles:20260115T120000
DTSTAMP:20260420T192413
CREATED:20251231T092941Z
LAST-MODIFIED:20251231T092941Z
UID:10012741-1768474800-1768478400@pottedinsl.com
SUMMARY:Braxton Flowers
DESCRIPTION:Potted Auction \nhttp://maps.secondlife.com/secondlife/Firanelli%20Estates/89/56/76
URL:https://pottedinsl.com/event/braxton-flowers-7/2026-01-15/
LOCATION:http://maps.secondlife.com/secondlife/Firanelli%20Estates/89/56/76
END:VEVENT
BEGIN:VEVENT
DTSTART;TZID=America/Los_Angeles:20260115T120000
DTEND;TZID=America/Los_Angeles:20260115T130000
DTSTAMP:20260420T192413
CREATED:20260112T131650Z
LAST-MODIFIED:20260112T131650Z
UID:10012900-1768478400-1768482000@pottedinsl.com
SUMMARY:SIM BENEFIT POT
DESCRIPTION:Potted Auction to include the Sim Benefit pot LE Spriggle Snail Succulent Pot – Salley at GOE \nhttp://maps.secondlife.com/secondlife/Wines/122/123/19
URL:https://pottedinsl.com/event/sim-benefit-pot-687/
LOCATION:http://maps.secondlife.com/secondlife/Wines/122/123/19
END:VEVENT
BEGIN:VEVENT
DTSTART;TZID=America/Los_Angeles:20260115T160000
DTEND;TZID=America/Los_Angeles:20260115T170000
DTSTAMP:20260420T192413
CREATED:20260103T081303Z
LAST-MODIFIED:20260103T081303Z
UID:10012868-1768492800-1768496400@pottedinsl.com
SUMMARY:Nest Egg
DESCRIPTION:Potted Auction \nhttp://maps.secondlife.com/secondlife/The%20Mystical%20Isle/209/211/22
URL:https://pottedinsl.com/event/nest-egg-73/2026-01-15/
LOCATION:http://maps.secondlife.com/secondlife/The%20Mystical%20Isle/209/211/22
END:VEVENT
BEGIN:VEVENT
DTSTART;TZID=America/Los_Angeles:20260115T160000
DTEND;TZID=America/Los_Angeles:20260115T170000
DTSTAMP:20260420T192413
CREATED:20260115T055458Z
LAST-MODIFIED:20260115T055458Z
UID:10012931-1768492800-1768496400@pottedinsl.com
SUMMARY:SIM BENEFIT POT
DESCRIPTION:Potted Auction to include the Sim Benefit pot Sally at Nest Egg \nhttp://maps.secondlife.com/secondlife/The%20Mystical%20Isle/209/211/22
URL:https://pottedinsl.com/event/sim-benefit-pot-716/
LOCATION:http://maps.secondlife.com/secondlife/The%20Mystical%20Isle/209/211/22
END:VEVENT
BEGIN:VEVENT
DTSTART;TZID=America/Los_Angeles:20260115T180000
DTEND;TZID=America/Los_Angeles:20260115T190000
DTSTAMP:20260420T192413
CREATED:20260112T141816Z
LAST-MODIFIED:20260112T141816Z
UID:10012915-1768500000-1768503600@pottedinsl.com
SUMMARY:SIM BENEFIT POT
DESCRIPTION:Potted Auction to include the Sim Benefit pot LE Spriggle Snail Succulent Pot – Salley at Riacats \nhttp://maps.secondlife.com/secondlife/Solarian%20Prime/63/159/25
URL:https://pottedinsl.com/event/sim-benefit-pot-700/
LOCATION:http://maps.secondlife.com/secondlife/Solarian%20Prime/63/159/25
END:VEVENT
BEGIN:VEVENT
DTSTART;TZID=America/Los_Angeles:20260115T200000
DTEND;TZID=America/Los_Angeles:20260115T210000
DTSTAMP:20260420T192413
CREATED:20260102T140004Z
LAST-MODIFIED:20260102T140004Z
UID:10012815-1768507200-1768510800@pottedinsl.com
SUMMARY:Soil & Soul
DESCRIPTION:Potted Auction \nhttp://maps.secondlife.com/secondlife/Silex/100/126/33
URL:https://pottedinsl.com/event/soil-soul-15/2026-01-15/
LOCATION:http://maps.secondlife.com/secondlife/Silex/100/126/33
END:VEVENT
BEGIN:VEVENT
DTSTART;TZID=America/Los_Angeles:20260116T060000
DTEND;TZID=America/Los_Angeles:20260119T210000
DTSTAMP:20260420T192413
CREATED:20260113T144512Z
LAST-MODIFIED:20260113T144512Z
UID:10012925-1768543200-1768856400@pottedinsl.com
SUMMARY:SIM BENEFIT POT
DESCRIPTION:Bid board offering the Sim Benefit pot LE Spriggle Snail Succulent Pot – Salley at Delirium \nhttp://maps.secondlife.com/secondlife/Delirium%20Breedables/247/133/23
URL:https://pottedinsl.com/event/sim-benefit-pot-710/
LOCATION:http://maps.secondlife.com/secondlife/Delirium%20Breedables/247/133/23
END:VEVENT
BEGIN:VEVENT
DTSTART;TZID=America/Los_Angeles:20260116T110000
DTEND;TZID=America/Los_Angeles:20260116T120000
DTSTAMP:20260420T192413
CREATED:20251231T095952Z
LAST-MODIFIED:20251231T095952Z
UID:10012784-1768561200-1768564800@pottedinsl.com
SUMMARY:Charmed
DESCRIPTION:Potted Auction \nhttp://maps.secondlife.com/secondlife/Noctura/124/49/27
URL:https://pottedinsl.com/event/charmed-9/2026-01-16/
LOCATION:http://maps.secondlife.com/secondlife/Noctura/124/49/27
END:VEVENT
BEGIN:VEVENT
DTSTART;TZID=America/Los_Angeles:20260116T120000
DTEND;TZID=America/Los_Angeles:20260116T130000
DTSTAMP:20260420T192413
CREATED:20251231T112421Z
LAST-MODIFIED:20251231T112421Z
UID:10012794-1768564800-1768568400@pottedinsl.com
SUMMARY:Bakery Woods
DESCRIPTION:Potted Auction \nhttp://maps.secondlife.com/secondlife/Purple%20Rose/38/32/11
URL:https://pottedinsl.com/event/bakery-woods-61/2026-01-16/
LOCATION:http://maps.secondlife.com/secondlife/Purple%20Rose/38/32/11
END:VEVENT
BEGIN:VEVENT
DTSTART;TZID=America/Los_Angeles:20260116T120000
DTEND;TZID=America/Los_Angeles:20260116T130000
DTSTAMP:20260420T192413
CREATED:20260112T143228Z
LAST-MODIFIED:20260112T143228Z
UID:10012919-1768564800-1768568400@pottedinsl.com
SUMMARY:SIM BENEFIT POT
DESCRIPTION:Potted Auction to include the Sim Benefit pot LE Spriggle Snail Succulent Pot – Sammy at Bakery Woods \nhttp://maps.secondlife.com/secondlife/Purple%20Rose/21/33/11
URL:https://pottedinsl.com/event/sim-benefit-pot-704/
LOCATION:http://maps.secondlife.com/secondlife/Purple%20Rose/21/33/11
END:VEVENT
BEGIN:VEVENT
DTSTART;TZID=America/Los_Angeles:20260116T120000
DTEND;TZID=America/Los_Angeles:20260118T120000
DTSTAMP:20260420T192413
CREATED:20260113T141409Z
LAST-MODIFIED:20260113T141409Z
UID:10012921-1768564800-1768737600@pottedinsl.com
SUMMARY:SIM BENEFIT POT
DESCRIPTION:Bid board offering the Sim Benefit pot LE Spriggle Snail Succulent Pot – Sammy at Amore d’Potted \nhttp://maps.secondlife.com/secondlife/Passions/208/147/21
URL:https://pottedinsl.com/event/sim-benefit-pot-706/
LOCATION:http://maps.secondlife.com/secondlife/Passions/208/147/21
END:VEVENT
BEGIN:VEVENT
DTSTART;TZID=America/Los_Angeles:20260116T130000
DTEND;TZID=America/Los_Angeles:20260116T140000
DTSTAMP:20260420T192413
CREATED:20251231T095531Z
LAST-MODIFIED:20251231T095531Z
UID:10012771-1768568400-1768572000@pottedinsl.com
SUMMARY:Rainbow Potted
DESCRIPTION:Potted Auction \nhttp://maps.secondlife.com/secondlife/Covdova/193/18/22
URL:https://pottedinsl.com/event/rainbow-potted-47/2026-01-16/
LOCATION:http://maps.secondlife.com/secondlife/Covdova/193/18/22
END:VEVENT
BEGIN:VEVENT
DTSTART;TZID=America/Los_Angeles:20260116T140000
DTEND;TZID=America/Los_Angeles:20260116T150000
DTSTAMP:20260420T192413
CREATED:20260103T080955Z
LAST-MODIFIED:20260103T080955Z
UID:10012860-1768572000-1768575600@pottedinsl.com
SUMMARY:Potted Jungle
DESCRIPTION:Potted Auction \nhttp://maps.secondlife.com/secondlife/Infinity%20Acres/104/190/24
URL:https://pottedinsl.com/event/potted-jungle/2026-01-16/
LOCATION:http://maps.secondlife.com/secondlife/Infinity%20Acres/104/190/24
END:VEVENT
BEGIN:VEVENT
DTSTART;TZID=America/Los_Angeles:20260116T150000
DTEND;TZID=America/Los_Angeles:20260116T160000
DTSTAMP:20260420T192413
CREATED:20260102T135519Z
LAST-MODIFIED:20260102T135519Z
UID:10012803-1768575600-1768579200@pottedinsl.com
SUMMARY:Barbasz Got Potted
DESCRIPTION:Potted Auction \nhttp://maps.secondlife.com/secondlife/MOJO/50/128/22
URL:https://pottedinsl.com/event/barbasz-got-potted-86/2026-01-16/
LOCATION:http://maps.secondlife.com/secondlife/MOJO/50/128/22
END:VEVENT
BEGIN:VEVENT
DTSTART;TZID=America/Los_Angeles:20260116T153000
DTEND;TZID=America/Los_Angeles:20260116T160000
DTSTAMP:20260420T192413
CREATED:20260113T142537Z
LAST-MODIFIED:20260113T142537Z
UID:10012923-1768577400-1768579200@pottedinsl.com
SUMMARY:SIM BENEFIT POT
DESCRIPTION:Potted Auction to include the Sim Benefit pot LE Spriggle Snail Succulent Pot – Salley at Barbasz \nhttp://maps.secondlife.com/secondlife/MOJO/50/128/22
URL:https://pottedinsl.com/event/sim-benefit-pot-708/
LOCATION:http://maps.secondlife.com/secondlife/MOJO/50/128/22
END:VEVENT
BEGIN:VEVENT
DTSTART;TZID=America/Los_Angeles:20260116T163000
DTEND;TZID=America/Los_Angeles:20260116T173000
DTSTAMP:20260420T192413
CREATED:20260105T090617Z
LAST-MODIFIED:20260105T090617Z
UID:10012890-1768581000-1768584600@pottedinsl.com
SUMMARY:Jazzy Pots
DESCRIPTION:Potted Auction \nhttp://maps.secondlife.com/secondlife/Elston/102/229/3500
URL:https://pottedinsl.com/event/jazzy-pots-21/2026-01-16/
LOCATION:http://maps.secondlife.com/secondlife/Elston/102/229/3500
END:VEVENT
BEGIN:VEVENT
DTSTART;TZID=America/Los_Angeles:20260117T110000
DTEND;TZID=America/Los_Angeles:20260117T120000
DTSTAMP:20260420T192413
CREATED:20260102T142319Z
LAST-MODIFIED:20260102T142319Z
UID:10012839-1768647600-1768651200@pottedinsl.com
SUMMARY:Sweetflowers
DESCRIPTION:Potted Auction \nhttp://maps.secondlife.com/secondlife/Woodland%20Hills/208/196/26
URL:https://pottedinsl.com/event/sweetflowers-62/2026-01-17/
LOCATION:http://maps.secondlife.com/secondlife/Woodland%20Hills/208/196/26
END:VEVENT
BEGIN:VEVENT
DTSTART;TZID=America/Los_Angeles:20260117T110000
DTEND;TZID=America/Los_Angeles:20260117T120000
DTSTAMP:20260420T192413
CREATED:20260112T131950Z
LAST-MODIFIED:20260112T131950Z
UID:10012902-1768647600-1768651200@pottedinsl.com
SUMMARY:SIM BENEFIT POT
DESCRIPTION:Potted Auction to include the Sim Benefit pot LE Spriggle Snail Succulent Pot – Salley at Sweetflowers \nhttp://maps.secondlife.com/secondlife/Woodland%20Hills/216/194/26
URL:https://pottedinsl.com/event/sim-benefit-pot-689/
LOCATION:http://maps.secondlife.com/secondlife/Woodland%20Hills/216/194/26
END:VEVENT
BEGIN:VEVENT
DTSTART;TZID=America/Los_Angeles:20260117T120000
DTEND;TZID=America/Los_Angeles:20260117T130000
DTSTAMP:20260420T192413
CREATED:20260103T081415Z
LAST-MODIFIED:20260103T081415Z
UID:10012872-1768651200-1768654800@pottedinsl.com
SUMMARY:Nest Egg
DESCRIPTION:Potted Auction \nhttp://maps.secondlife.com/secondlife/The%20Mystical%20Isle/209/211/22
URL:https://pottedinsl.com/event/nest-egg-74/2026-01-17/
LOCATION:http://maps.secondlife.com/secondlife/The%20Mystical%20Isle/209/211/22
END:VEVENT
BEGIN:VEVENT
DTSTART;TZID=America/Los_Angeles:20260117T130000
DTEND;TZID=America/Los_Angeles:20260117T140000
DTSTAMP:20260420T192413
CREATED:20260112T131350Z
LAST-MODIFIED:20260112T131350Z
UID:10012894-1768654800-1768658400@pottedinsl.com
SUMMARY:PWP
DESCRIPTION:Potted Auction \nhttp://maps.secondlife.com/secondlife/Stalkers%20Allowed/128/179/21
URL:https://pottedinsl.com/event/pwp-2/2026-01-17/
LOCATION:http://maps.secondlife.com/secondlife/Stalkers%20Allowed/128/179/21
END:VEVENT
BEGIN:VEVENT
DTSTART;TZID=America/Los_Angeles:20260117T130000
DTEND;TZID=America/Los_Angeles:20260117T140000
DTSTAMP:20260420T192413
CREATED:20260112T140012Z
LAST-MODIFIED:20260112T140012Z
UID:10012911-1768654800-1768658400@pottedinsl.com
SUMMARY:SIM BENEFIT POT
DESCRIPTION:Potted Auction to include the Sim Benefit pot LE Spriggle Snail Succulent Pot – Salley at PWP \nhttp://maps.secondlife.com/secondlife/Stalkers%20Allowed/128/179/21
URL:https://pottedinsl.com/event/sim-benefit-pot-696/
LOCATION:http://maps.secondlife.com/secondlife/Stalkers%20Allowed/128/179/21
END:VEVENT
BEGIN:VEVENT
DTSTART;TZID=America/Los_Angeles:20260117T160000
DTEND;TZID=America/Los_Angeles:20260117T170000
DTSTAMP:20260420T192413
CREATED:20260102T144329Z
LAST-MODIFIED:20260104T020659Z
UID:10012878-1768665600-1768669200@pottedinsl.com
SUMMARY:Celtic Mystics
DESCRIPTION:Potted Auction \nhttp://maps.secondlife.com/secondlife/Celtic/190/73/22
URL:https://pottedinsl.com/event/celtic-mystics-44/2026-01-17/
LOCATION:http://maps.secondlife.com/secondlife/Celtic/190/73/22
END:VEVENT
BEGIN:VEVENT
DTSTART;TZID=America/Los_Angeles:20260117T160000
DTEND;TZID=America/Los_Angeles:20260117T170000
DTSTAMP:20260420T192413
CREATED:20260115T055005Z
LAST-MODIFIED:20260115T055005Z
UID:10012929-1768665600-1768669200@pottedinsl.com
SUMMARY:SIM BENEFIT POT
DESCRIPTION:Potted Auction to include the Sim Benefit pot LE Spriggle Snail Succulent Pot – Salley at Celtic Mystics \nhttp://maps.secondlife.com/secondlife/Celtic/183/72/22
URL:https://pottedinsl.com/event/sim-benefit-pot-714/
LOCATION:http://maps.secondlife.com/secondlife/Celtic/183/72/22
END:VEVENT
BEGIN:VEVENT
DTSTART;TZID=America/Los_Angeles:20260117T170000
DTEND;TZID=America/Los_Angeles:20260117T180000
DTSTAMP:20260420T192413
CREATED:20251231T095154Z
LAST-MODIFIED:20251231T095154Z
UID:10012762-1768669200-1768672800@pottedinsl.com
SUMMARY:Delirium
DESCRIPTION:Potted Auction \nhttp://maps.secondlife.com/secondlife/Delirium%20Breedables/231/131/21
URL:https://pottedinsl.com/event/delirium-15/2026-01-17/
LOCATION:http://maps.secondlife.com/secondlife/Delirium%20Breedables/231/131/21
END:VEVENT
BEGIN:VEVENT
DTSTART;TZID=America/Los_Angeles:20260118T060000
DTEND;TZID=America/Los_Angeles:20260120T060000
DTSTAMP:20260420T192413
CREATED:20260112T142840Z
LAST-MODIFIED:20260112T142840Z
UID:10012917-1768716000-1768888800@pottedinsl.com
SUMMARY:SIM BENEFIT POT
DESCRIPTION:Bid board offering the Sim Benefit pot LE Spriggle Snail Succulent pot – Salley at Potted Plant Mile \nhttp://maps.secondlife.com/secondlife/Euphoria/98/24/967
URL:https://pottedinsl.com/event/sim-benefit-pot-702/
LOCATION:http://maps.secondlife.com/secondlife/Euphoria/98/24/967
END:VEVENT
BEGIN:VEVENT
DTSTART;TZID=America/Los_Angeles:20260118T110000
DTEND;TZID=America/Los_Angeles:20260118T120000
DTSTAMP:20260420T192413
CREATED:20260103T081835Z
LAST-MODIFIED:20260103T081835Z
UID:10012876-1768734000-1768737600@pottedinsl.com
SUMMARY:Claudia & Co
DESCRIPTION:Potted Auction \nhttp://maps.secondlife.com/secondlife/Eternal%20Flames/201/91/25
URL:https://pottedinsl.com/event/claudia-co-24/2026-01-18/
LOCATION:http://maps.secondlife.com/secondlife/Eternal%20Flames/201/91/25
END:VEVENT
BEGIN:VEVENT
DTSTART;TZID=America/Los_Angeles:20260118T110000
DTEND;TZID=America/Los_Angeles:20260118T120000
DTSTAMP:20260420T192413
CREATED:20260118T061508Z
LAST-MODIFIED:20260118T061508Z
UID:10012935-1768734000-1768737600@pottedinsl.com
SUMMARY:SIM BENEFIT POT
DESCRIPTION:Potted Auction to include the Sim Benefit pot LE Spriggle Snail Succulent Pot – Salley at Claudia & Co \nhttp://maps.secondlife.com/secondlife/Eternal%20Flames/201/91/25
URL:https://pottedinsl.com/event/sim-benefit-pot-720/
LOCATION:http://maps.secondlife.com/secondlife/Eternal%20Flames/201/91/25
END:VEVENT
END:VCALENDAR