BEGIN:VCALENDAR
VERSION:2.0
PRODID:-//Potted - ECPv6.15.20//NONSGML v1.0//EN
CALSCALE:GREGORIAN
METHOD:PUBLISH
X-ORIGINAL-URL:https://pottedinsl.com
X-WR-CALDESC:Events for Potted
REFRESH-INTERVAL;VALUE=DURATION:PT1H
X-Robots-Tag:noindex
X-PUBLISHED-TTL:PT1H
BEGIN:VTIMEZONE
TZID:America/Los_Angeles
BEGIN:DAYLIGHT
TZOFFSETFROM:-0800
TZOFFSETTO:-0700
TZNAME:PDT
DTSTART:20250309T100000
END:DAYLIGHT
BEGIN:STANDARD
TZOFFSETFROM:-0700
TZOFFSETTO:-0800
TZNAME:PST
DTSTART:20251102T090000
END:STANDARD
BEGIN:DAYLIGHT
TZOFFSETFROM:-0800
TZOFFSETTO:-0700
TZNAME:PDT
DTSTART:20260308T100000
END:DAYLIGHT
BEGIN:STANDARD
TZOFFSETFROM:-0700
TZOFFSETTO:-0800
TZNAME:PST
DTSTART:20261101T090000
END:STANDARD
BEGIN:DAYLIGHT
TZOFFSETFROM:-0800
TZOFFSETTO:-0700
TZNAME:PDT
DTSTART:20270314T100000
END:DAYLIGHT
BEGIN:STANDARD
TZOFFSETFROM:-0700
TZOFFSETTO:-0800
TZNAME:PST
DTSTART:20271107T090000
END:STANDARD
END:VTIMEZONE
BEGIN:VEVENT
DTSTART;TZID=America/Los_Angeles:20260112T110000
DTEND;TZID=America/Los_Angeles:20260112T120000
DTSTAMP:20260420T131012
CREATED:20251231T095719Z
LAST-MODIFIED:20251231T095719Z
UID:10012775-1768215600-1768219200@pottedinsl.com
SUMMARY:Charmed
DESCRIPTION:Potted Auction \nhttp://maps.secondlife.com/secondlife/Noctura/124/49/27
URL:https://pottedinsl.com/event/charmed-7/2026-01-12/
LOCATION:http://maps.secondlife.com/secondlife/Noctura/124/49/27
END:VEVENT
BEGIN:VEVENT
DTSTART;TZID=America/Los_Angeles:20260112T120000
DTEND;TZID=America/Los_Angeles:20260112T130000
DTSTAMP:20260420T131012
CREATED:20260102T140954Z
LAST-MODIFIED:20260102T140954Z
UID:10012821-1768219200-1768222800@pottedinsl.com
SUMMARY:GOE
DESCRIPTION:Potted Auction \nhttp://maps.secondlife.com/secondlife/Wines/141/127/20
URL:https://pottedinsl.com/event/goe-11/
LOCATION:http://maps.secondlife.com/secondlife/Wines/141/127/20
END:VEVENT
BEGIN:VEVENT
DTSTART;TZID=America/Los_Angeles:20260112T133000
DTEND;TZID=America/Los_Angeles:20260112T143000
DTSTAMP:20260420T131012
CREATED:20251231T112130Z
LAST-MODIFIED:20251231T112130Z
UID:10012787-1768224600-1768228200@pottedinsl.com
SUMMARY:Bakery Woods
DESCRIPTION:Potted Auction \nhttp://maps.secondlife.com/secondlife/Purple%20Rose/38/32/11
URL:https://pottedinsl.com/event/bakery-woods-59/2026-01-12/
LOCATION:http://maps.secondlife.com/secondlife/Purple%20Rose/38/32/11
END:VEVENT
BEGIN:VEVENT
DTSTART;TZID=America/Los_Angeles:20260112T143000
DTEND;TZID=America/Los_Angeles:20260112T153000
DTSTAMP:20260420T131012
CREATED:20260102T142049Z
LAST-MODIFIED:20260102T142049Z
UID:10012830-1768228200-1768231800@pottedinsl.com
SUMMARY:Sweetflowers
DESCRIPTION:Potted Auction \nhttp://maps.secondlife.com/secondlife/Woodland%20Hills/208/196/26
URL:https://pottedinsl.com/event/sweetflowers-60/2026-01-12/
LOCATION:http://maps.secondlife.com/secondlife/Woodland%20Hills/208/196/26
END:VEVENT
BEGIN:VEVENT
DTSTART;TZID=America/Los_Angeles:20260112T170000
DTEND;TZID=America/Los_Angeles:20260112T180000
DTSTAMP:20260420T131012
CREATED:20260105T090316Z
LAST-MODIFIED:20260105T090316Z
UID:10012882-1768237200-1768240800@pottedinsl.com
SUMMARY:Jazzy Pots
DESCRIPTION:Potted Auction \nhttp://maps.secondlife.com/secondlife/Elston/102/229/3500
URL:https://pottedinsl.com/event/jazzy-pots-19/2026-01-12/
LOCATION:http://maps.secondlife.com/secondlife/Elston/102/229/3500
END:VEVENT
BEGIN:VEVENT
DTSTART;TZID=America/Los_Angeles:20260112T180000
DTEND;TZID=America/Los_Angeles:20260112T190000
DTSTAMP:20260420T131012
CREATED:20260112T012829Z
LAST-MODIFIED:20260112T012829Z
UID:10012749-1768240800-1768244400@pottedinsl.com
SUMMARY:Riacats
DESCRIPTION:Potted Auction \nhttp://maps.secondlife.com/secondlife/Solarian%20Prime/63/159/25
URL:https://pottedinsl.com/event/riacats-60-2/
LOCATION:http://maps.secondlife.com/secondlife/Solarian%20Prime/63/159/25
END:VEVENT
BEGIN:VEVENT
DTSTART;TZID=America/Los_Angeles:20260112T200000
DTEND;TZID=America/Los_Angeles:20260112T210000
DTSTAMP:20260420T131012
CREATED:20260102T135724Z
LAST-MODIFIED:20260102T135724Z
UID:10012807-1768248000-1768251600@pottedinsl.com
SUMMARY:Soil & Soul
DESCRIPTION:Potted Auction \nhttp://maps.secondlife.com/secondlife/Silex/100/126/33
URL:https://pottedinsl.com/event/soil-soul-13/2026-01-12/
LOCATION:http://maps.secondlife.com/secondlife/Silex/100/126/33
END:VEVENT
BEGIN:VEVENT
DTSTART;TZID=America/Los_Angeles:20260113T090000
DTEND;TZID=America/Los_Angeles:20260113T100000
DTSTAMP:20260420T131012
CREATED:20260102T143630Z
LAST-MODIFIED:20260102T143630Z
UID:10012843-1768294800-1768298400@pottedinsl.com
SUMMARY:Ganja Garden
DESCRIPTION:Potted Auction \nhttp://maps.secondlife.com/secondlife/CreditCard/74/195/3482
URL:https://pottedinsl.com/event/ganja-garden-59/2026-01-13/
LOCATION:http://maps.secondlife.com/secondlife/CreditCard/74/195/3482
END:VEVENT
BEGIN:VEVENT
DTSTART;TZID=America/Los_Angeles:20260113T110000
DTEND;TZID=America/Los_Angeles:20260113T120000
DTSTAMP:20260420T131012
CREATED:20251231T095404Z
LAST-MODIFIED:20251231T095404Z
UID:10012766-1768302000-1768305600@pottedinsl.com
SUMMARY:Rainbow Potted
DESCRIPTION:Potted Auction \nhttp://maps.secondlife.com/secondlife/Covdova/193/18/22
URL:https://pottedinsl.com/event/rainbow-potted-46/2026-01-13/
LOCATION:http://maps.secondlife.com/secondlife/Covdova/193/18/22
END:VEVENT
BEGIN:VEVENT
DTSTART;TZID=America/Los_Angeles:20260113T120000
DTEND;TZID=America/Los_Angeles:20260113T130000
DTSTAMP:20260420T131012
CREATED:20251231T112251Z
LAST-MODIFIED:20251231T112251Z
UID:10012790-1768305600-1768309200@pottedinsl.com
SUMMARY:Bakery Woods
DESCRIPTION:Potted Auction \nhttp://maps.secondlife.com/secondlife/Purple%20Rose/38/32/11
URL:https://pottedinsl.com/event/bakery-woods-60/2026-01-13/
LOCATION:http://maps.secondlife.com/secondlife/Purple%20Rose/38/32/11
END:VEVENT
BEGIN:VEVENT
DTSTART;TZID=America/Los_Angeles:20260113T140000
DTEND;TZID=America/Los_Angeles:20260113T150000
DTSTAMP:20260420T131012
CREATED:20251231T095831Z
LAST-MODIFIED:20251231T095831Z
UID:10012779-1768312800-1768316400@pottedinsl.com
SUMMARY:Charmed
DESCRIPTION:Potted Auction \nhttp://maps.secondlife.com/secondlife/Noctura/124/49/27
URL:https://pottedinsl.com/event/charmed-8/2026-01-13/
LOCATION:http://maps.secondlife.com/secondlife/Noctura/124/49/27
END:VEVENT
BEGIN:VEVENT
DTSTART;TZID=America/Los_Angeles:20260113T150000
DTEND;TZID=America/Los_Angeles:20260113T160000
DTSTAMP:20260420T131012
CREATED:20260105T090433Z
LAST-MODIFIED:20260105T090433Z
UID:10012886-1768316400-1768320000@pottedinsl.com
SUMMARY:Jazzy Pots
DESCRIPTION:Potted Auction \nhttp://maps.secondlife.com/secondlife/Elston/102/229/3500
URL:https://pottedinsl.com/event/jazzy-pots-20/2026-01-13/
LOCATION:http://maps.secondlife.com/secondlife/Elston/102/229/3500
END:VEVENT
BEGIN:VEVENT
DTSTART;TZID=America/Los_Angeles:20260113T160000
DTEND;TZID=America/Los_Angeles:20260113T170000
DTSTAMP:20260420T131012
CREATED:20251231T093126Z
LAST-MODIFIED:20251231T093126Z
UID:10012745-1768320000-1768323600@pottedinsl.com
SUMMARY:The Secret Garden
DESCRIPTION:Potted Auction \nhttp://maps.secondlife.com/secondlife/Sweet%20Desire/211/198/44
URL:https://pottedinsl.com/event/the-secret-garden-74/2026-01-13/
LOCATION:http://maps.secondlife.com/secondlife/Sweet%20Desire/211/198/44
END:VEVENT
BEGIN:VEVENT
DTSTART;TZID=America/Los_Angeles:20260113T180000
DTEND;TZID=America/Los_Angeles:20260113T190000
DTSTAMP:20260420T131012
CREATED:20251231T094253Z
LAST-MODIFIED:20251231T094253Z
UID:10012752-1768327200-1768330800@pottedinsl.com
SUMMARY:Riacats
DESCRIPTION:Potted Auction \nhttp://maps.secondlife.com/secondlife/Solarian%20Prime/63/159/25
URL:https://pottedinsl.com/event/riacats-61/2026-01-13/
LOCATION:http://maps.secondlife.com/secondlife/Solarian%20Prime/63/159/25
END:VEVENT
BEGIN:VEVENT
DTSTART;TZID=America/Los_Angeles:20260113T200000
DTEND;TZID=America/Los_Angeles:20260113T210000
DTSTAMP:20260420T131012
CREATED:20260102T135848Z
LAST-MODIFIED:20260102T135848Z
UID:10012811-1768334400-1768338000@pottedinsl.com
SUMMARY:Soil & Soul
DESCRIPTION:Potted Auction \nhttp://maps.secondlife.com/secondlife/Silex/100/126/33
URL:https://pottedinsl.com/event/soil-soul-14/2026-01-13/
LOCATION:http://maps.secondlife.com/secondlife/Silex/100/126/33
END:VEVENT
BEGIN:VEVENT
DTSTART;TZID=America/Los_Angeles:20260114T090000
DTEND;TZID=America/Los_Angeles:20260114T100000
DTSTAMP:20260420T131012
CREATED:20260102T141114Z
LAST-MODIFIED:20260102T141114Z
UID:10012822-1768381200-1768384800@pottedinsl.com
SUMMARY:GOE
DESCRIPTION:Potted Auction \nhttp://maps.secondlife.com/secondlife/Wines/141/127/20
URL:https://pottedinsl.com/event/goe-12/
LOCATION:http://maps.secondlife.com/secondlife/Wines/141/127/20
END:VEVENT
BEGIN:VEVENT
DTSTART;TZID=America/Los_Angeles:20260114T110000
DTEND;TZID=America/Los_Angeles:20260114T120000
DTSTAMP:20260420T131012
CREATED:20260102T142201Z
LAST-MODIFIED:20260102T142201Z
UID:10012834-1768388400-1768392000@pottedinsl.com
SUMMARY:Sweetflowers
DESCRIPTION:Potted Auction \nhttp://maps.secondlife.com/secondlife/Woodland%20Hills/208/196/26
URL:https://pottedinsl.com/event/sweetflowers-61/2026-01-14/
LOCATION:http://maps.secondlife.com/secondlife/Woodland%20Hills/208/196/26
END:VEVENT
BEGIN:VEVENT
DTSTART;TZID=America/Los_Angeles:20260114T120000
DTEND;TZID=America/Los_Angeles:20260114T130000
DTSTAMP:20260420T131012
CREATED:20260103T081157Z
LAST-MODIFIED:20260103T081157Z
UID:10012864-1768392000-1768395600@pottedinsl.com
SUMMARY:Nest Egg
DESCRIPTION:Potted Auction \nhttp://maps.secondlife.com/secondlife/The%20Mystical%20Isle/209/211/22
URL:https://pottedinsl.com/event/nest-egg-72/2026-01-14/
LOCATION:http://maps.secondlife.com/secondlife/The%20Mystical%20Isle/209/211/22
END:VEVENT
BEGIN:VEVENT
DTSTART;TZID=America/Los_Angeles:20260114T153000
DTEND;TZID=America/Los_Angeles:20260114T163000
DTSTAMP:20260420T131013
CREATED:20260102T135350Z
LAST-MODIFIED:20260102T135350Z
UID:10012798-1768404600-1768408200@pottedinsl.com
SUMMARY:Barbasz Got Potted
DESCRIPTION:Potted Auction \nhttp://maps.secondlife.com/secondlife/MOJO/50/128/22
URL:https://pottedinsl.com/event/barbasz-got-potted-85/2026-01-14/
LOCATION:http://maps.secondlife.com/secondlife/MOJO/50/128/22
END:VEVENT
BEGIN:VEVENT
DTSTART;TZID=America/Los_Angeles:20260114T164500
DTEND;TZID=America/Los_Angeles:20260114T174500
DTSTAMP:20260420T131013
CREATED:20260102T144230Z
LAST-MODIFIED:20260102T144230Z
UID:10012855-1768409100-1768412700@pottedinsl.com
SUMMARY:Celtic Mystics
DESCRIPTION:Potted Auction \nhttp://maps.secondlife.com/secondlife/Celtic/190/73/22
URL:https://pottedinsl.com/event/celtic-mystics-43/2026-01-14/
LOCATION:http://maps.secondlife.com/secondlife/Celtic/190/73/22
END:VEVENT
BEGIN:VEVENT
DTSTART;TZID=America/Los_Angeles:20260115T090000
DTEND;TZID=America/Los_Angeles:20260115T100000
DTSTAMP:20260420T131013
CREATED:20260102T143754Z
LAST-MODIFIED:20260102T143754Z
UID:10012847-1768467600-1768471200@pottedinsl.com
SUMMARY:Ganja Garden
DESCRIPTION:Potted Auction \nhttp://maps.secondlife.com/secondlife/CreditCard/74/195/3482
URL:https://pottedinsl.com/event/ganja-garden-60/2026-01-15/
LOCATION:http://maps.secondlife.com/secondlife/CreditCard/74/195/3482
END:VEVENT
BEGIN:VEVENT
DTSTART;TZID=America/Los_Angeles:20260115T090000
DTEND;TZID=America/Los_Angeles:20260115T100000
DTSTAMP:20260420T131013
CREATED:20260115T054648Z
LAST-MODIFIED:20260115T054648Z
UID:10012927-1768467600-1768471200@pottedinsl.com
SUMMARY:SIM BENEFIT POT
DESCRIPTION:Potted Auction to include the Sim Benefit pot Sally at Ganja Garden \nhttp://maps.secondlife.com/secondlife/CreditCard/74/195/3482
URL:https://pottedinsl.com/event/sim-benefit-pot-712/
LOCATION:http://maps.secondlife.com/secondlife/CreditCard/74/195/3482
END:VEVENT
BEGIN:VEVENT
DTSTART;TZID=America/Los_Angeles:20260115T090000
DTEND;TZID=America/Los_Angeles:20260117T090000
DTSTAMP:20260420T131013
CREATED:20260112T132646Z
LAST-MODIFIED:20260112T132646Z
UID:10012907-1768467600-1768640400@pottedinsl.com
SUMMARY:SIM BENEFIT POT
DESCRIPTION:Bid board offering the Sim Benefit pot  LE Spriggle Snail Succulent Pot – Sammy at Braxton Flowers \nhttp://maps.secondlife.com/secondlife/Firanelli%20Estates/59/47/77
URL:https://pottedinsl.com/event/sim-benefit-pot-692/
LOCATION:http://maps.secondlife.com/secondlife/Firanelli%20Estates/59/47/77
END:VEVENT
BEGIN:VEVENT
DTSTART;TZID=America/Los_Angeles:20260115T110000
DTEND;TZID=America/Los_Angeles:20260115T120000
DTSTAMP:20260420T131013
CREATED:20251231T092941Z
LAST-MODIFIED:20251231T092941Z
UID:10012741-1768474800-1768478400@pottedinsl.com
SUMMARY:Braxton Flowers
DESCRIPTION:Potted Auction \nhttp://maps.secondlife.com/secondlife/Firanelli%20Estates/89/56/76
URL:https://pottedinsl.com/event/braxton-flowers-7/2026-01-15/
LOCATION:http://maps.secondlife.com/secondlife/Firanelli%20Estates/89/56/76
END:VEVENT
BEGIN:VEVENT
DTSTART;TZID=America/Los_Angeles:20260115T120000
DTEND;TZID=America/Los_Angeles:20260115T130000
DTSTAMP:20260420T131013
CREATED:20260112T131650Z
LAST-MODIFIED:20260112T131650Z
UID:10012900-1768478400-1768482000@pottedinsl.com
SUMMARY:SIM BENEFIT POT
DESCRIPTION:Potted Auction to include the Sim Benefit pot LE Spriggle Snail Succulent Pot – Salley at GOE \nhttp://maps.secondlife.com/secondlife/Wines/122/123/19
URL:https://pottedinsl.com/event/sim-benefit-pot-687/
LOCATION:http://maps.secondlife.com/secondlife/Wines/122/123/19
END:VEVENT
BEGIN:VEVENT
DTSTART;TZID=America/Los_Angeles:20260115T160000
DTEND;TZID=America/Los_Angeles:20260115T170000
DTSTAMP:20260420T131013
CREATED:20260103T081303Z
LAST-MODIFIED:20260103T081303Z
UID:10012868-1768492800-1768496400@pottedinsl.com
SUMMARY:Nest Egg
DESCRIPTION:Potted Auction \nhttp://maps.secondlife.com/secondlife/The%20Mystical%20Isle/209/211/22
URL:https://pottedinsl.com/event/nest-egg-73/2026-01-15/
LOCATION:http://maps.secondlife.com/secondlife/The%20Mystical%20Isle/209/211/22
END:VEVENT
BEGIN:VEVENT
DTSTART;TZID=America/Los_Angeles:20260115T160000
DTEND;TZID=America/Los_Angeles:20260115T170000
DTSTAMP:20260420T131013
CREATED:20260115T055458Z
LAST-MODIFIED:20260115T055458Z
UID:10012931-1768492800-1768496400@pottedinsl.com
SUMMARY:SIM BENEFIT POT
DESCRIPTION:Potted Auction to include the Sim Benefit pot Sally at Nest Egg \nhttp://maps.secondlife.com/secondlife/The%20Mystical%20Isle/209/211/22
URL:https://pottedinsl.com/event/sim-benefit-pot-716/
LOCATION:http://maps.secondlife.com/secondlife/The%20Mystical%20Isle/209/211/22
END:VEVENT
BEGIN:VEVENT
DTSTART;TZID=America/Los_Angeles:20260115T180000
DTEND;TZID=America/Los_Angeles:20260115T190000
DTSTAMP:20260420T131013
CREATED:20260112T141816Z
LAST-MODIFIED:20260112T141816Z
UID:10012915-1768500000-1768503600@pottedinsl.com
SUMMARY:SIM BENEFIT POT
DESCRIPTION:Potted Auction to include the Sim Benefit pot LE Spriggle Snail Succulent Pot – Salley at Riacats \nhttp://maps.secondlife.com/secondlife/Solarian%20Prime/63/159/25
URL:https://pottedinsl.com/event/sim-benefit-pot-700/
LOCATION:http://maps.secondlife.com/secondlife/Solarian%20Prime/63/159/25
END:VEVENT
BEGIN:VEVENT
DTSTART;TZID=America/Los_Angeles:20260115T200000
DTEND;TZID=America/Los_Angeles:20260115T210000
DTSTAMP:20260420T131013
CREATED:20260102T140004Z
LAST-MODIFIED:20260102T140004Z
UID:10012815-1768507200-1768510800@pottedinsl.com
SUMMARY:Soil & Soul
DESCRIPTION:Potted Auction \nhttp://maps.secondlife.com/secondlife/Silex/100/126/33
URL:https://pottedinsl.com/event/soil-soul-15/2026-01-15/
LOCATION:http://maps.secondlife.com/secondlife/Silex/100/126/33
END:VEVENT
BEGIN:VEVENT
DTSTART;TZID=America/Los_Angeles:20260116T060000
DTEND;TZID=America/Los_Angeles:20260119T210000
DTSTAMP:20260420T131013
CREATED:20260113T144512Z
LAST-MODIFIED:20260113T144512Z
UID:10012925-1768543200-1768856400@pottedinsl.com
SUMMARY:SIM BENEFIT POT
DESCRIPTION:Bid board offering the Sim Benefit pot LE Spriggle Snail Succulent Pot – Salley at Delirium \nhttp://maps.secondlife.com/secondlife/Delirium%20Breedables/247/133/23
URL:https://pottedinsl.com/event/sim-benefit-pot-710/
LOCATION:http://maps.secondlife.com/secondlife/Delirium%20Breedables/247/133/23
END:VEVENT
END:VCALENDAR