BEGIN:VCALENDAR
VERSION:2.0
PRODID:-//Potted - ECPv6.15.20//NONSGML v1.0//EN
CALSCALE:GREGORIAN
METHOD:PUBLISH
X-ORIGINAL-URL:https://pottedinsl.com
X-WR-CALDESC:Events for Potted
REFRESH-INTERVAL;VALUE=DURATION:PT1H
X-Robots-Tag:noindex
X-PUBLISHED-TTL:PT1H
BEGIN:VTIMEZONE
TZID:America/Los_Angeles
BEGIN:DAYLIGHT
TZOFFSETFROM:-0800
TZOFFSETTO:-0700
TZNAME:PDT
DTSTART:20250309T100000
END:DAYLIGHT
BEGIN:STANDARD
TZOFFSETFROM:-0700
TZOFFSETTO:-0800
TZNAME:PST
DTSTART:20251102T090000
END:STANDARD
BEGIN:DAYLIGHT
TZOFFSETFROM:-0800
TZOFFSETTO:-0700
TZNAME:PDT
DTSTART:20260308T100000
END:DAYLIGHT
BEGIN:STANDARD
TZOFFSETFROM:-0700
TZOFFSETTO:-0800
TZNAME:PST
DTSTART:20261101T090000
END:STANDARD
BEGIN:DAYLIGHT
TZOFFSETFROM:-0800
TZOFFSETTO:-0700
TZNAME:PDT
DTSTART:20270314T100000
END:DAYLIGHT
BEGIN:STANDARD
TZOFFSETFROM:-0700
TZOFFSETTO:-0800
TZNAME:PST
DTSTART:20271107T090000
END:STANDARD
END:VTIMEZONE
BEGIN:VEVENT
DTSTART;TZID=America/Los_Angeles:20260103T110000
DTEND;TZID=America/Los_Angeles:20260103T120000
DTSTAMP:20260420T200033
CREATED:20260102T142319Z
LAST-MODIFIED:20260102T142319Z
UID:10012837-1767438000-1767441600@pottedinsl.com
SUMMARY:Sweetflowers
DESCRIPTION:Potted Auction \nhttp://maps.secondlife.com/secondlife/Woodland%20Hills/208/196/26
URL:https://pottedinsl.com/event/sweetflowers-62/2026-01-03/
LOCATION:http://maps.secondlife.com/secondlife/Woodland%20Hills/208/196/26
END:VEVENT
BEGIN:VEVENT
DTSTART;TZID=America/Los_Angeles:20260103T170000
DTEND;TZID=America/Los_Angeles:20260103T180000
DTSTAMP:20260420T200033
CREATED:20251231T095154Z
LAST-MODIFIED:20251231T095154Z
UID:10012760-1767459600-1767463200@pottedinsl.com
SUMMARY:Delirium
DESCRIPTION:Potted Auction \nhttp://maps.secondlife.com/secondlife/Delirium%20Breedables/231/131/21
URL:https://pottedinsl.com/event/delirium-15/2026-01-03/
LOCATION:http://maps.secondlife.com/secondlife/Delirium%20Breedables/231/131/21
END:VEVENT
BEGIN:VEVENT
DTSTART;TZID=America/Los_Angeles:20260104T120000
DTEND;TZID=America/Los_Angeles:20260104T130000
DTSTAMP:20260420T200033
CREATED:20260102T140631Z
LAST-MODIFIED:20260102T140631Z
UID:10012818-1767528000-1767531600@pottedinsl.com
SUMMARY:GOE
DESCRIPTION:Potted Auction \nhttp://maps.secondlife.com/secondlife/Wines/141/127/20
URL:https://pottedinsl.com/event/goe-8/
LOCATION:http://maps.secondlife.com/secondlife/Wines/141/127/20
END:VEVENT
BEGIN:VEVENT
DTSTART;TZID=America/Los_Angeles:20260104T160000
DTEND;TZID=America/Los_Angeles:20260104T170000
DTSTAMP:20260420T200033
CREATED:20260102T143856Z
LAST-MODIFIED:20260102T143856Z
UID:10012850-1767542400-1767546000@pottedinsl.com
SUMMARY:Ganja Garden
DESCRIPTION:Potted Auction \nhttp://maps.secondlife.com/secondlife/CreditCard/74/195/3482
URL:https://pottedinsl.com/event/ganja-garden-61/2026-01-04/
LOCATION:http://maps.secondlife.com/secondlife/CreditCard/74/195/3482
END:VEVENT
BEGIN:VEVENT
DTSTART;TZID=America/Los_Angeles:20260104T180000
DTEND;TZID=America/Los_Angeles:20260104T190000
DTSTAMP:20260420T200033
CREATED:20251231T094517Z
LAST-MODIFIED:20251231T094517Z
UID:10012757-1767549600-1767553200@pottedinsl.com
SUMMARY:Riacats
DESCRIPTION:Potted Auction \nhttp://maps.secondlife.com/secondlife/Solarian%20Prime/63/159/25
URL:https://pottedinsl.com/event/riacats-63/2026-01-04/
LOCATION:http://maps.secondlife.com/secondlife/Solarian%20Prime/63/159/25
END:VEVENT
BEGIN:VEVENT
DTSTART;TZID=America/Los_Angeles:20260105T080000
DTEND;TZID=America/Los_Angeles:20260105T170000
DTSTAMP:20260420T200033
CREATED:20251231T094140Z
LAST-MODIFIED:20251231T094140Z
UID:10012748-1767600000-1767632400@pottedinsl.com
SUMMARY:Riacats
DESCRIPTION:Potted Auction \nhttp://maps.secondlife.com/secondlife/Solarian%20Prime/63/159/25
URL:https://pottedinsl.com/event/riacats-60/
LOCATION:http://maps.secondlife.com/secondlife/Solarian%20Prime/63/159/25
END:VEVENT
BEGIN:VEVENT
DTSTART;TZID=America/Los_Angeles:20260105T110000
DTEND;TZID=America/Los_Angeles:20260105T120000
DTSTAMP:20260420T200033
CREATED:20251231T095719Z
LAST-MODIFIED:20251231T095719Z
UID:10012774-1767610800-1767614400@pottedinsl.com
SUMMARY:Charmed
DESCRIPTION:Potted Auction \nhttp://maps.secondlife.com/secondlife/Noctura/124/49/27
URL:https://pottedinsl.com/event/charmed-7/2026-01-05/
LOCATION:http://maps.secondlife.com/secondlife/Noctura/124/49/27
END:VEVENT
BEGIN:VEVENT
DTSTART;TZID=America/Los_Angeles:20260105T143000
DTEND;TZID=America/Los_Angeles:20260105T153000
DTSTAMP:20260420T200033
CREATED:20260102T142049Z
LAST-MODIFIED:20260102T142049Z
UID:10012829-1767623400-1767627000@pottedinsl.com
SUMMARY:Sweetflowers
DESCRIPTION:Potted Auction \nhttp://maps.secondlife.com/secondlife/Woodland%20Hills/208/196/26
URL:https://pottedinsl.com/event/sweetflowers-60/2026-01-05/
LOCATION:http://maps.secondlife.com/secondlife/Woodland%20Hills/208/196/26
END:VEVENT
BEGIN:VEVENT
DTSTART;TZID=America/Los_Angeles:20260105T170000
DTEND;TZID=America/Los_Angeles:20260105T180000
DTSTAMP:20260420T200033
CREATED:20260105T090316Z
LAST-MODIFIED:20260105T090316Z
UID:10012881-1767632400-1767636000@pottedinsl.com
SUMMARY:Jazzy Pots
DESCRIPTION:Potted Auction \nhttp://maps.secondlife.com/secondlife/Elston/102/229/3500
URL:https://pottedinsl.com/event/jazzy-pots-19/2026-01-05/
LOCATION:http://maps.secondlife.com/secondlife/Elston/102/229/3500
END:VEVENT
BEGIN:VEVENT
DTSTART;TZID=America/Los_Angeles:20260105T200000
DTEND;TZID=America/Los_Angeles:20260105T210000
DTSTAMP:20260420T200033
CREATED:20260102T135724Z
LAST-MODIFIED:20260102T135724Z
UID:10012806-1767643200-1767646800@pottedinsl.com
SUMMARY:Soil & Soul
DESCRIPTION:Potted Auction \nhttp://maps.secondlife.com/secondlife/Silex/100/126/33
URL:https://pottedinsl.com/event/soil-soul-13/2026-01-05/
LOCATION:http://maps.secondlife.com/secondlife/Silex/100/126/33
END:VEVENT
BEGIN:VEVENT
DTSTART;TZID=America/Los_Angeles:20260106T090000
DTEND;TZID=America/Los_Angeles:20260106T100000
DTSTAMP:20260420T200033
CREATED:20260102T143630Z
LAST-MODIFIED:20260102T143630Z
UID:10012842-1767690000-1767693600@pottedinsl.com
SUMMARY:Ganja Garden
DESCRIPTION:Potted Auction \nhttp://maps.secondlife.com/secondlife/CreditCard/74/195/3482
URL:https://pottedinsl.com/event/ganja-garden-59/2026-01-06/
LOCATION:http://maps.secondlife.com/secondlife/CreditCard/74/195/3482
END:VEVENT
BEGIN:VEVENT
DTSTART;TZID=America/Los_Angeles:20260106T110000
DTEND;TZID=America/Los_Angeles:20260106T120000
DTSTAMP:20260420T200033
CREATED:20251231T095404Z
LAST-MODIFIED:20251231T095404Z
UID:10012765-1767697200-1767700800@pottedinsl.com
SUMMARY:Rainbow Potted
DESCRIPTION:Potted Auction \nhttp://maps.secondlife.com/secondlife/Covdova/193/18/22
URL:https://pottedinsl.com/event/rainbow-potted-46/2026-01-06/
LOCATION:http://maps.secondlife.com/secondlife/Covdova/193/18/22
END:VEVENT
BEGIN:VEVENT
DTSTART;TZID=America/Los_Angeles:20260106T140000
DTEND;TZID=America/Los_Angeles:20260106T150000
DTSTAMP:20260420T200033
CREATED:20251231T095831Z
LAST-MODIFIED:20251231T095831Z
UID:10012778-1767708000-1767711600@pottedinsl.com
SUMMARY:Charmed
DESCRIPTION:Potted Auction \nhttp://maps.secondlife.com/secondlife/Noctura/124/49/27
URL:https://pottedinsl.com/event/charmed-8/2026-01-06/
LOCATION:http://maps.secondlife.com/secondlife/Noctura/124/49/27
END:VEVENT
BEGIN:VEVENT
DTSTART;TZID=America/Los_Angeles:20260106T150000
DTEND;TZID=America/Los_Angeles:20260106T160000
DTSTAMP:20260420T200033
CREATED:20260105T090433Z
LAST-MODIFIED:20260105T090433Z
UID:10012885-1767711600-1767715200@pottedinsl.com
SUMMARY:Jazzy Pots
DESCRIPTION:Potted Auction \nhttp://maps.secondlife.com/secondlife/Elston/102/229/3500
URL:https://pottedinsl.com/event/jazzy-pots-20/2026-01-06/
LOCATION:http://maps.secondlife.com/secondlife/Elston/102/229/3500
END:VEVENT
BEGIN:VEVENT
DTSTART;TZID=America/Los_Angeles:20260106T200000
DTEND;TZID=America/Los_Angeles:20260106T210000
DTSTAMP:20260420T200033
CREATED:20260102T135848Z
LAST-MODIFIED:20260102T135848Z
UID:10012810-1767729600-1767733200@pottedinsl.com
SUMMARY:Soil & Soul
DESCRIPTION:Potted Auction \nhttp://maps.secondlife.com/secondlife/Silex/100/126/33
URL:https://pottedinsl.com/event/soil-soul-14/2026-01-06/
LOCATION:http://maps.secondlife.com/secondlife/Silex/100/126/33
END:VEVENT
BEGIN:VEVENT
DTSTART;TZID=America/Los_Angeles:20260107T110000
DTEND;TZID=America/Los_Angeles:20260107T120000
DTSTAMP:20260420T200033
CREATED:20260102T142201Z
LAST-MODIFIED:20260102T142201Z
UID:10012833-1767783600-1767787200@pottedinsl.com
SUMMARY:Sweetflowers
DESCRIPTION:Potted Auction \nhttp://maps.secondlife.com/secondlife/Woodland%20Hills/208/196/26
URL:https://pottedinsl.com/event/sweetflowers-61/2026-01-07/
LOCATION:http://maps.secondlife.com/secondlife/Woodland%20Hills/208/196/26
END:VEVENT
BEGIN:VEVENT
DTSTART;TZID=America/Los_Angeles:20260107T120000
DTEND;TZID=America/Los_Angeles:20260107T130000
DTSTAMP:20260420T200033
CREATED:20260103T081157Z
LAST-MODIFIED:20260103T081157Z
UID:10012863-1767787200-1767790800@pottedinsl.com
SUMMARY:Nest Egg
DESCRIPTION:Potted Auction \nhttp://maps.secondlife.com/secondlife/The%20Mystical%20Isle/209/211/22
URL:https://pottedinsl.com/event/nest-egg-72/2026-01-07/
LOCATION:http://maps.secondlife.com/secondlife/The%20Mystical%20Isle/209/211/22
END:VEVENT
BEGIN:VEVENT
DTSTART;TZID=America/Los_Angeles:20260107T153000
DTEND;TZID=America/Los_Angeles:20260107T163000
DTSTAMP:20260420T200033
CREATED:20260102T135350Z
LAST-MODIFIED:20260102T135350Z
UID:10012797-1767799800-1767803400@pottedinsl.com
SUMMARY:Barbasz Got Potted
DESCRIPTION:Potted Auction \nhttp://maps.secondlife.com/secondlife/MOJO/50/128/22
URL:https://pottedinsl.com/event/barbasz-got-potted-85/2026-01-07/
LOCATION:http://maps.secondlife.com/secondlife/MOJO/50/128/22
END:VEVENT
BEGIN:VEVENT
DTSTART;TZID=America/Los_Angeles:20260107T164500
DTEND;TZID=America/Los_Angeles:20260107T174500
DTSTAMP:20260420T200033
CREATED:20260102T144230Z
LAST-MODIFIED:20260102T144230Z
UID:10012854-1767804300-1767807900@pottedinsl.com
SUMMARY:Celtic Mystics
DESCRIPTION:Potted Auction \nhttp://maps.secondlife.com/secondlife/Celtic/190/73/22
URL:https://pottedinsl.com/event/celtic-mystics-43/2026-01-07/
LOCATION:http://maps.secondlife.com/secondlife/Celtic/190/73/22
END:VEVENT
BEGIN:VEVENT
DTSTART;TZID=America/Los_Angeles:20260108T090000
DTEND;TZID=America/Los_Angeles:20260108T100000
DTSTAMP:20260420T200033
CREATED:20260102T140724Z
LAST-MODIFIED:20260102T140724Z
UID:10012819-1767862800-1767866400@pottedinsl.com
SUMMARY:GOE
DESCRIPTION:Potted Auction \nhttp://maps.secondlife.com/secondlife/Wines/141/127/20
URL:https://pottedinsl.com/event/goe-9/
LOCATION:http://maps.secondlife.com/secondlife/Wines/141/127/20
END:VEVENT
BEGIN:VEVENT
DTSTART;TZID=America/Los_Angeles:20260108T090000
DTEND;TZID=America/Los_Angeles:20260108T100000
DTSTAMP:20260420T200033
CREATED:20260102T143754Z
LAST-MODIFIED:20260102T143754Z
UID:10012846-1767862800-1767866400@pottedinsl.com
SUMMARY:Ganja Garden
DESCRIPTION:Potted Auction \nhttp://maps.secondlife.com/secondlife/CreditCard/74/195/3482
URL:https://pottedinsl.com/event/ganja-garden-60/2026-01-08/
LOCATION:http://maps.secondlife.com/secondlife/CreditCard/74/195/3482
END:VEVENT
BEGIN:VEVENT
DTSTART;TZID=America/Los_Angeles:20260108T110000
DTEND;TZID=America/Los_Angeles:20260108T120000
DTSTAMP:20260420T200033
CREATED:20251231T092941Z
LAST-MODIFIED:20251231T092941Z
UID:10012740-1767870000-1767873600@pottedinsl.com
SUMMARY:Braxton Flowers
DESCRIPTION:Potted Auction \nhttp://maps.secondlife.com/secondlife/Firanelli%20Estates/89/56/76
URL:https://pottedinsl.com/event/braxton-flowers-7/2026-01-08/
LOCATION:http://maps.secondlife.com/secondlife/Firanelli%20Estates/89/56/76
END:VEVENT
BEGIN:VEVENT
DTSTART;TZID=America/Los_Angeles:20260108T160000
DTEND;TZID=America/Los_Angeles:20260108T170000
DTSTAMP:20260420T200033
CREATED:20260103T081303Z
LAST-MODIFIED:20260103T081303Z
UID:10012867-1767888000-1767891600@pottedinsl.com
SUMMARY:Nest Egg
DESCRIPTION:Potted Auction \nhttp://maps.secondlife.com/secondlife/The%20Mystical%20Isle/209/211/22
URL:https://pottedinsl.com/event/nest-egg-73/2026-01-08/
LOCATION:http://maps.secondlife.com/secondlife/The%20Mystical%20Isle/209/211/22
END:VEVENT
BEGIN:VEVENT
DTSTART;TZID=America/Los_Angeles:20260108T180000
DTEND;TZID=America/Los_Angeles:20260108T190000
DTSTAMP:20260420T200033
CREATED:20251231T094420Z
LAST-MODIFIED:20251231T094420Z
UID:10012755-1767895200-1767898800@pottedinsl.com
SUMMARY:Riacats
DESCRIPTION:Potted Auction \nhttp://maps.secondlife.com/secondlife/Solarian%20Prime/63/159/25
URL:https://pottedinsl.com/event/riacats-62/2026-01-08/
LOCATION:http://maps.secondlife.com/secondlife/Solarian%20Prime/63/159/25
END:VEVENT
BEGIN:VEVENT
DTSTART;TZID=America/Los_Angeles:20260108T200000
DTEND;TZID=America/Los_Angeles:20260108T210000
DTSTAMP:20260420T200033
CREATED:20260102T140004Z
LAST-MODIFIED:20260102T140004Z
UID:10012814-1767902400-1767906000@pottedinsl.com
SUMMARY:Soil & Soul
DESCRIPTION:Potted Auction \nhttp://maps.secondlife.com/secondlife/Silex/100/126/33
URL:https://pottedinsl.com/event/soil-soul-15/2026-01-08/
LOCATION:http://maps.secondlife.com/secondlife/Silex/100/126/33
END:VEVENT
BEGIN:VEVENT
DTSTART;TZID=America/Los_Angeles:20260109T090000
DTEND;TZID=America/Los_Angeles:20260109T100000
DTSTAMP:20260420T200033
CREATED:20260102T140821Z
LAST-MODIFIED:20260102T140821Z
UID:10012820-1767949200-1767952800@pottedinsl.com
SUMMARY:GOE
DESCRIPTION:Potted Auction \nhttp://maps.secondlife.com/secondlife/Wines/141/127/20
URL:https://pottedinsl.com/event/goe-10/
LOCATION:http://maps.secondlife.com/secondlife/Wines/141/127/20
END:VEVENT
BEGIN:VEVENT
DTSTART;TZID=America/Los_Angeles:20260109T110000
DTEND;TZID=America/Los_Angeles:20260109T120000
DTSTAMP:20260420T200033
CREATED:20251231T095952Z
LAST-MODIFIED:20251231T095952Z
UID:10012783-1767956400-1767960000@pottedinsl.com
SUMMARY:Charmed
DESCRIPTION:Potted Auction \nhttp://maps.secondlife.com/secondlife/Noctura/124/49/27
URL:https://pottedinsl.com/event/charmed-9/2026-01-09/
LOCATION:http://maps.secondlife.com/secondlife/Noctura/124/49/27
END:VEVENT
BEGIN:VEVENT
DTSTART;TZID=America/Los_Angeles:20260109T120000
DTEND;TZID=America/Los_Angeles:20260109T130000
DTSTAMP:20260420T200033
CREATED:20251127T102456Z
LAST-MODIFIED:20251127T102456Z
UID:10012559-1767960000-1767963600@pottedinsl.com
SUMMARY:Bakery Woods
DESCRIPTION:Potted Auction \nhttp://maps.secondlife.com/secondlife/Purple%20Rose/38/32/11
URL:https://pottedinsl.com/event/bakery-woods-58/2026-01-09/
LOCATION:http://maps.secondlife.com/secondlife/Purple%20Rose/38/32/11
END:VEVENT
BEGIN:VEVENT
DTSTART;TZID=America/Los_Angeles:20260109T130000
DTEND;TZID=America/Los_Angeles:20260109T140000
DTSTAMP:20260420T200033
CREATED:20251231T095531Z
LAST-MODIFIED:20251231T095531Z
UID:10012770-1767963600-1767967200@pottedinsl.com
SUMMARY:Rainbow Potted
DESCRIPTION:Potted Auction \nhttp://maps.secondlife.com/secondlife/Covdova/193/18/22
URL:https://pottedinsl.com/event/rainbow-potted-47/2026-01-09/
LOCATION:http://maps.secondlife.com/secondlife/Covdova/193/18/22
END:VEVENT
BEGIN:VEVENT
DTSTART;TZID=America/Los_Angeles:20260109T140000
DTEND;TZID=America/Los_Angeles:20260109T150000
DTSTAMP:20260420T200033
CREATED:20260103T080955Z
LAST-MODIFIED:20260103T080955Z
UID:10012859-1767967200-1767970800@pottedinsl.com
SUMMARY:Potted Jungle
DESCRIPTION:Potted Auction \nhttp://maps.secondlife.com/secondlife/Infinity%20Acres/104/190/24
URL:https://pottedinsl.com/event/potted-jungle/2026-01-09/
LOCATION:http://maps.secondlife.com/secondlife/Infinity%20Acres/104/190/24
END:VEVENT
END:VCALENDAR