BEGIN:VCALENDAR
VERSION:2.0
PRODID:-//Potted - ECPv6.15.20//NONSGML v1.0//EN
CALSCALE:GREGORIAN
METHOD:PUBLISH
X-ORIGINAL-URL:https://pottedinsl.com
X-WR-CALDESC:Events for Potted
REFRESH-INTERVAL;VALUE=DURATION:PT1H
X-Robots-Tag:noindex
X-PUBLISHED-TTL:PT1H
BEGIN:VTIMEZONE
TZID:America/Los_Angeles
BEGIN:DAYLIGHT
TZOFFSETFROM:-0800
TZOFFSETTO:-0700
TZNAME:PDT
DTSTART:20240310T100000
END:DAYLIGHT
BEGIN:STANDARD
TZOFFSETFROM:-0700
TZOFFSETTO:-0800
TZNAME:PST
DTSTART:20241103T090000
END:STANDARD
BEGIN:DAYLIGHT
TZOFFSETFROM:-0800
TZOFFSETTO:-0700
TZNAME:PDT
DTSTART:20250309T100000
END:DAYLIGHT
BEGIN:STANDARD
TZOFFSETFROM:-0700
TZOFFSETTO:-0800
TZNAME:PST
DTSTART:20251102T090000
END:STANDARD
BEGIN:DAYLIGHT
TZOFFSETFROM:-0800
TZOFFSETTO:-0700
TZNAME:PDT
DTSTART:20260308T100000
END:DAYLIGHT
BEGIN:STANDARD
TZOFFSETFROM:-0700
TZOFFSETTO:-0800
TZNAME:PST
DTSTART:20261101T090000
END:STANDARD
END:VTIMEZONE
BEGIN:VEVENT
DTSTART;TZID=America/Los_Angeles:20251213T110000
DTEND;TZID=America/Los_Angeles:20251213T120000
DTSTAMP:20260420T192535
CREATED:20251206T084012Z
LAST-MODIFIED:20251206T084012Z
UID:10012687-1765623600-1765627200@pottedinsl.com
SUMMARY:Sweetflowers
DESCRIPTION:Potted Auction \nhttp://maps.secondlife.com/secondlife/Woodland%20Hills/208/196/26
URL:https://pottedinsl.com/event/sweetflowers-59/2025-12-13/
LOCATION:http://maps.secondlife.com/secondlife/Woodland%20Hills/208/196/26
END:VEVENT
BEGIN:VEVENT
DTSTART;TZID=America/Los_Angeles:20251213T140000
DTEND;TZID=America/Los_Angeles:20251213T150000
DTSTAMP:20260420T192535
CREATED:20251208T085230Z
LAST-MODIFIED:20251208T085230Z
UID:10012711-1765634400-1765638000@pottedinsl.com
SUMMARY:Barbasz Got Potted
DESCRIPTION:JOIN US FOR A SPECIAL POTTED CHARITY AUCTION DEC 13TH 2PM \nWHEN ONE OF OURS IS GOING THROUGH IT WE BAND TOGETHER!\nOUR VERY OWN SNIPER RECENTLY LOST HIS MUM &\nWE WANTED TO HELP OUT BEST WE COULD. \nSO JOIN US FOR A VERY SPECIAL AUCTION\nSAT DEC 13TH 2PM\nCALLED BY RENE & SHAUN\nBUYERS MYSTERY GIFTS FOR EVERY PANEL BOUGHT \nALL LINDENS WILL GO STRAIT TO SNIPER AFTER AUCTION\nSO COME SHOW LOVE & SUPPORT THIS SATURDAY\nGO CHECK OUT THE LINE UP NOW \nhttp://maps.secondlife.com/secondlife/MOJO/49/76/2101
URL:https://pottedinsl.com/event/barbasz-got-potted-84/
LOCATION:http://maps.secondlife.com/secondlife/MOJO/49/76/2101
END:VEVENT
BEGIN:VEVENT
DTSTART;TZID=America/Los_Angeles:20251213T160000
DTEND;TZID=America/Los_Angeles:20251213T170000
DTSTAMP:20260420T192535
CREATED:20251201T090141Z
LAST-MODIFIED:20251201T090141Z
UID:10012619-1765641600-1765645200@pottedinsl.com
SUMMARY:Celtic Mystics
DESCRIPTION:Potted Auction \nhttp://maps.secondlife.com/secondlife/Celtic/190/73/22
URL:https://pottedinsl.com/event/celtic-mystics-42/2025-12-13/
LOCATION:http://maps.secondlife.com/secondlife/Celtic/190/73/22
END:VEVENT
BEGIN:VEVENT
DTSTART;TZID=America/Los_Angeles:20251213T170000
DTEND;TZID=America/Los_Angeles:20251213T180000
DTSTAMP:20260420T192535
CREATED:20251201T090521Z
LAST-MODIFIED:20251201T090521Z
UID:10012623-1765645200-1765648800@pottedinsl.com
SUMMARY:Delirium
DESCRIPTION:Potted Auction \nhttp://maps.secondlife.com/secondlife/Delirium%20Breedables/221/151/21
URL:https://pottedinsl.com/event/delirium-14/2025-12-13/
LOCATION:http://maps.secondlife.com/secondlife/Delirium%20Breedables/221/151/21
END:VEVENT
BEGIN:VEVENT
DTSTART;TZID=America/Los_Angeles:20251214T110000
DTEND;TZID=America/Los_Angeles:20251214T120000
DTSTAMP:20260420T192535
CREATED:20251206T084501Z
LAST-MODIFIED:20251206T084501Z
UID:10012694-1765710000-1765713600@pottedinsl.com
SUMMARY:Claudia & Co
DESCRIPTION:Potted Auction \nhttp://maps.secondlife.com/secondlife/Eternal%20Flames/201/91/25
URL:https://pottedinsl.com/event/claudia-co-23/2025-12-14/
LOCATION:http://maps.secondlife.com/secondlife/Eternal%20Flames/201/91/25
END:VEVENT
BEGIN:VEVENT
DTSTART;TZID=America/Los_Angeles:20251214T120000
DTEND;TZID=America/Los_Angeles:20251214T130000
DTSTAMP:20260420T192535
CREATED:20251126T121506Z
LAST-MODIFIED:20251126T121506Z
UID:10012538-1765713600-1765717200@pottedinsl.com
SUMMARY:Garden of Eden
DESCRIPTION:Potted Auction \nhttp://maps.secondlife.com/secondlife/Wines/141/127/19
URL:https://pottedinsl.com/event/garden-of-eden-365/
LOCATION:http://maps.secondlife.com/secondlife/Wines/141/127/19
END:VEVENT
BEGIN:VEVENT
DTSTART;TZID=America/Los_Angeles:20251214T180000
DTEND;TZID=America/Los_Angeles:20251214T190000
DTSTAMP:20260420T192535
CREATED:20251127T103458Z
LAST-MODIFIED:20251127T103458Z
UID:10012569-1765735200-1765738800@pottedinsl.com
SUMMARY:Riacats
DESCRIPTION:Potted Auction \nhttp://maps.secondlife.com/secondlife/Solarian%20Prime/63/159/25
URL:https://pottedinsl.com/event/riacats-59/2025-12-14/
LOCATION:http://maps.secondlife.com/secondlife/Solarian%20Prime/63/159/25
END:VEVENT
BEGIN:VEVENT
DTSTART;TZID=America/Los_Angeles:20251215T080000
DTEND;TZID=America/Los_Angeles:20251215T170000
DTSTAMP:20260420T192535
CREATED:20251208T090522Z
LAST-MODIFIED:20251208T090522Z
UID:10012714-1765785600-1765818000@pottedinsl.com
SUMMARY:SIM BENEFIT POT
DESCRIPTION:Potted Auction to include the Sim Benefit pot Potted ~ LE Mrs. Claus Philodendron Pot at GOE \nhttp://maps.secondlife.com/secondlife/Wines/141/127/20
URL:https://pottedinsl.com/event/sim-benefit-pot-667/2025-12-15/1/
LOCATION:http://maps.secondlife.com/secondlife/Wines/141/127/20
END:VEVENT
BEGIN:VEVENT
DTSTART;TZID=America/Los_Angeles:20251215T110000
DTEND;TZID=America/Los_Angeles:20251215T120000
DTSTAMP:20260420T192535
CREATED:20251203T102921Z
LAST-MODIFIED:20251203T102921Z
UID:10012672-1765796400-1765800000@pottedinsl.com
SUMMARY:Charmed
DESCRIPTION:Potted Auction \nhttp://maps.secondlife.com/secondlife/Noctura/124/49/27
URL:https://pottedinsl.com/event/charmed-5/2025-12-15/
LOCATION:http://maps.secondlife.com/secondlife/Noctura/124/49/27
END:VEVENT
BEGIN:VEVENT
DTSTART;TZID=America/Los_Angeles:20251215T120000
DTEND;TZID=America/Los_Angeles:20251215T130000
DTSTAMP:20260420T192535
CREATED:20251208T090522Z
LAST-MODIFIED:20251208T090522Z
UID:10012715-1765800000-1765803600@pottedinsl.com
SUMMARY:SIM BENEFIT POT
DESCRIPTION:Potted Auction to include the Sim Benefit pot Potted ~ LE Mrs. Claus Philodendron Pot at GOE \nhttp://maps.secondlife.com/secondlife/Wines/141/127/20
URL:https://pottedinsl.com/event/sim-benefit-pot-667/2025-12-15/2/
LOCATION:http://maps.secondlife.com/secondlife/Wines/141/127/20
END:VEVENT
BEGIN:VEVENT
DTSTART;TZID=America/Los_Angeles:20251215T133000
DTEND;TZID=America/Los_Angeles:20251215T143000
DTSTAMP:20260420T192535
CREATED:20251127T100725Z
LAST-MODIFIED:20251127T100725Z
UID:10012547-1765805400-1765809000@pottedinsl.com
SUMMARY:Bakery Woods
DESCRIPTION:Potted Auction \nhttp://maps.secondlife.com/secondlife/Purple%20Rose/38/32/11
URL:https://pottedinsl.com/event/bakery-woods-56/2025-12-15/
LOCATION:http://maps.secondlife.com/secondlife/Purple%20Rose/38/32/11
END:VEVENT
BEGIN:VEVENT
DTSTART;TZID=America/Los_Angeles:20251215T133000
DTEND;TZID=America/Los_Angeles:20251215T143000
DTSTAMP:20260420T192535
CREATED:20251208T081251Z
LAST-MODIFIED:20251208T081251Z
UID:10012701-1765805400-1765809000@pottedinsl.com
SUMMARY:SIM BENEFIT POT
DESCRIPTION:Potted Auction to include the Sim Benefit pot Potted ~ LE Santa Claus Philodendron Pot at Bakery Woods \nhttp://maps.secondlife.com/secondlife/Purple%20Rose/21/33/11
URL:https://pottedinsl.com/event/sim-benefit-pot-655/
LOCATION:http://maps.secondlife.com/secondlife/Purple%20Rose/21/33/11
END:VEVENT
BEGIN:VEVENT
DTSTART;TZID=America/Los_Angeles:20251215T143000
DTEND;TZID=America/Los_Angeles:20251215T153000
DTSTAMP:20260420T192535
CREATED:20251206T083750Z
LAST-MODIFIED:20251206T083750Z
UID:10012679-1765809000-1765812600@pottedinsl.com
SUMMARY:Sweetflowers
DESCRIPTION:Potted Auction \nhttp://maps.secondlife.com/secondlife/Woodland%20Hills/208/196/26
URL:https://pottedinsl.com/event/sweetflowers-57/2025-12-15/
LOCATION:http://maps.secondlife.com/secondlife/Woodland%20Hills/208/196/26
END:VEVENT
BEGIN:VEVENT
DTSTART;TZID=America/Los_Angeles:20251215T143000
DTEND;TZID=America/Los_Angeles:20251215T153000
DTSTAMP:20260420T192535
CREATED:20251208T075701Z
LAST-MODIFIED:20251208T075701Z
UID:10012699-1765809000-1765812600@pottedinsl.com
SUMMARY:SIM BENEFIT POT
DESCRIPTION:Potted Auction to include the Sim Benefit pot  Potted ~ LE Santa Claus Philodendron Pot at Sweetflowers \nhttp://maps.secondlife.com/secondlife/Woodland%20Hills/216/194/26
URL:https://pottedinsl.com/event/sim-benefit-pot-653/
LOCATION:http://maps.secondlife.com/secondlife/Woodland%20Hills/216/194/26
END:VEVENT
BEGIN:VEVENT
DTSTART;TZID=America/Los_Angeles:20251215T170000
DTEND;TZID=America/Los_Angeles:20251215T180000
DTSTAMP:20260420T192535
CREATED:20251203T102302Z
LAST-MODIFIED:20251203T102302Z
UID:10012660-1765818000-1765821600@pottedinsl.com
SUMMARY:Jazzy Pots
DESCRIPTION:Potted Auction \nhttp://maps.secondlife.com/secondlife/Elston/102/229/3500
URL:https://pottedinsl.com/event/jazzy-pots-16/2025-12-15/
LOCATION:http://maps.secondlife.com/secondlife/Elston/102/229/3500
END:VEVENT
BEGIN:VEVENT
DTSTART;TZID=America/Los_Angeles:20251215T170000
DTEND;TZID=America/Los_Angeles:20251215T180000
DTSTAMP:20260420T192535
CREATED:20251214T144856Z
LAST-MODIFIED:20251214T144856Z
UID:10012727-1765818000-1765821600@pottedinsl.com
SUMMARY:SIM BENEFIT POT
DESCRIPTION:Potted Auction to include the Sim Benefit pot LE Santa Claus Philodendron Pot at Jazzy Pots \n  \nhttp://maps.secondlife.com/secondlife/Elston/102/229/3500
URL:https://pottedinsl.com/event/sim-benefit-pot-675/
LOCATION:http://maps.secondlife.com/secondlife/Elston/102/229/3500
END:VEVENT
BEGIN:VEVENT
DTSTART;TZID=America/Los_Angeles:20251215T180000
DTEND;TZID=America/Los_Angeles:20251215T190000
DTSTAMP:20260420T192535
CREATED:20251208T084649Z
LAST-MODIFIED:20251208T084649Z
UID:10012709-1765821600-1765825200@pottedinsl.com
SUMMARY:SIM BENEFIT POT
DESCRIPTION:Potted Auction to include the Sim Benefit pot  LE Mrs. Claus Philodendron Pot at Riacats \nhttp://maps.secondlife.com/secondlife/Solarian%20Prime/63/159/25
URL:https://pottedinsl.com/event/sim-benefit-pot-663/
LOCATION:http://maps.secondlife.com/secondlife/Solarian%20Prime/63/159/25
END:VEVENT
BEGIN:VEVENT
DTSTART;TZID=America/Los_Angeles:20251215T200000
DTEND;TZID=America/Los_Angeles:20251215T210000
DTSTAMP:20260420T192535
CREATED:20251201T083643Z
LAST-MODIFIED:20251201T083643Z
UID:10012588-1765828800-1765832400@pottedinsl.com
SUMMARY:Soil & Soul
DESCRIPTION:Potted Auction \nhttp://maps.secondlife.com/secondlife/Silex/100/126/33
URL:https://pottedinsl.com/event/soil-soul-10/2025-12-15/
LOCATION:http://maps.secondlife.com/secondlife/Silex/100/126/33
END:VEVENT
BEGIN:VEVENT
DTSTART;TZID=America/Los_Angeles:20251215T200000
DTEND;TZID=America/Los_Angeles:20251215T210000
DTSTAMP:20260420T192535
CREATED:20251208T084243Z
LAST-MODIFIED:20251208T084243Z
UID:10012707-1765828800-1765832400@pottedinsl.com
SUMMARY:SIM BENEFIT POT
DESCRIPTION:Potted Auction to include the Sim Benefit pot LE Santa Claus Philodendron Pot at Soil & Soul \nhttp://maps.secondlife.com/secondlife/Silex/100/126/33
URL:https://pottedinsl.com/event/sim-benefit-pot-661/
LOCATION:http://maps.secondlife.com/secondlife/Silex/100/126/33
END:VEVENT
BEGIN:VEVENT
DTSTART;TZID=America/Los_Angeles:20251216T060000
DTEND;TZID=America/Los_Angeles:20251219T200000
DTSTAMP:20260420T192535
CREATED:20251216T110319Z
LAST-MODIFIED:20251216T110319Z
UID:10012732-1765864800-1766174400@pottedinsl.com
SUMMARY:SIM BENEFIT POT
DESCRIPTION:Bid board offering the Sim Benefit pot LE Santa Claus Philodendron Pot at Delirium \nhttp://maps.secondlife.com/secondlife/Delirium%20Breedables/234/132/21
URL:https://pottedinsl.com/event/sim-benefit-pot-680/
LOCATION:http://maps.secondlife.com/secondlife/Delirium%20Breedables/234/132/21
END:VEVENT
BEGIN:VEVENT
DTSTART;TZID=America/Los_Angeles:20251216T090000
DTEND;TZID=America/Los_Angeles:20251216T100000
DTSTAMP:20260420T192535
CREATED:20251202T151356Z
LAST-MODIFIED:20251202T151356Z
UID:10012637-1765875600-1765879200@pottedinsl.com
SUMMARY:Ganja Garden
DESCRIPTION:Potted Auction \nhttp://maps.secondlife.com/secondlife/CreditCard/77/196/3481
URL:https://pottedinsl.com/event/ganja-garden-56/2025-12-16/
LOCATION:http://maps.secondlife.com/secondlife/CreditCard/77/196/3481
END:VEVENT
BEGIN:VEVENT
DTSTART;TZID=America/Los_Angeles:20251216T090000
DTEND;TZID=America/Los_Angeles:20251216T100000
DTSTAMP:20260420T192535
CREATED:20251216T111217Z
LAST-MODIFIED:20251216T111217Z
UID:10012734-1765875600-1765879200@pottedinsl.com
SUMMARY:SIM BENEFIT POT
DESCRIPTION:Potted Auction to include the Sim Benefit pot  Santa at Ganja Garden \nhttp://maps.secondlife.com/secondlife/CreditCard/77/196/3481
URL:https://pottedinsl.com/event/sim-benefit-pot-682/
LOCATION:http://maps.secondlife.com/secondlife/CreditCard/77/196/3481
END:VEVENT
BEGIN:VEVENT
DTSTART;TZID=America/Los_Angeles:20251216T110000
DTEND;TZID=America/Los_Angeles:20251216T120000
DTSTAMP:20260420T192535
CREATED:20251201T085427Z
LAST-MODIFIED:20251201T085427Z
UID:10012606-1765882800-1765886400@pottedinsl.com
SUMMARY:Rainbow Potted
DESCRIPTION:Potted Auction \nhttp://maps.secondlife.com/secondlife/Covdova/193/18/22
URL:https://pottedinsl.com/event/rainbow-potted-44/2025-12-16/
LOCATION:http://maps.secondlife.com/secondlife/Covdova/193/18/22
END:VEVENT
BEGIN:VEVENT
DTSTART;TZID=America/Los_Angeles:20251216T110000
DTEND;TZID=America/Los_Angeles:20251216T120000
DTSTAMP:20260420T192535
CREATED:20251208T085651Z
LAST-MODIFIED:20251208T085651Z
UID:10012712-1765882800-1765886400@pottedinsl.com
SUMMARY:SIM BENEFIT POT
DESCRIPTION:Potted Auction to include the Sim Benefit pot  Potted ~ LE Santa Claus Philodendron Pot at Rainbow Potted \nhttp://maps.secondlife.com/secondlife/Covdova/193/18/22
URL:https://pottedinsl.com/event/sim-benefit-pot-665/
LOCATION:http://maps.secondlife.com/secondlife/Covdova/193/18/22
END:VEVENT
BEGIN:VEVENT
DTSTART;TZID=America/Los_Angeles:20251216T120000
DTEND;TZID=America/Los_Angeles:20251216T130000
DTSTAMP:20260420T192535
CREATED:20251127T102348Z
LAST-MODIFIED:20251127T102348Z
UID:10012552-1765886400-1765890000@pottedinsl.com
SUMMARY:Bakery Woods
DESCRIPTION:Potted Auction \nhttp://maps.secondlife.com/secondlife/Purple%20Rose/38/32/11
URL:https://pottedinsl.com/event/bakery-woods-57/2025-12-16/
LOCATION:http://maps.secondlife.com/secondlife/Purple%20Rose/38/32/11
END:VEVENT
BEGIN:VEVENT
DTSTART;TZID=America/Los_Angeles:20251216T120000
DTEND;TZID=America/Los_Angeles:20251218T120000
DTSTAMP:20260420T192535
CREATED:20251213T093844Z
LAST-MODIFIED:20251213T093844Z
UID:10012719-1765886400-1766059200@pottedinsl.com
SUMMARY:SIM BENEFIT POT
DESCRIPTION:Bid board offering the Sim benefit pot LE Santa Claus at Amore d’Potted \nhttp://maps.secondlife.com/secondlife/Passions/208/147/21
URL:https://pottedinsl.com/event/sim-benefit-pot-671/
LOCATION:http://maps.secondlife.com/secondlife/Passions/208/147/21
END:VEVENT
BEGIN:VEVENT
DTSTART;TZID=America/Los_Angeles:20251216T130000
DTEND;TZID=America/Los_Angeles:20251216T140000
DTSTAMP:20260420T192535
CREATED:20251214T144404Z
LAST-MODIFIED:20251214T144404Z
UID:10012724-1765890000-1765893600@pottedinsl.com
SUMMARY:Braxton Flowers
DESCRIPTION:Potted Auction \nhttp://maps.secondlife.com/secondlife/Firanelli%20Estates/89/56/76
URL:https://pottedinsl.com/event/braxton-flowers-6/2025-12-16/
LOCATION:http://maps.secondlife.com/secondlife/Firanelli%20Estates/89/56/76
END:VEVENT
BEGIN:VEVENT
DTSTART;TZID=America/Los_Angeles:20251216T140000
DTEND;TZID=America/Los_Angeles:20251216T150000
DTSTAMP:20260420T192535
CREATED:20251129T100104Z
LAST-MODIFIED:20251129T100104Z
UID:10012582-1765893600-1765897200@pottedinsl.com
SUMMARY:Charmed
DESCRIPTION:Potted Auction \nhttp://maps.secondlife.com/secondlife/Noctura/133/161/30
URL:https://pottedinsl.com/event/charmed-4/2025-12-16/
LOCATION:http://maps.secondlife.com/secondlife/Noctura/133/161/30
END:VEVENT
BEGIN:VEVENT
DTSTART;TZID=America/Los_Angeles:20251216T150000
DTEND;TZID=America/Los_Angeles:20251216T160000
DTSTAMP:20260420T192535
CREATED:20251203T102406Z
LAST-MODIFIED:20251203T102406Z
UID:10012664-1765897200-1765900800@pottedinsl.com
SUMMARY:Jazzy Pots
DESCRIPTION:Potted Auction \nhttp://maps.secondlife.com/secondlife/Elston/102/229/3500
URL:https://pottedinsl.com/event/jazzy-pots-17/2025-12-16/
LOCATION:http://maps.secondlife.com/secondlife/Elston/102/229/3500
END:VEVENT
BEGIN:VEVENT
DTSTART;TZID=America/Los_Angeles:20251216T160000
DTEND;TZID=America/Los_Angeles:20251216T170000
DTSTAMP:20260420T192535
CREATED:20251129T095236Z
LAST-MODIFIED:20251129T095236Z
UID:10012578-1765900800-1765904400@pottedinsl.com
SUMMARY:The Secret Garden
DESCRIPTION:Potted Auction \nhttp://maps.secondlife.com/secondlife/Sweet%20Desire/211/198/44
URL:https://pottedinsl.com/event/the-secret-garden-73/2025-12-16/
LOCATION:http://maps.secondlife.com/secondlife/Sweet%20Desire/211/198/44
END:VEVENT
END:VCALENDAR