BEGIN:VCALENDAR
VERSION:2.0
PRODID:-//Potted - ECPv6.15.20//NONSGML v1.0//EN
CALSCALE:GREGORIAN
METHOD:PUBLISH
X-WR-CALNAME:Potted
X-ORIGINAL-URL:https://pottedinsl.com
X-WR-CALDESC:Events for Potted
REFRESH-INTERVAL;VALUE=DURATION:PT1H
X-Robots-Tag:noindex
X-PUBLISHED-TTL:PT1H
BEGIN:VTIMEZONE
TZID:America/Los_Angeles
BEGIN:DAYLIGHT
TZOFFSETFROM:-0800
TZOFFSETTO:-0700
TZNAME:PDT
DTSTART:20240310T100000
END:DAYLIGHT
BEGIN:STANDARD
TZOFFSETFROM:-0700
TZOFFSETTO:-0800
TZNAME:PST
DTSTART:20241103T090000
END:STANDARD
BEGIN:DAYLIGHT
TZOFFSETFROM:-0800
TZOFFSETTO:-0700
TZNAME:PDT
DTSTART:20250309T100000
END:DAYLIGHT
BEGIN:STANDARD
TZOFFSETFROM:-0700
TZOFFSETTO:-0800
TZNAME:PST
DTSTART:20251102T090000
END:STANDARD
BEGIN:DAYLIGHT
TZOFFSETFROM:-0800
TZOFFSETTO:-0700
TZNAME:PDT
DTSTART:20260308T100000
END:DAYLIGHT
BEGIN:STANDARD
TZOFFSETFROM:-0700
TZOFFSETTO:-0800
TZNAME:PST
DTSTART:20261101T090000
END:STANDARD
END:VTIMEZONE
BEGIN:VEVENT
DTSTART;TZID=America/Los_Angeles:20251210T090000
DTEND;TZID=America/Los_Angeles:20251210T100000
DTSTAMP:20260420T175411
CREATED:20251126T120924Z
LAST-MODIFIED:20251126T120924Z
UID:10012536-1765357200-1765360800@pottedinsl.com
SUMMARY:Garden of Eden
DESCRIPTION:Potted Auction \nhttp://maps.secondlife.com/secondlife/Wines/141/127/19
URL:https://pottedinsl.com/event/garden-of-eden-363/
LOCATION:http://maps.secondlife.com/secondlife/Wines/141/127/19
END:VEVENT
BEGIN:VEVENT
DTSTART;TZID=America/Los_Angeles:20251210T120000
DTEND;TZID=America/Los_Angeles:20251210T130000
DTSTAMP:20260420T175411
CREATED:20251202T152024Z
LAST-MODIFIED:20251202T152024Z
UID:10012646-1765368000-1765371600@pottedinsl.com
SUMMARY:Nest Egg
DESCRIPTION:Potted Auction \nhttp://maps.secondlife.com/secondlife/The%20Mystical%20Isle/209/211/22
URL:https://pottedinsl.com/event/nest-egg-68/2025-12-10/
LOCATION:http://maps.secondlife.com/secondlife/The%20Mystical%20Isle/209/211/22
END:VEVENT
BEGIN:VEVENT
DTSTART;TZID=America/Los_Angeles:20251210T130000
DTEND;TZID=America/Los_Angeles:20251210T140000
DTSTAMP:20260420T175411
CREATED:20251206T083859Z
LAST-MODIFIED:20251206T083859Z
UID:10012682-1765371600-1765375200@pottedinsl.com
SUMMARY:Sweetflowers
DESCRIPTION:Potted Auction \nhttp://maps.secondlife.com/secondlife/Woodland%20Hills/208/196/26
URL:https://pottedinsl.com/event/sweetflowers-58/2025-12-10/
LOCATION:http://maps.secondlife.com/secondlife/Woodland%20Hills/208/196/26
END:VEVENT
BEGIN:VEVENT
DTSTART;TZID=America/Los_Angeles:20251210T153000
DTEND;TZID=America/Los_Angeles:20251210T163000
DTSTAMP:20260420T175411
CREATED:20251202T150517Z
LAST-MODIFIED:20251202T150517Z
UID:10012627-1765380600-1765384200@pottedinsl.com
SUMMARY:Barbasz Got Potted
DESCRIPTION:Potted Auction \nhttp://maps.secondlife.com/secondlife/MOJO/50/128/22
URL:https://pottedinsl.com/event/barbasz-got-potted-82/2025-12-10/
LOCATION:http://maps.secondlife.com/secondlife/MOJO/50/128/22
END:VEVENT
BEGIN:VEVENT
DTSTART;TZID=America/Los_Angeles:20251210T164500
DTEND;TZID=America/Los_Angeles:20251210T174500
DTSTAMP:20260420T175411
CREATED:20251201T090016Z
LAST-MODIFIED:20251201T090016Z
UID:10012614-1765385100-1765388700@pottedinsl.com
SUMMARY:Celtic Mystics
DESCRIPTION:Potted Auction \nhttp://maps.secondlife.com/secondlife/Celtic/190/73/22
URL:https://pottedinsl.com/event/celtic-mystics-41/2025-12-10/
LOCATION:http://maps.secondlife.com/secondlife/Celtic/190/73/22
END:VEVENT
BEGIN:VEVENT
DTSTART;TZID=America/Los_Angeles:20251211T090000
DTEND;TZID=America/Los_Angeles:20251211T100000
DTSTAMP:20260420T175411
CREATED:20251202T151500Z
LAST-MODIFIED:20251202T151500Z
UID:10012641-1765443600-1765447200@pottedinsl.com
SUMMARY:Ganja Garden
DESCRIPTION:Potted Auction \nhttp://maps.secondlife.com/secondlife/CreditCard/77/196/3481
URL:https://pottedinsl.com/event/ganja-garden-57/2025-12-11/
LOCATION:http://maps.secondlife.com/secondlife/CreditCard/77/196/3481
END:VEVENT
BEGIN:VEVENT
DTSTART;TZID=America/Los_Angeles:20251211T160000
DTEND;TZID=America/Los_Angeles:20251211T170000
DTSTAMP:20260420T175411
CREATED:20251202T152133Z
LAST-MODIFIED:20251202T152133Z
UID:10012650-1765468800-1765472400@pottedinsl.com
SUMMARY:Nest Egg
DESCRIPTION:Potted Auction \nhttp://maps.secondlife.com/secondlife/The%20Mystical%20Isle/209/211/22
URL:https://pottedinsl.com/event/nest-egg-69/2025-12-11/
LOCATION:http://maps.secondlife.com/secondlife/The%20Mystical%20Isle/209/211/22
END:VEVENT
BEGIN:VEVENT
DTSTART;TZID=America/Los_Angeles:20251211T180000
DTEND;TZID=America/Los_Angeles:20251211T190000
DTSTAMP:20260420T175411
CREATED:20251127T103300Z
LAST-MODIFIED:20251127T103300Z
UID:10012567-1765476000-1765479600@pottedinsl.com
SUMMARY:Riacats
DESCRIPTION:Potted Auction \nhttp://maps.secondlife.com/secondlife/Solarian%20Prime/63/159/25
URL:https://pottedinsl.com/event/riacats-57/
LOCATION:http://maps.secondlife.com/secondlife/Solarian%20Prime/63/159/25
END:VEVENT
BEGIN:VEVENT
DTSTART;TZID=America/Los_Angeles:20251211T200000
DTEND;TZID=America/Los_Angeles:20251211T210000
DTSTAMP:20260420T175411
CREATED:20251201T084138Z
LAST-MODIFIED:20251201T084138Z
UID:10012597-1765483200-1765486800@pottedinsl.com
SUMMARY:Soil & Soul
DESCRIPTION:Potted Auction \nhttp://maps.secondlife.com/secondlife/Silex/100/126/33 \n 
URL:https://pottedinsl.com/event/soil-soul-12/2025-12-11/
LOCATION:http://maps.secondlife.com/secondlife/Silex/100/126/33
END:VEVENT
BEGIN:VEVENT
DTSTART;TZID=America/Los_Angeles:20251212T090000
DTEND;TZID=America/Los_Angeles:20251212T100000
DTSTAMP:20260420T175411
CREATED:20251126T121034Z
LAST-MODIFIED:20251126T121034Z
UID:10012537-1765530000-1765533600@pottedinsl.com
SUMMARY:Garden of Eden
DESCRIPTION:Potted Auction \nhttp://maps.secondlife.com/secondlife/Wines/141/127/19
URL:https://pottedinsl.com/event/garden-of-eden-364/
LOCATION:http://maps.secondlife.com/secondlife/Wines/141/127/19
END:VEVENT
BEGIN:VEVENT
DTSTART;TZID=America/Los_Angeles:20251212T110000
DTEND;TZID=America/Los_Angeles:20251212T120000
DTSTAMP:20260420T175411
CREATED:20251203T103114Z
LAST-MODIFIED:20251203T103114Z
UID:10012675-1765537200-1765540800@pottedinsl.com
SUMMARY:Charmed
DESCRIPTION:Potted Auction \nhttp://maps.secondlife.com/secondlife/Noctura/124/49/27
URL:https://pottedinsl.com/event/charmed-6/2025-12-12/
LOCATION:http://maps.secondlife.com/secondlife/Noctura/124/49/27
END:VEVENT
BEGIN:VEVENT
DTSTART;TZID=America/Los_Angeles:20251212T120000
DTEND;TZID=America/Los_Angeles:20251212T130000
DTSTAMP:20260420T175411
CREATED:20251127T102456Z
LAST-MODIFIED:20251127T102456Z
UID:10012555-1765540800-1765544400@pottedinsl.com
SUMMARY:Bakery Woods
DESCRIPTION:Potted Auction \nhttp://maps.secondlife.com/secondlife/Purple%20Rose/38/32/11
URL:https://pottedinsl.com/event/bakery-woods-58/2025-12-12/
LOCATION:http://maps.secondlife.com/secondlife/Purple%20Rose/38/32/11
END:VEVENT
BEGIN:VEVENT
DTSTART;TZID=America/Los_Angeles:20251212T130000
DTEND;TZID=America/Los_Angeles:20251212T140000
DTSTAMP:20260420T175411
CREATED:20251201T085527Z
LAST-MODIFIED:20251201T085527Z
UID:10012610-1765544400-1765548000@pottedinsl.com
SUMMARY:Rainbow Potted
DESCRIPTION:Potted Auction \nhttp://maps.secondlife.com/secondlife/Covdova/193/18/22
URL:https://pottedinsl.com/event/rainbow-potted-45/2025-12-12/
LOCATION:http://maps.secondlife.com/secondlife/Covdova/193/18/22
END:VEVENT
BEGIN:VEVENT
DTSTART;TZID=America/Los_Angeles:20251212T150000
DTEND;TZID=America/Los_Angeles:20251212T160000
DTSTAMP:20260420T175411
CREATED:20251202T150646Z
LAST-MODIFIED:20251202T150646Z
UID:10012632-1765551600-1765555200@pottedinsl.com
SUMMARY:Barbasz Got Potted
DESCRIPTION:Potted Auction \nhttp://maps.secondlife.com/secondlife/MOJO/50/128/22
URL:https://pottedinsl.com/event/barbasz-got-potted-83/2025-12-12/
LOCATION:http://maps.secondlife.com/secondlife/MOJO/50/128/22
END:VEVENT
BEGIN:VEVENT
DTSTART;TZID=America/Los_Angeles:20251212T163000
DTEND;TZID=America/Los_Angeles:20251212T173000
DTSTAMP:20260420T175411
CREATED:20251203T102503Z
LAST-MODIFIED:20251203T102503Z
UID:10012668-1765557000-1765560600@pottedinsl.com
SUMMARY:Jazzy Pots
DESCRIPTION:Potted Auction \nhttp://maps.secondlife.com/secondlife/Elston/102/229/3500
URL:https://pottedinsl.com/event/jazzy-pots-18/2025-12-12/
LOCATION:http://maps.secondlife.com/secondlife/Elston/102/229/3500
END:VEVENT
BEGIN:VEVENT
DTSTART;TZID=America/Los_Angeles:20251212T183000
DTEND;TZID=America/Los_Angeles:20251212T193000
DTSTAMP:20260420T175411
CREATED:20251203T102100Z
LAST-MODIFIED:20251203T102100Z
UID:10012656-1765564200-1765567800@pottedinsl.com
SUMMARY:The Potted Jungle
DESCRIPTION:Potted Auction \nhttp://maps.secondlife.com/secondlife/Infinity%20Acres/107/190/24
URL:https://pottedinsl.com/event/the-potted-jungle-4/2025-12-12/
LOCATION:http://maps.secondlife.com/secondlife/Infinity%20Acres/107/190/24
END:VEVENT
BEGIN:VEVENT
DTSTART;TZID=America/Los_Angeles:20251213T110000
DTEND;TZID=America/Los_Angeles:20251213T120000
DTSTAMP:20260420T175411
CREATED:20251206T084012Z
LAST-MODIFIED:20251206T084012Z
UID:10012687-1765623600-1765627200@pottedinsl.com
SUMMARY:Sweetflowers
DESCRIPTION:Potted Auction \nhttp://maps.secondlife.com/secondlife/Woodland%20Hills/208/196/26
URL:https://pottedinsl.com/event/sweetflowers-59/2025-12-13/
LOCATION:http://maps.secondlife.com/secondlife/Woodland%20Hills/208/196/26
END:VEVENT
BEGIN:VEVENT
DTSTART;TZID=America/Los_Angeles:20251213T140000
DTEND;TZID=America/Los_Angeles:20251213T150000
DTSTAMP:20260420T175411
CREATED:20251208T085230Z
LAST-MODIFIED:20251208T085230Z
UID:10012711-1765634400-1765638000@pottedinsl.com
SUMMARY:Barbasz Got Potted
DESCRIPTION:JOIN US FOR A SPECIAL POTTED CHARITY AUCTION DEC 13TH 2PM \nWHEN ONE OF OURS IS GOING THROUGH IT WE BAND TOGETHER!\nOUR VERY OWN SNIPER RECENTLY LOST HIS MUM &\nWE WANTED TO HELP OUT BEST WE COULD. \nSO JOIN US FOR A VERY SPECIAL AUCTION\nSAT DEC 13TH 2PM\nCALLED BY RENE & SHAUN\nBUYERS MYSTERY GIFTS FOR EVERY PANEL BOUGHT \nALL LINDENS WILL GO STRAIT TO SNIPER AFTER AUCTION\nSO COME SHOW LOVE & SUPPORT THIS SATURDAY\nGO CHECK OUT THE LINE UP NOW \nhttp://maps.secondlife.com/secondlife/MOJO/49/76/2101
URL:https://pottedinsl.com/event/barbasz-got-potted-84/
LOCATION:http://maps.secondlife.com/secondlife/MOJO/49/76/2101
END:VEVENT
BEGIN:VEVENT
DTSTART;TZID=America/Los_Angeles:20251213T160000
DTEND;TZID=America/Los_Angeles:20251213T170000
DTSTAMP:20260420T175411
CREATED:20251201T090141Z
LAST-MODIFIED:20251201T090141Z
UID:10012619-1765641600-1765645200@pottedinsl.com
SUMMARY:Celtic Mystics
DESCRIPTION:Potted Auction \nhttp://maps.secondlife.com/secondlife/Celtic/190/73/22
URL:https://pottedinsl.com/event/celtic-mystics-42/2025-12-13/
LOCATION:http://maps.secondlife.com/secondlife/Celtic/190/73/22
END:VEVENT
BEGIN:VEVENT
DTSTART;TZID=America/Los_Angeles:20251213T170000
DTEND;TZID=America/Los_Angeles:20251213T180000
DTSTAMP:20260420T175411
CREATED:20251201T090521Z
LAST-MODIFIED:20251201T090521Z
UID:10012623-1765645200-1765648800@pottedinsl.com
SUMMARY:Delirium
DESCRIPTION:Potted Auction \nhttp://maps.secondlife.com/secondlife/Delirium%20Breedables/221/151/21
URL:https://pottedinsl.com/event/delirium-14/2025-12-13/
LOCATION:http://maps.secondlife.com/secondlife/Delirium%20Breedables/221/151/21
END:VEVENT
BEGIN:VEVENT
DTSTART;TZID=America/Los_Angeles:20251214T110000
DTEND;TZID=America/Los_Angeles:20251214T120000
DTSTAMP:20260420T175411
CREATED:20251206T084501Z
LAST-MODIFIED:20251206T084501Z
UID:10012694-1765710000-1765713600@pottedinsl.com
SUMMARY:Claudia & Co
DESCRIPTION:Potted Auction \nhttp://maps.secondlife.com/secondlife/Eternal%20Flames/201/91/25
URL:https://pottedinsl.com/event/claudia-co-23/2025-12-14/
LOCATION:http://maps.secondlife.com/secondlife/Eternal%20Flames/201/91/25
END:VEVENT
BEGIN:VEVENT
DTSTART;TZID=America/Los_Angeles:20251214T120000
DTEND;TZID=America/Los_Angeles:20251214T130000
DTSTAMP:20260420T175411
CREATED:20251126T121506Z
LAST-MODIFIED:20251126T121506Z
UID:10012538-1765713600-1765717200@pottedinsl.com
SUMMARY:Garden of Eden
DESCRIPTION:Potted Auction \nhttp://maps.secondlife.com/secondlife/Wines/141/127/19
URL:https://pottedinsl.com/event/garden-of-eden-365/
LOCATION:http://maps.secondlife.com/secondlife/Wines/141/127/19
END:VEVENT
BEGIN:VEVENT
DTSTART;TZID=America/Los_Angeles:20251214T180000
DTEND;TZID=America/Los_Angeles:20251214T190000
DTSTAMP:20260420T175411
CREATED:20251127T103458Z
LAST-MODIFIED:20251127T103458Z
UID:10012569-1765735200-1765738800@pottedinsl.com
SUMMARY:Riacats
DESCRIPTION:Potted Auction \nhttp://maps.secondlife.com/secondlife/Solarian%20Prime/63/159/25
URL:https://pottedinsl.com/event/riacats-59/2025-12-14/
LOCATION:http://maps.secondlife.com/secondlife/Solarian%20Prime/63/159/25
END:VEVENT
BEGIN:VEVENT
DTSTART;TZID=America/Los_Angeles:20251215T080000
DTEND;TZID=America/Los_Angeles:20251215T170000
DTSTAMP:20260420T175411
CREATED:20251208T090522Z
LAST-MODIFIED:20251208T090522Z
UID:10012714-1765785600-1765818000@pottedinsl.com
SUMMARY:SIM BENEFIT POT
DESCRIPTION:Potted Auction to include the Sim Benefit pot Potted ~ LE Mrs. Claus Philodendron Pot at GOE \nhttp://maps.secondlife.com/secondlife/Wines/141/127/20
URL:https://pottedinsl.com/event/sim-benefit-pot-667/2025-12-15/1/
LOCATION:http://maps.secondlife.com/secondlife/Wines/141/127/20
END:VEVENT
BEGIN:VEVENT
DTSTART;TZID=America/Los_Angeles:20251215T110000
DTEND;TZID=America/Los_Angeles:20251215T120000
DTSTAMP:20260420T175411
CREATED:20251203T102921Z
LAST-MODIFIED:20251203T102921Z
UID:10012672-1765796400-1765800000@pottedinsl.com
SUMMARY:Charmed
DESCRIPTION:Potted Auction \nhttp://maps.secondlife.com/secondlife/Noctura/124/49/27
URL:https://pottedinsl.com/event/charmed-5/2025-12-15/
LOCATION:http://maps.secondlife.com/secondlife/Noctura/124/49/27
END:VEVENT
BEGIN:VEVENT
DTSTART;TZID=America/Los_Angeles:20251215T120000
DTEND;TZID=America/Los_Angeles:20251215T130000
DTSTAMP:20260420T175411
CREATED:20251208T090522Z
LAST-MODIFIED:20251208T090522Z
UID:10012715-1765800000-1765803600@pottedinsl.com
SUMMARY:SIM BENEFIT POT
DESCRIPTION:Potted Auction to include the Sim Benefit pot Potted ~ LE Mrs. Claus Philodendron Pot at GOE \nhttp://maps.secondlife.com/secondlife/Wines/141/127/20
URL:https://pottedinsl.com/event/sim-benefit-pot-667/2025-12-15/2/
LOCATION:http://maps.secondlife.com/secondlife/Wines/141/127/20
END:VEVENT
BEGIN:VEVENT
DTSTART;TZID=America/Los_Angeles:20251215T133000
DTEND;TZID=America/Los_Angeles:20251215T143000
DTSTAMP:20260420T175411
CREATED:20251127T100725Z
LAST-MODIFIED:20251127T100725Z
UID:10012547-1765805400-1765809000@pottedinsl.com
SUMMARY:Bakery Woods
DESCRIPTION:Potted Auction \nhttp://maps.secondlife.com/secondlife/Purple%20Rose/38/32/11
URL:https://pottedinsl.com/event/bakery-woods-56/2025-12-15/
LOCATION:http://maps.secondlife.com/secondlife/Purple%20Rose/38/32/11
END:VEVENT
BEGIN:VEVENT
DTSTART;TZID=America/Los_Angeles:20251215T133000
DTEND;TZID=America/Los_Angeles:20251215T143000
DTSTAMP:20260420T175411
CREATED:20251208T081251Z
LAST-MODIFIED:20251208T081251Z
UID:10012701-1765805400-1765809000@pottedinsl.com
SUMMARY:SIM BENEFIT POT
DESCRIPTION:Potted Auction to include the Sim Benefit pot Potted ~ LE Santa Claus Philodendron Pot at Bakery Woods \nhttp://maps.secondlife.com/secondlife/Purple%20Rose/21/33/11
URL:https://pottedinsl.com/event/sim-benefit-pot-655/
LOCATION:http://maps.secondlife.com/secondlife/Purple%20Rose/21/33/11
END:VEVENT
BEGIN:VEVENT
DTSTART;TZID=America/Los_Angeles:20251215T143000
DTEND;TZID=America/Los_Angeles:20251215T153000
DTSTAMP:20260420T175411
CREATED:20251206T083750Z
LAST-MODIFIED:20251206T083750Z
UID:10012679-1765809000-1765812600@pottedinsl.com
SUMMARY:Sweetflowers
DESCRIPTION:Potted Auction \nhttp://maps.secondlife.com/secondlife/Woodland%20Hills/208/196/26
URL:https://pottedinsl.com/event/sweetflowers-57/2025-12-15/
LOCATION:http://maps.secondlife.com/secondlife/Woodland%20Hills/208/196/26
END:VEVENT
BEGIN:VEVENT
DTSTART;TZID=America/Los_Angeles:20251215T143000
DTEND;TZID=America/Los_Angeles:20251215T153000
DTSTAMP:20260420T175411
CREATED:20251208T075701Z
LAST-MODIFIED:20251208T075701Z
UID:10012699-1765809000-1765812600@pottedinsl.com
SUMMARY:SIM BENEFIT POT
DESCRIPTION:Potted Auction to include the Sim Benefit pot  Potted ~ LE Santa Claus Philodendron Pot at Sweetflowers \nhttp://maps.secondlife.com/secondlife/Woodland%20Hills/216/194/26
URL:https://pottedinsl.com/event/sim-benefit-pot-653/
LOCATION:http://maps.secondlife.com/secondlife/Woodland%20Hills/216/194/26
END:VEVENT
END:VCALENDAR