BEGIN:VCALENDAR
VERSION:2.0
PRODID:-//Potted - ECPv6.15.20//NONSGML v1.0//EN
CALSCALE:GREGORIAN
METHOD:PUBLISH
X-WR-CALNAME:Potted
X-ORIGINAL-URL:https://pottedinsl.com
X-WR-CALDESC:Events for Potted
REFRESH-INTERVAL;VALUE=DURATION:PT1H
X-Robots-Tag:noindex
X-PUBLISHED-TTL:PT1H
BEGIN:VTIMEZONE
TZID:America/Los_Angeles
BEGIN:DAYLIGHT
TZOFFSETFROM:-0800
TZOFFSETTO:-0700
TZNAME:PDT
DTSTART:20240310T100000
END:DAYLIGHT
BEGIN:STANDARD
TZOFFSETFROM:-0700
TZOFFSETTO:-0800
TZNAME:PST
DTSTART:20241103T090000
END:STANDARD
BEGIN:DAYLIGHT
TZOFFSETFROM:-0800
TZOFFSETTO:-0700
TZNAME:PDT
DTSTART:20250309T100000
END:DAYLIGHT
BEGIN:STANDARD
TZOFFSETFROM:-0700
TZOFFSETTO:-0800
TZNAME:PST
DTSTART:20251102T090000
END:STANDARD
BEGIN:DAYLIGHT
TZOFFSETFROM:-0800
TZOFFSETTO:-0700
TZNAME:PDT
DTSTART:20260308T100000
END:DAYLIGHT
BEGIN:STANDARD
TZOFFSETFROM:-0700
TZOFFSETTO:-0800
TZNAME:PST
DTSTART:20261101T090000
END:STANDARD
END:VTIMEZONE
BEGIN:VEVENT
DTSTART;TZID=America/Los_Angeles:20251120T090000
DTEND;TZID=America/Los_Angeles:20251122T210000
DTSTAMP:20260424T082219
CREATED:20251109T071752Z
LAST-MODIFIED:20251109T071752Z
UID:10012490-1763629200-1763845200@pottedinsl.com
SUMMARY:A NOVEL AFFAIR - PATRON ONLY EVENT
DESCRIPTION:
URL:https://pottedinsl.com/event/a-novel-affair-patron-only-event/
END:VEVENT
BEGIN:VEVENT
DTSTART;TZID=America/Los_Angeles:20251122T110000
DTEND;TZID=America/Los_Angeles:20251122T120000
DTSTAMP:20260424T082219
CREATED:20251029T094637Z
LAST-MODIFIED:20251029T094637Z
UID:10012342-1763809200-1763812800@pottedinsl.com
SUMMARY:Sweetflowers
DESCRIPTION:Potted Auction \nhttp://maps.secondlife.com/secondlife/Woodland%20Hills/208/196/26
URL:https://pottedinsl.com/event/sweetflowers-54/2025-11-22/
LOCATION:http://maps.secondlife.com/secondlife/Woodland%20Hills/208/196/26
END:VEVENT
BEGIN:VEVENT
DTSTART;TZID=America/Los_Angeles:20251122T110000
DTEND;TZID=America/Los_Angeles:20251122T120000
DTSTAMP:20260424T082219
CREATED:20251111T105440Z
LAST-MODIFIED:20251111T105440Z
UID:10012504-1763809200-1763812800@pottedinsl.com
SUMMARY:SIM BENEFIT POT
DESCRIPTION:Potted Auction to include the Sim Benefit pot LE Sir Borksalot Philodendron Pot – Spice at Sweetflowers \nhttp://maps.secondlife.com/secondlife/Woodland%20Hills/216/194/26 \n 
URL:https://pottedinsl.com/event/sim-benefit-pot-629/
LOCATION:http://maps.secondlife.com/secondlife/Woodland%20Hills/216/194/26
END:VEVENT
BEGIN:VEVENT
DTSTART;TZID=America/Los_Angeles:20251122T120000
DTEND;TZID=America/Los_Angeles:20251122T130000
DTSTAMP:20260424T082219
CREATED:20251122T194645Z
LAST-MODIFIED:20251122T194645Z
UID:10012463-1763812800-1763816400@pottedinsl.com
SUMMARY:Nest Egg
DESCRIPTION:Potted Auction \nhttp://maps.secondlife.com/secondlife/The%20Mystical%20Isle/209/211/22
URL:https://pottedinsl.com/event/nest-egg-67/2025-11-22/
LOCATION:http://maps.secondlife.com/secondlife/The%20Mystical%20Isle/209/211/22
END:VEVENT
BEGIN:VEVENT
DTSTART;TZID=America/Los_Angeles:20251122T130000
DTEND;TZID=America/Los_Angeles:20251122T140000
DTSTAMP:20260424T082219
CREATED:20251110T111212Z
LAST-MODIFIED:20251110T111212Z
UID:10012491-1763816400-1763820000@pottedinsl.com
SUMMARY:Potted with Passion
DESCRIPTION:Potted Auction \nhttp://maps.secondlife.com/secondlife/Stalkers%20Allowed/128/182/21
URL:https://pottedinsl.com/event/potted-with-passion-22-2/2025-11-22/
LOCATION:http://maps.secondlife.com/secondlife/Stalkers%20Allowed/128/182/21
END:VEVENT
BEGIN:VEVENT
DTSTART;TZID=America/Los_Angeles:20251122T130000
DTEND;TZID=America/Los_Angeles:20251122T140000
DTSTAMP:20260424T082219
CREATED:20251113T154439Z
LAST-MODIFIED:20251113T154439Z
UID:10012510-1763816400-1763820000@pottedinsl.com
SUMMARY:SIM BENEFIT POT
DESCRIPTION:Potted Auction to include the Sim Benefit pot LE Sir Borksalot Philodendron Pot – Spice at PWP \nhttp://maps.secondlife.com/secondlife/Stalkers%20Allowed/128/182/21
URL:https://pottedinsl.com/event/sim-benefit-pot-635/
LOCATION:http://maps.secondlife.com/secondlife/Stalkers%20Allowed/128/182/21
END:VEVENT
BEGIN:VEVENT
DTSTART;TZID=America/Los_Angeles:20251122T160000
DTEND;TZID=America/Los_Angeles:20251122T170000
DTSTAMP:20260424T082219
CREATED:20251029T095357Z
LAST-MODIFIED:20251029T095357Z
UID:10012363-1763827200-1763830800@pottedinsl.com
SUMMARY:Celtic Mystics
DESCRIPTION:Potted Auction \nhttp://maps.secondlife.com/secondlife/Celtic/191/73/22
URL:https://pottedinsl.com/event/celtic-mystics-40/2025-11-22/
LOCATION:http://maps.secondlife.com/secondlife/Celtic/191/73/22
END:VEVENT
BEGIN:VEVENT
DTSTART;TZID=America/Los_Angeles:20251122T160000
DTEND;TZID=America/Los_Angeles:20251122T170000
DTSTAMP:20260424T082219
CREATED:20251111T105750Z
LAST-MODIFIED:20251111T105750Z
UID:10012506-1763827200-1763830800@pottedinsl.com
SUMMARY:SIM BENEFIT POT
DESCRIPTION:Potted Auction to include the Sim Benefit pot LE Sir Borksalot Philodendron Pot – Spice at Celtic Mystics \nhttp://maps.secondlife.com/secondlife/Celtic/192/74/22
URL:https://pottedinsl.com/event/sim-benefit-pot-631/
LOCATION:http://maps.secondlife.com/secondlife/Celtic/192/74/22\, http://maps.secondlife.com/secondlife/Celtic/192/74/22
END:VEVENT
BEGIN:VEVENT
DTSTART;TZID=America/Los_Angeles:20251122T170000
DTEND;TZID=America/Los_Angeles:20251122T180000
DTSTAMP:20260424T082219
CREATED:20251101T092231Z
LAST-MODIFIED:20251101T092231Z
UID:10012413-1763830800-1763834400@pottedinsl.com
SUMMARY:Delirium
DESCRIPTION:Potted Auction \nhttp://maps.secondlife.com/secondlife/Delirium%20Breedables/224/149/21
URL:https://pottedinsl.com/event/delirium-13/2025-11-22/
LOCATION:http://maps.secondlife.com/secondlife/Delirium%20Breedables/224/149/21
END:VEVENT
BEGIN:VEVENT
DTSTART;TZID=America/Los_Angeles:20251123T110000
DTEND;TZID=America/Los_Angeles:20251123T120000
DTSTAMP:20260424T082219
CREATED:20251101T093049Z
LAST-MODIFIED:20251101T093049Z
UID:10012437-1763895600-1763899200@pottedinsl.com
SUMMARY:Claudia & Co
DESCRIPTION:Potted Auction \nhttp://maps.secondlife.com/secondlife/Eternal%20Flames/201/91/25
URL:https://pottedinsl.com/event/claudia-co-22/2025-11-23/
LOCATION:http://maps.secondlife.com/secondlife/Eternal%20Flames/201/91/25
END:VEVENT
BEGIN:VEVENT
DTSTART;TZID=America/Los_Angeles:20251123T110000
DTEND;TZID=America/Los_Angeles:20251123T120000
DTSTAMP:20260424T082219
CREATED:20251114T145343Z
LAST-MODIFIED:20251114T145343Z
UID:10012522-1763895600-1763899200@pottedinsl.com
SUMMARY:SIM BENEFIT POT
DESCRIPTION:Potted Auction to include the Sim Benefit pot LE Sir Borksalot Philodendron Pot – Spice at Claudia & Co \nhttp://maps.secondlife.com/secondlife/Eternal%20Flames/201/91/25
URL:https://pottedinsl.com/event/sim-benefit-pot-641/
LOCATION:http://maps.secondlife.com/secondlife/Eternal%20Flames/201/91/25
END:VEVENT
BEGIN:VEVENT
DTSTART;TZID=America/Los_Angeles:20251123T120000
DTEND;TZID=America/Los_Angeles:20251123T130000
DTSTAMP:20260424T082219
CREATED:20251023T144151Z
LAST-MODIFIED:20251023T144151Z
UID:10012325-1763899200-1763902800@pottedinsl.com
SUMMARY:Garden of Eden
DESCRIPTION:Potted Auction \nhttp://maps.secondlife.com/secondlife/Wines/141/127/19
URL:https://pottedinsl.com/event/garden-of-eden-356/
LOCATION:http://maps.secondlife.com/secondlife/Wines/141/127/19
END:VEVENT
BEGIN:VEVENT
DTSTART;TZID=America/Los_Angeles:20251123T140000
DTEND;TZID=America/Los_Angeles:20251123T150000
DTSTAMP:20260424T082219
CREATED:20251030T101436Z
LAST-MODIFIED:20251030T101436Z
UID:10012408-1763906400-1763910000@pottedinsl.com
SUMMARY:Charmed
DESCRIPTION:Potted Auction \nhttp://maps.secondlife.com/secondlife/Noctura/133/161/30
URL:https://pottedinsl.com/event/charmed-3/2025-11-23/
LOCATION:http://maps.secondlife.com/secondlife/Noctura/133/161/30
END:VEVENT
BEGIN:VEVENT
DTSTART;TZID=America/Los_Angeles:20251123T160000
DTEND;TZID=America/Los_Angeles:20251123T170000
DTSTAMP:20260424T082219
CREATED:20251102T060620Z
LAST-MODIFIED:20251102T060620Z
UID:10012451-1763913600-1763917200@pottedinsl.com
SUMMARY:Ganja Garden
DESCRIPTION:Potted Auction \nhttp://maps.secondlife.com/secondlife/CreditCard/74/195/3482
URL:https://pottedinsl.com/event/ganja-garden-55/2025-11-23/
LOCATION:http://maps.secondlife.com/secondlife/CreditCard/74/195/3482
END:VEVENT
BEGIN:VEVENT
DTSTART;TZID=America/Los_Angeles:20251123T180000
DTEND;TZID=America/Los_Angeles:20251123T190000
DTSTAMP:20260424T082219
CREATED:20251111T101526Z
LAST-MODIFIED:20251111T101526Z
UID:10012493-1763920800-1763924400@pottedinsl.com
SUMMARY:SIM BENEFIT POT
DESCRIPTION:Potted Auction to include the Sim Benefit pot  LE Sir Borksalot Philodendron Pot – Spice at Riacats \nhttp://maps.secondlife.com/secondlife/Solarian%20Prime/63/159/25
URL:https://pottedinsl.com/event/sim-benefit-pot-619/
LOCATION:http://maps.secondlife.com/secondlife/Solarian%20Prime/63/159/25
END:VEVENT
BEGIN:VEVENT
DTSTART;TZID=America/Los_Angeles:20251124T110000
DTEND;TZID=America/Los_Angeles:20251124T120000
DTSTAMP:20260424T082219
CREATED:20251121T095957Z
LAST-MODIFIED:20251121T095957Z
UID:10012532-1763982000-1763985600@pottedinsl.com
SUMMARY:Charmed Breedables
DESCRIPTION:Potted Auction \nhttp://maps.secondlife.com/secondlife/Noctura/133/161/30
URL:https://pottedinsl.com/event/charmed-breedables/
LOCATION:http://maps.secondlife.com/secondlife/Noctura/133/161/30
END:VEVENT
BEGIN:VEVENT
DTSTART;TZID=America/Los_Angeles:20251124T120000
DTEND;TZID=America/Los_Angeles:20251124T130000
DTSTAMP:20260424T082219
CREATED:20251111T110104Z
LAST-MODIFIED:20251111T110104Z
UID:10012508-1763985600-1763989200@pottedinsl.com
SUMMARY:SIM BENEFIT POT
DESCRIPTION:Potted Auction to include the Sim Benefit pot LE Sir Borksalot Philodendron Pot – Storm at GOE \nhttp://maps.secondlife.com/secondlife/Wines/141/127/19
URL:https://pottedinsl.com/event/sim-benefit-pot-633/
LOCATION:http://maps.secondlife.com/secondlife/Wines/141/127/19
END:VEVENT
BEGIN:VEVENT
DTSTART;TZID=America/Los_Angeles:20251124T133000
DTEND;TZID=America/Los_Angeles:20251124T143000
DTSTAMP:20260424T082219
CREATED:20251105T083917Z
LAST-MODIFIED:20251105T083917Z
UID:10012482-1763991000-1763994600@pottedinsl.com
SUMMARY:Bakery Woods
DESCRIPTION:Potted Auction \nhttp://maps.secondlife.com/secondlife/Purple%20Rose/38/32/11
URL:https://pottedinsl.com/event/bakery-woods-53/2025-11-24/
LOCATION:http://maps.secondlife.com/secondlife/Purple%20Rose/38/32/11
END:VEVENT
BEGIN:VEVENT
DTSTART;TZID=America/Los_Angeles:20251124T133000
DTEND;TZID=America/Los_Angeles:20251124T143000
DTSTAMP:20260424T082219
CREATED:20251114T145037Z
LAST-MODIFIED:20251114T145037Z
UID:10012520-1763991000-1763994600@pottedinsl.com
SUMMARY:SIM BENEFIT POT
DESCRIPTION:Potted Auction to include the Sim Benefit pot LE Sir Borksalot Philodendron Pot – Storm at Bakery Woods \nhttp://maps.secondlife.com/secondlife/Purple%20Rose/21/33/11
URL:https://pottedinsl.com/event/sim-benefit-pot-639/
LOCATION:http://maps.secondlife.com/secondlife/Purple%20Rose/21/33/11
END:VEVENT
BEGIN:VEVENT
DTSTART;TZID=America/Los_Angeles:20251124T143000
DTEND;TZID=America/Los_Angeles:20251124T153000
DTSTAMP:20260424T082219
CREATED:20251029T094738Z
LAST-MODIFIED:20251029T094738Z
UID:10012347-1763994600-1763998200@pottedinsl.com
SUMMARY:Sweetflowers
DESCRIPTION:Potted Auction \nhttp://maps.secondlife.com/secondlife/Woodland%20Hills/208/196/26
URL:https://pottedinsl.com/event/sweetflowers-55/2025-11-24/
LOCATION:http://maps.secondlife.com/secondlife/Woodland%20Hills/208/196/26
END:VEVENT
BEGIN:VEVENT
DTSTART;TZID=America/Los_Angeles:20251124T170000
DTEND;TZID=America/Los_Angeles:20251124T180000
DTSTAMP:20260424T082219
CREATED:20251101T092703Z
LAST-MODIFIED:20251101T092703Z
UID:10012426-1764003600-1764007200@pottedinsl.com
SUMMARY:Jazzy Pots
DESCRIPTION:Potted Auction \nhttp://maps.secondlife.com/secondlife/Elston/102/229/3500
URL:https://pottedinsl.com/event/jazzy-pots-13/2025-11-24/
LOCATION:http://maps.secondlife.com/secondlife/Elston/102/229/3500
END:VEVENT
BEGIN:VEVENT
DTSTART;TZID=America/Los_Angeles:20251124T180000
DTEND;TZID=America/Los_Angeles:20251124T190000
DTSTAMP:20260424T082219
CREATED:20251029T101545Z
LAST-MODIFIED:20251029T101545Z
UID:10012367-1764007200-1764010800@pottedinsl.com
SUMMARY:Riacats
DESCRIPTION:Potted Auction \nhttp://maps.secondlife.com/secondlife/Solarian%20Prime/63/159/25
URL:https://pottedinsl.com/event/riacats-48/
LOCATION:http://maps.secondlife.com/secondlife/Solarian%20Prime/63/159/25
END:VEVENT
BEGIN:VEVENT
DTSTART;TZID=America/Los_Angeles:20251124T200000
DTEND;TZID=America/Los_Angeles:20251124T210000
DTSTAMP:20260424T082219
CREATED:20251029T102452Z
LAST-MODIFIED:20251029T102452Z
UID:10012378-1764014400-1764018000@pottedinsl.com
SUMMARY:Soil & Soul
DESCRIPTION:Potted Auction \nhttp://maps.secondlife.com/secondlife/Silex/100/126/33
URL:https://pottedinsl.com/event/soil-soul-7/2025-11-24/
LOCATION:http://maps.secondlife.com/secondlife/Silex/100/126/33
END:VEVENT
BEGIN:VEVENT
DTSTART;TZID=America/Los_Angeles:20251124T200000
DTEND;TZID=America/Los_Angeles:20251124T210000
DTSTAMP:20260424T082219
CREATED:20251111T102934Z
LAST-MODIFIED:20251111T102934Z
UID:10012498-1764014400-1764018000@pottedinsl.com
SUMMARY:SIM BENEFIT POT
DESCRIPTION:Potted Auction to include the Sim Benefit pot LE Sir Borksalot Philodendron Pot – Storm at Soil & Soul \nhttp://maps.secondlife.com/secondlife/Silex/100/126/33
URL:https://pottedinsl.com/event/sim-benefit-pot-625/
LOCATION:http://maps.secondlife.com/secondlife/Silex/100/126/33
END:VEVENT
BEGIN:VEVENT
DTSTART;TZID=America/Los_Angeles:20251125T090000
DTEND;TZID=America/Los_Angeles:20251125T100000
DTSTAMP:20260424T082219
CREATED:20251102T060400Z
LAST-MODIFIED:20251102T060400Z
UID:10012443-1764061200-1764064800@pottedinsl.com
SUMMARY:Ganja Garden
DESCRIPTION:Potted Auction \nhttp://maps.secondlife.com/secondlife/CreditCard/74/195/3482
URL:https://pottedinsl.com/event/ganja-garden-53/2025-11-25/
LOCATION:http://maps.secondlife.com/secondlife/CreditCard/74/195/3482
END:VEVENT
BEGIN:VEVENT
DTSTART;TZID=America/Los_Angeles:20251125T090000
DTEND;TZID=America/Los_Angeles:20251125T100000
DTSTAMP:20260424T082219
CREATED:20251114T145937Z
LAST-MODIFIED:20251114T145937Z
UID:10012525-1764061200-1764064800@pottedinsl.com
SUMMARY:SIM BENEFIT POT
DESCRIPTION:Potted Auction to include the Sim Benefit pot Spice at Ganja Garden \nhttp://maps.secondlife.com/secondlife/CreditCard/74/195/3482
URL:https://pottedinsl.com/event/sim-benefit-pot-644/
LOCATION:http://maps.secondlife.com/secondlife/CreditCard/74/195/3482
END:VEVENT
BEGIN:VEVENT
DTSTART;TZID=America/Los_Angeles:20251125T110000
DTEND;TZID=America/Los_Angeles:20251125T120000
DTSTAMP:20260424T082219
CREATED:20251101T092407Z
LAST-MODIFIED:20251101T092407Z
UID:10012418-1764068400-1764072000@pottedinsl.com
SUMMARY:Rainbow Potted
DESCRIPTION:Potted Auction \nhttp://maps.secondlife.com/secondlife/Covdova/193/18/22
URL:https://pottedinsl.com/event/rainbow-potted-42/2025-11-25/
LOCATION:http://maps.secondlife.com/secondlife/Covdova/193/18/22
END:VEVENT
BEGIN:VEVENT
DTSTART;TZID=America/Los_Angeles:20251125T110000
DTEND;TZID=America/Los_Angeles:20251125T120000
DTSTAMP:20260424T082219
CREATED:20251111T104629Z
LAST-MODIFIED:20251111T104629Z
UID:10012502-1764068400-1764072000@pottedinsl.com
SUMMARY:SIM BENEFIT POT
DESCRIPTION:Potted Auction to include the Sim Benefit pot LE Sir Borksalot Philodendron Pot – Spice at Rainbow Potted \nhttp://maps.secondlife.com/secondlife/Covdova/193/18/22
URL:https://pottedinsl.com/event/sim-benefit-pot-627/
LOCATION:http://maps.secondlife.com/secondlife/Covdova/193/18/22
END:VEVENT
BEGIN:VEVENT
DTSTART;TZID=America/Los_Angeles:20251125T120000
DTEND;TZID=America/Los_Angeles:20251125T130000
DTSTAMP:20260424T082219
CREATED:20251105T084048Z
LAST-MODIFIED:20251105T084048Z
UID:10012485-1764072000-1764075600@pottedinsl.com
SUMMARY:Bakery Woods
DESCRIPTION:Potted Auction \nhttp://maps.secondlife.com/secondlife/Purple%20Rose/38/32/11
URL:https://pottedinsl.com/event/bakery-woods-54/2025-11-25/
LOCATION:http://maps.secondlife.com/secondlife/Purple%20Rose/38/32/11
END:VEVENT
BEGIN:VEVENT
DTSTART;TZID=America/Los_Angeles:20251125T130000
DTEND;TZID=America/Los_Angeles:20251125T140000
DTSTAMP:20260424T082219
CREATED:20251111T103132Z
LAST-MODIFIED:20251111T103132Z
UID:10012500-1764075600-1764079200@pottedinsl.com
SUMMARY:Braxton Flowers
DESCRIPTION:Potted Auction \nhttp://maps.secondlife.com/secondlife/Firanelli%20Estates/89/56/76
URL:https://pottedinsl.com/event/braxton-flowers-4/2025-11-25/
LOCATION:http://maps.secondlife.com/secondlife/Firanelli%20Estates/89/56/76
END:VEVENT
END:VCALENDAR