BEGIN:VCALENDAR
VERSION:2.0
PRODID:-//Potted - ECPv6.15.20//NONSGML v1.0//EN
CALSCALE:GREGORIAN
METHOD:PUBLISH
X-WR-CALNAME:Potted
X-ORIGINAL-URL:https://pottedinsl.com
X-WR-CALDESC:Events for Potted
REFRESH-INTERVAL;VALUE=DURATION:PT1H
X-Robots-Tag:noindex
X-PUBLISHED-TTL:PT1H
BEGIN:VTIMEZONE
TZID:America/Los_Angeles
BEGIN:DAYLIGHT
TZOFFSETFROM:-0800
TZOFFSETTO:-0700
TZNAME:PDT
DTSTART:20240310T100000
END:DAYLIGHT
BEGIN:STANDARD
TZOFFSETFROM:-0700
TZOFFSETTO:-0800
TZNAME:PST
DTSTART:20241103T090000
END:STANDARD
BEGIN:DAYLIGHT
TZOFFSETFROM:-0800
TZOFFSETTO:-0700
TZNAME:PDT
DTSTART:20250309T100000
END:DAYLIGHT
BEGIN:STANDARD
TZOFFSETFROM:-0700
TZOFFSETTO:-0800
TZNAME:PST
DTSTART:20251102T090000
END:STANDARD
BEGIN:DAYLIGHT
TZOFFSETFROM:-0800
TZOFFSETTO:-0700
TZNAME:PDT
DTSTART:20260308T100000
END:DAYLIGHT
BEGIN:STANDARD
TZOFFSETFROM:-0700
TZOFFSETTO:-0800
TZNAME:PST
DTSTART:20261101T090000
END:STANDARD
END:VTIMEZONE
BEGIN:VEVENT
DTSTART;TZID=America/Los_Angeles:20251201T200000
DTEND;TZID=America/Los_Angeles:20251201T210000
DTSTAMP:20260423T140212
CREATED:20251201T083643Z
LAST-MODIFIED:20251201T083643Z
UID:10012586-1764619200-1764622800@pottedinsl.com
SUMMARY:Soil & Soul
DESCRIPTION:Potted Auction \nhttp://maps.secondlife.com/secondlife/Silex/100/126/33
URL:https://pottedinsl.com/event/soil-soul-10/2025-12-01/
LOCATION:http://maps.secondlife.com/secondlife/Silex/100/126/33
END:VEVENT
BEGIN:VEVENT
DTSTART;TZID=America/Los_Angeles:20251201T180000
DTEND;TZID=America/Los_Angeles:20251201T190000
DTSTAMP:20260423T140212
CREATED:20251127T102910Z
LAST-MODIFIED:20251127T102910Z
UID:10012560-1764612000-1764615600@pottedinsl.com
SUMMARY:Riacats
DESCRIPTION:Potted Auction \nhttp://maps.secondlife.com/secondlife/Solarian%20Prime/63/159/25
URL:https://pottedinsl.com/event/riacats-54/2025-12-01/
LOCATION:http://maps.secondlife.com/secondlife/Solarian%20Prime/63/159/25
END:VEVENT
BEGIN:VEVENT
DTSTART;TZID=America/Los_Angeles:20251201T133000
DTEND;TZID=America/Los_Angeles:20251201T143000
DTSTAMP:20260423T140212
CREATED:20251127T100725Z
LAST-MODIFIED:20251127T100725Z
UID:10012546-1764595800-1764599400@pottedinsl.com
SUMMARY:Bakery Woods
DESCRIPTION:Potted Auction \nhttp://maps.secondlife.com/secondlife/Purple%20Rose/38/32/11
URL:https://pottedinsl.com/event/bakery-woods-56/2025-12-01/
LOCATION:http://maps.secondlife.com/secondlife/Purple%20Rose/38/32/11
END:VEVENT
BEGIN:VEVENT
DTSTART;TZID=America/Los_Angeles:20251201T120000
DTEND;TZID=America/Los_Angeles:20251201T130000
DTSTAMP:20260423T140212
CREATED:20251126T120315Z
LAST-MODIFIED:20251126T120315Z
UID:10012533-1764590400-1764594000@pottedinsl.com
SUMMARY:Garden of Eden
DESCRIPTION:Potted Auction \nhttp://maps.secondlife.com/secondlife/Wines/141/127/19
URL:https://pottedinsl.com/event/garden-of-eden-360/
LOCATION:http://maps.secondlife.com/secondlife/Wines/141/127/19
END:VEVENT
BEGIN:VEVENT
DTSTART;TZID=America/Los_Angeles:20251130T180000
DTEND;TZID=America/Los_Angeles:20251130T190000
DTSTAMP:20260423T140212
CREATED:20251029T102110Z
LAST-MODIFIED:20251029T102110Z
UID:10012374-1764525600-1764529200@pottedinsl.com
SUMMARY:Riacats
DESCRIPTION:Potted Auction \nhttp://maps.secondlife.com/secondlife/Solarian%20Prime/63/159/25
URL:https://pottedinsl.com/event/riacats-53/2025-11-30/
LOCATION:http://maps.secondlife.com/secondlife/Solarian%20Prime/63/159/25
END:VEVENT
BEGIN:VEVENT
DTSTART;TZID=America/Los_Angeles:20251130T140000
DTEND;TZID=America/Los_Angeles:20251130T150000
DTSTAMP:20260423T140212
CREATED:20251030T101436Z
LAST-MODIFIED:20251030T101436Z
UID:10012409-1764511200-1764514800@pottedinsl.com
SUMMARY:Charmed
DESCRIPTION:Potted Auction \nhttp://maps.secondlife.com/secondlife/Noctura/133/161/30
URL:https://pottedinsl.com/event/charmed-3/2025-11-30/
LOCATION:http://maps.secondlife.com/secondlife/Noctura/133/161/30
END:VEVENT
BEGIN:VEVENT
DTSTART;TZID=America/Los_Angeles:20251130T120000
DTEND;TZID=America/Los_Angeles:20251130T130000
DTSTAMP:20260423T140212
CREATED:20251023T144506Z
LAST-MODIFIED:20251023T144506Z
UID:10012328-1764504000-1764507600@pottedinsl.com
SUMMARY:Garden of Eden
DESCRIPTION:Potted Auction \nhttp://maps.secondlife.com/secondlife/Wines/141/127/19
URL:https://pottedinsl.com/event/garden-of-eden-359/
LOCATION:http://maps.secondlife.com/secondlife/Wines/141/127/19
END:VEVENT
BEGIN:VEVENT
DTSTART;TZID=America/Los_Angeles:20251130T110000
DTEND;TZID=America/Los_Angeles:20251130T120000
DTSTAMP:20260423T140212
CREATED:20251101T093049Z
LAST-MODIFIED:20251101T093049Z
UID:10012438-1764500400-1764504000@pottedinsl.com
SUMMARY:Claudia & Co
DESCRIPTION:Potted Auction \nhttp://maps.secondlife.com/secondlife/Eternal%20Flames/201/91/25
URL:https://pottedinsl.com/event/claudia-co-22/2025-11-30/
LOCATION:http://maps.secondlife.com/secondlife/Eternal%20Flames/201/91/25
END:VEVENT
BEGIN:VEVENT
DTSTART;TZID=America/Los_Angeles:20251129T170000
DTEND;TZID=America/Los_Angeles:20251129T180000
DTSTAMP:20260423T140212
CREATED:20251101T092231Z
LAST-MODIFIED:20251101T092231Z
UID:10012414-1764435600-1764439200@pottedinsl.com
SUMMARY:Delirium
DESCRIPTION:Potted Auction \nhttp://maps.secondlife.com/secondlife/Delirium%20Breedables/224/149/21
URL:https://pottedinsl.com/event/delirium-13/2025-11-29/
LOCATION:http://maps.secondlife.com/secondlife/Delirium%20Breedables/224/149/21
END:VEVENT
BEGIN:VEVENT
DTSTART;TZID=America/Los_Angeles:20251129T160000
DTEND;TZID=America/Los_Angeles:20251129T170000
DTSTAMP:20260423T140212
CREATED:20251029T095357Z
LAST-MODIFIED:20251029T095357Z
UID:10012364-1764432000-1764435600@pottedinsl.com
SUMMARY:Celtic Mystics
DESCRIPTION:Potted Auction \nhttp://maps.secondlife.com/secondlife/Celtic/191/73/22
URL:https://pottedinsl.com/event/celtic-mystics-40/2025-11-29/
LOCATION:http://maps.secondlife.com/secondlife/Celtic/191/73/22
END:VEVENT
BEGIN:VEVENT
DTSTART;TZID=America/Los_Angeles:20251129T120000
DTEND;TZID=America/Los_Angeles:20251129T130000
DTSTAMP:20260423T140212
CREATED:20251126T131422Z
LAST-MODIFIED:20251126T131422Z
UID:10012544-1764417600-1764421200@pottedinsl.com
SUMMARY:Garden of Eden
DESCRIPTION:Potted Auction \nhttp://maps.secondlife.com/secondlife/Wines/141/127/19
URL:https://pottedinsl.com/event/garden-of-eden-371/
LOCATION:http://maps.secondlife.com/secondlife/Wines/141/127/19
END:VEVENT
BEGIN:VEVENT
DTSTART;TZID=America/Los_Angeles:20251129T120000
DTEND;TZID=America/Los_Angeles:20251129T130000
DTSTAMP:20260423T140212
CREATED:20251122T194645Z
LAST-MODIFIED:20251122T194645Z
UID:10012464-1764417600-1764421200@pottedinsl.com
SUMMARY:Nest Egg
DESCRIPTION:Potted Auction \nhttp://maps.secondlife.com/secondlife/The%20Mystical%20Isle/209/211/22
URL:https://pottedinsl.com/event/nest-egg-67/2025-11-29/
LOCATION:http://maps.secondlife.com/secondlife/The%20Mystical%20Isle/209/211/22
END:VEVENT
BEGIN:VEVENT
DTSTART;TZID=America/Los_Angeles:20251129T110000
DTEND;TZID=America/Los_Angeles:20251129T120000
DTSTAMP:20260423T140212
CREATED:20251029T094637Z
LAST-MODIFIED:20251029T094637Z
UID:10012343-1764414000-1764417600@pottedinsl.com
SUMMARY:Sweetflowers
DESCRIPTION:Potted Auction \nhttp://maps.secondlife.com/secondlife/Woodland%20Hills/208/196/26
URL:https://pottedinsl.com/event/sweetflowers-54/2025-11-29/
LOCATION:http://maps.secondlife.com/secondlife/Woodland%20Hills/208/196/26
END:VEVENT
BEGIN:VEVENT
DTSTART;TZID=America/Los_Angeles:20251128T163000
DTEND;TZID=America/Los_Angeles:20251128T173000
DTSTAMP:20260423T140212
CREATED:20251101T092915Z
LAST-MODIFIED:20251101T092915Z
UID:10012433-1764347400-1764351000@pottedinsl.com
SUMMARY:Jazzy Pots
DESCRIPTION:Potted Auction \nhttp://maps.secondlife.com/secondlife/Elston/102/229/3500
URL:https://pottedinsl.com/event/jazzy-pots-15/2025-11-28/
LOCATION:http://maps.secondlife.com/secondlife/Elston/102/229/3500
END:VEVENT
BEGIN:VEVENT
DTSTART;TZID=America/Los_Angeles:20251128T150000
DTEND;TZID=America/Los_Angeles:20251128T160000
DTSTAMP:20260423T140212
CREATED:20251102T061634Z
LAST-MODIFIED:20251102T061634Z
UID:10012472-1764342000-1764345600@pottedinsl.com
SUMMARY:Barbasz Got Potted
DESCRIPTION:Potted Auction \nhttp://maps.secondlife.com/secondlife/MOJO/50/128/22
URL:https://pottedinsl.com/event/barbasz-got-potted-81/2025-11-28/
LOCATION:http://maps.secondlife.com/secondlife/MOJO/50/128/22
END:VEVENT
BEGIN:VEVENT
DTSTART;TZID=America/Los_Angeles:20251128T130000
DTEND;TZID=America/Los_Angeles:20251128T140000
DTSTAMP:20260423T140212
CREATED:20251101T092508Z
LAST-MODIFIED:20251101T092508Z
UID:10012422-1764334800-1764338400@pottedinsl.com
SUMMARY:Rainbow Potted
DESCRIPTION:Potted Auction \nhttp://maps.secondlife.com/secondlife/Covdova/193/18/22
URL:https://pottedinsl.com/event/rainbow-potted-43/2025-11-28/
LOCATION:http://maps.secondlife.com/secondlife/Covdova/193/18/22
END:VEVENT
BEGIN:VEVENT
DTSTART;TZID=America/Los_Angeles:20251128T120000
DTEND;TZID=America/Los_Angeles:20251130T120000
DTSTAMP:20260423T140212
CREATED:20251114T144633Z
LAST-MODIFIED:20251114T144633Z
UID:10012518-1764331200-1764504000@pottedinsl.com
SUMMARY:SIM BENEFIT POT
DESCRIPTION:Bid board offering the Sim Benefit pot LE Sir Borksalot Philodendron Pot – Storm at Amore d’Potted \nhttp://maps.secondlife.com/secondlife/Passions/208/147/21
URL:https://pottedinsl.com/event/sim-benefit-pot-637/
LOCATION:http://maps.secondlife.com/secondlife/Passions/208/147/21
END:VEVENT
BEGIN:VEVENT
DTSTART;TZID=America/Los_Angeles:20251128T120000
DTEND;TZID=America/Los_Angeles:20251128T130000
DTSTAMP:20260423T140212
CREATED:20251105T084206Z
LAST-MODIFIED:20251105T084206Z
UID:10012489-1764331200-1764334800@pottedinsl.com
SUMMARY:Bakery Woods
DESCRIPTION:Potted Auction \nhttp://maps.secondlife.com/secondlife/Purple%20Rose/38/32/11
URL:https://pottedinsl.com/event/bakery-woods-55/2025-11-28/
LOCATION:http://maps.secondlife.com/secondlife/Purple%20Rose/38/32/11
END:VEVENT
BEGIN:VEVENT
DTSTART;TZID=America/Los_Angeles:20251128T110000
DTEND;TZID=America/Los_Angeles:20251128T120000
DTSTAMP:20260423T140212
CREATED:20251030T101303Z
LAST-MODIFIED:20251030T101303Z
UID:10012405-1764327600-1764331200@pottedinsl.com
SUMMARY:Charmed
DESCRIPTION:Potted Auction \nhttp://maps.secondlife.com/secondlife/Noctura/133/161/30
URL:https://pottedinsl.com/event/charmed-2/2025-11-28/
LOCATION:http://maps.secondlife.com/secondlife/Noctura/133/161/30
END:VEVENT
BEGIN:VEVENT
DTSTART;TZID=America/Los_Angeles:20251128T090000
DTEND;TZID=America/Los_Angeles:20251128T100000
DTSTAMP:20260423T140212
CREATED:20251023T144405Z
LAST-MODIFIED:20251023T144405Z
UID:10012327-1764320400-1764324000@pottedinsl.com
SUMMARY:Garden of Eden
DESCRIPTION:Potted Auction \nhttp://maps.secondlife.com/secondlife/Wines/141/127/19
URL:https://pottedinsl.com/event/garden-of-eden-358/
LOCATION:http://maps.secondlife.com/secondlife/Wines/141/127/19
END:VEVENT
BEGIN:VEVENT
DTSTART;TZID=America/Los_Angeles:20251128T080000
DTEND;TZID=America/Los_Angeles:20251130T200000
DTSTAMP:20260423T140212
CREATED:20251114T154856Z
LAST-MODIFIED:20251114T154856Z
UID:10012527-1764316800-1764532800@pottedinsl.com
SUMMARY:SIM BENEFIT POT
DESCRIPTION:Bid board offering the Sim Benefit pot Spice at Delirium \nhttp://maps.secondlife.com/secondlife/Delirium%20Breedables/236/132/21
URL:https://pottedinsl.com/event/sim-benefit-pot-646/
LOCATION:http://maps.secondlife.com/secondlife/Delirium%20Breedables/236/132/21
END:VEVENT
BEGIN:VEVENT
DTSTART;TZID=America/Los_Angeles:20251127T200000
DTEND;TZID=America/Los_Angeles:20251127T210000
DTSTAMP:20260423T140212
CREATED:20251029T102658Z
LAST-MODIFIED:20251029T102658Z
UID:10012386-1764273600-1764277200@pottedinsl.com
SUMMARY:Soil & Soul
DESCRIPTION:Potted Auction \nhttp://maps.secondlife.com/secondlife/Silex/100/126/33
URL:https://pottedinsl.com/event/soil-soul-9/2025-11-27/
LOCATION:http://maps.secondlife.com/secondlife/Silex/100/126/33
END:VEVENT
BEGIN:VEVENT
DTSTART;TZID=America/Los_Angeles:20251127T180000
DTEND;TZID=America/Los_Angeles:20251127T190000
DTSTAMP:20260423T140212
CREATED:20251029T101953Z
LAST-MODIFIED:20251029T101953Z
UID:10012372-1764266400-1764270000@pottedinsl.com
SUMMARY:Riacats
DESCRIPTION:Potted Auction \nhttp://maps.secondlife.com/secondlife/Solarian%20Prime/63/159/25
URL:https://pottedinsl.com/event/riacats-52/
LOCATION:http://maps.secondlife.com/secondlife/Solarian%20Prime/63/159/25
END:VEVENT
BEGIN:VEVENT
DTSTART;TZID=America/Los_Angeles:20251127T160000
DTEND;TZID=America/Los_Angeles:20251127T170000
DTSTAMP:20260423T140212
CREATED:20251102T060903Z
LAST-MODIFIED:20251102T060903Z
UID:10012460-1764259200-1764262800@pottedinsl.com
SUMMARY:Nest Egg
DESCRIPTION:Potted Auction \nhttp://maps.secondlife.com/secondlife/The%20Mystical%20Isle/209/211/22
URL:https://pottedinsl.com/event/nest-egg-66/2025-11-27/
LOCATION:http://maps.secondlife.com/secondlife/The%20Mystical%20Isle/209/211/22
END:VEVENT
BEGIN:VEVENT
DTSTART;TZID=America/Los_Angeles:20251127T090000
DTEND;TZID=America/Los_Angeles:20251129T090000
DTSTAMP:20260423T140212
CREATED:20251115T074701Z
LAST-MODIFIED:20251115T074701Z
UID:10012529-1764234000-1764406800@pottedinsl.com
SUMMARY:SIM BENEFIT POT
DESCRIPTION:Bid board offering the Sim Benefit pot  LE Borksalot Spice at Braxton Flowers \nhttp://maps.secondlife.com/secondlife/Firanelli%20Estates/60/66/77
URL:https://pottedinsl.com/event/sim-benefit-pot-648/
LOCATION:http://maps.secondlife.com/secondlife/Firanelli%20Estates/60/66/77
END:VEVENT
BEGIN:VEVENT
DTSTART;TZID=America/Los_Angeles:20251127T090000
DTEND;TZID=America/Los_Angeles:20251127T100000
DTSTAMP:20260423T140212
CREATED:20251102T060518Z
LAST-MODIFIED:20251102T060518Z
UID:10012447-1764234000-1764237600@pottedinsl.com
SUMMARY:Ganja Garden
DESCRIPTION:Potted Auction \nhttp://maps.secondlife.com/secondlife/CreditCard/74/195/3482
URL:https://pottedinsl.com/event/ganja-garden-54/2025-11-27/
LOCATION:http://maps.secondlife.com/secondlife/CreditCard/74/195/3482
END:VEVENT
BEGIN:VEVENT
DTSTART;TZID=America/Los_Angeles:20251126T164500
DTEND;TZID=America/Los_Angeles:20251126T174500
DTSTAMP:20260423T140212
CREATED:20251029T095301Z
LAST-MODIFIED:20251029T095301Z
UID:10012359-1764175500-1764179100@pottedinsl.com
SUMMARY:Celtic Mystics
DESCRIPTION:Potted Auction \nhttp://maps.secondlife.com/secondlife/Celtic/191/73/22
URL:https://pottedinsl.com/event/celtic-mystics-39/2025-11-26/
LOCATION:http://maps.secondlife.com/secondlife/Celtic/191/73/22
END:VEVENT
BEGIN:VEVENT
DTSTART;TZID=America/Los_Angeles:20251126T153000
DTEND;TZID=America/Los_Angeles:20251126T163000
DTSTAMP:20260423T140212
CREATED:20251111T102011Z
LAST-MODIFIED:20251111T102011Z
UID:10012494-1764171000-1764174600@pottedinsl.com
SUMMARY:SIM BENEFIT POT
DESCRIPTION:Potted Auction to include the Sim Benefit pot LE Sir Borksalot Philodendron Pot – Spice at Barbasz \nhttp://maps.secondlife.com/secondlife/MOJO/50/128/22
URL:https://pottedinsl.com/event/sim-benefit-pot-621/
LOCATION:http://maps.secondlife.com/secondlife/MOJO/50/128/22
END:VEVENT
BEGIN:VEVENT
DTSTART;TZID=America/Los_Angeles:20251126T153000
DTEND;TZID=America/Los_Angeles:20251126T163000
DTSTAMP:20260423T140212
CREATED:20251102T061520Z
LAST-MODIFIED:20251102T061520Z
UID:10012468-1764171000-1764174600@pottedinsl.com
SUMMARY:Barbasz Got Potted
DESCRIPTION:Potted Auction \nhttp://maps.secondlife.com/secondlife/MOJO/50/128/22
URL:https://pottedinsl.com/event/barbasz-got-potted-80/2025-11-26/
LOCATION:http://maps.secondlife.com/secondlife/MOJO/50/128/22
END:VEVENT
BEGIN:VEVENT
DTSTART;TZID=America/Los_Angeles:20251126T130000
DTEND;TZID=America/Los_Angeles:20251126T140000
DTSTAMP:20260423T140212
CREATED:20251029T094841Z
LAST-MODIFIED:20251029T094841Z
UID:10012351-1764162000-1764165600@pottedinsl.com
SUMMARY:Sweetflowers
DESCRIPTION:Potted Auction \nhttp://maps.secondlife.com/secondlife/Woodland%20Hills/208/196/26
URL:https://pottedinsl.com/event/sweetflowers-56/2025-11-26/
LOCATION:http://maps.secondlife.com/secondlife/Woodland%20Hills/208/196/26
END:VEVENT
END:VCALENDAR