BEGIN:VCALENDAR
VERSION:2.0
PRODID:-//Potted - ECPv6.15.20//NONSGML v1.0//EN
CALSCALE:GREGORIAN
METHOD:PUBLISH
X-WR-CALNAME:Potted
X-ORIGINAL-URL:https://pottedinsl.com
X-WR-CALDESC:Events for Potted
REFRESH-INTERVAL;VALUE=DURATION:PT1H
X-Robots-Tag:noindex
X-PUBLISHED-TTL:PT1H
BEGIN:VTIMEZONE
TZID:America/Los_Angeles
BEGIN:DAYLIGHT
TZOFFSETFROM:-0800
TZOFFSETTO:-0700
TZNAME:PDT
DTSTART:20250309T100000
END:DAYLIGHT
BEGIN:STANDARD
TZOFFSETFROM:-0700
TZOFFSETTO:-0800
TZNAME:PST
DTSTART:20251102T090000
END:STANDARD
BEGIN:DAYLIGHT
TZOFFSETFROM:-0800
TZOFFSETTO:-0700
TZNAME:PDT
DTSTART:20260308T100000
END:DAYLIGHT
BEGIN:STANDARD
TZOFFSETFROM:-0700
TZOFFSETTO:-0800
TZNAME:PST
DTSTART:20261101T090000
END:STANDARD
BEGIN:DAYLIGHT
TZOFFSETFROM:-0800
TZOFFSETTO:-0700
TZNAME:PDT
DTSTART:20270314T100000
END:DAYLIGHT
BEGIN:STANDARD
TZOFFSETFROM:-0700
TZOFFSETTO:-0800
TZNAME:PST
DTSTART:20271107T090000
END:STANDARD
END:VTIMEZONE
BEGIN:VEVENT
DTSTART;TZID=America/Los_Angeles:20260314T110000
DTEND;TZID=America/Los_Angeles:20260314T120000
DTSTAMP:20260422T073038
CREATED:20260228T132351Z
LAST-MODIFIED:20260228T132514Z
UID:10013133-1773486000-1773489600@pottedinsl.com
SUMMARY:Sweetflowers
DESCRIPTION:Potted Auction \nhttp://maps.secondlife.com/secondlife/Woodland%20Hills/208/196/26 \n 
URL:https://pottedinsl.com/event/sweetflowers-66/2026-03-14/
LOCATION:http://maps.secondlife.com/secondlife/Woodland%20Hills/208/196/26
END:VEVENT
BEGIN:VEVENT
DTSTART;TZID=America/Los_Angeles:20260314T140000
DTEND;TZID=America/Los_Angeles:20260314T150000
DTSTAMP:20260422T073038
CREATED:20260303T093425Z
LAST-MODIFIED:20260303T093425Z
UID:10013186-1773496800-1773500400@pottedinsl.com
SUMMARY:Jazzy Pots
DESCRIPTION:Potted  Auction \nhttp://maps.secondlife.com/secondlife/Elston/102/229/3500
URL:https://pottedinsl.com/event/jazzy-pots-27/2026-03-14/
LOCATION:http://maps.secondlife.com/secondlife/Elston/102/229/3500
END:VEVENT
BEGIN:VEVENT
DTSTART;TZID=America/Los_Angeles:20260314T170000
DTEND;TZID=America/Los_Angeles:20260314T180000
DTSTAMP:20260422T073038
CREATED:20260228T093518Z
LAST-MODIFIED:20260228T093518Z
UID:10013117-1773507600-1773511200@pottedinsl.com
SUMMARY:Delirium
DESCRIPTION:Potted Auction \nhttp://maps.secondlife.com/secondlife/Delirium%20Breedables/214/146/23
URL:https://pottedinsl.com/event/delirium-18/2026-03-14/
LOCATION:http://maps.secondlife.com/secondlife/Delirium%20Breedables/214/146/23
END:VEVENT
END:VCALENDAR