BEGIN:VCALENDAR
VERSION:2.0
PRODID:-//Potted - ECPv6.15.20//NONSGML v1.0//EN
CALSCALE:GREGORIAN
METHOD:PUBLISH
X-WR-CALNAME:Potted
X-ORIGINAL-URL:https://pottedinsl.com
X-WR-CALDESC:Events for Potted
REFRESH-INTERVAL;VALUE=DURATION:PT1H
X-Robots-Tag:noindex
X-PUBLISHED-TTL:PT1H
BEGIN:VTIMEZONE
TZID:America/Los_Angeles
BEGIN:DAYLIGHT
TZOFFSETFROM:-0800
TZOFFSETTO:-0700
TZNAME:PDT
DTSTART:20250309T100000
END:DAYLIGHT
BEGIN:STANDARD
TZOFFSETFROM:-0700
TZOFFSETTO:-0800
TZNAME:PST
DTSTART:20251102T090000
END:STANDARD
BEGIN:DAYLIGHT
TZOFFSETFROM:-0800
TZOFFSETTO:-0700
TZNAME:PDT
DTSTART:20260308T100000
END:DAYLIGHT
BEGIN:STANDARD
TZOFFSETFROM:-0700
TZOFFSETTO:-0800
TZNAME:PST
DTSTART:20261101T090000
END:STANDARD
BEGIN:DAYLIGHT
TZOFFSETFROM:-0800
TZOFFSETTO:-0700
TZNAME:PDT
DTSTART:20270314T100000
END:DAYLIGHT
BEGIN:STANDARD
TZOFFSETFROM:-0700
TZOFFSETTO:-0800
TZNAME:PST
DTSTART:20271107T090000
END:STANDARD
END:VTIMEZONE
BEGIN:VEVENT
DTSTART;TZID=America/Los_Angeles:20260309T110000
DTEND;TZID=America/Los_Angeles:20260309T120000
DTSTAMP:20260422T163334
CREATED:20260228T140756Z
LAST-MODIFIED:20260228T140756Z
UID:10013153-1773054000-1773057600@pottedinsl.com
SUMMARY:Charmed
DESCRIPTION:Potted Auction \nhttp://maps.secondlife.com/secondlife/Noctura/124/49/27
URL:https://pottedinsl.com/event/charmed-15/2026-03-09/
LOCATION:http://maps.secondlife.com/secondlife/Noctura/124/49/27
END:VEVENT
BEGIN:VEVENT
DTSTART;TZID=America/Los_Angeles:20260309T170000
DTEND;TZID=America/Los_Angeles:20260309T180000
DTSTAMP:20260422T163334
CREATED:20260303T093101Z
LAST-MODIFIED:20260303T093101Z
UID:10013177-1773075600-1773079200@pottedinsl.com
SUMMARY:Jazzy Pots
DESCRIPTION:Potted Auction \nhttp://maps.secondlife.com/secondlife/Elston/102/229/3500
URL:https://pottedinsl.com/event/jazzy-pots-25/2026-03-09/
LOCATION:http://maps.secondlife.com/secondlife/Elston/102/229/3500
END:VEVENT
BEGIN:VEVENT
DTSTART;TZID=America/Los_Angeles:20260309T180000
DTEND;TZID=America/Los_Angeles:20260309T190000
DTSTAMP:20260422T163334
CREATED:20260228T134430Z
LAST-MODIFIED:20260228T134430Z
UID:10013136-1773079200-1773082800@pottedinsl.com
SUMMARY:Riacats
DESCRIPTION:Potted Auction \nhttp://maps.secondlife.com/secondlife/Solarian%20Prime/63/159/25
URL:https://pottedinsl.com/event/riacats-68/2026-03-09/
LOCATION:http://maps.secondlife.com/secondlife/Solarian%20Prime/63/159/25
END:VEVENT
END:VCALENDAR