BEGIN:VCALENDAR
VERSION:2.0
PRODID:-//Potted - ECPv6.15.20//NONSGML v1.0//EN
CALSCALE:GREGORIAN
METHOD:PUBLISH
X-WR-CALNAME:Potted
X-ORIGINAL-URL:https://pottedinsl.com
X-WR-CALDESC:Events for Potted
REFRESH-INTERVAL;VALUE=DURATION:PT1H
X-Robots-Tag:noindex
X-PUBLISHED-TTL:PT1H
BEGIN:VTIMEZONE
TZID:America/Los_Angeles
BEGIN:DAYLIGHT
TZOFFSETFROM:-0800
TZOFFSETTO:-0700
TZNAME:PDT
DTSTART:20250309T100000
END:DAYLIGHT
BEGIN:STANDARD
TZOFFSETFROM:-0700
TZOFFSETTO:-0800
TZNAME:PST
DTSTART:20251102T090000
END:STANDARD
BEGIN:DAYLIGHT
TZOFFSETFROM:-0800
TZOFFSETTO:-0700
TZNAME:PDT
DTSTART:20260308T100000
END:DAYLIGHT
BEGIN:STANDARD
TZOFFSETFROM:-0700
TZOFFSETTO:-0800
TZNAME:PST
DTSTART:20261101T090000
END:STANDARD
BEGIN:DAYLIGHT
TZOFFSETFROM:-0800
TZOFFSETTO:-0700
TZNAME:PDT
DTSTART:20270314T100000
END:DAYLIGHT
BEGIN:STANDARD
TZOFFSETFROM:-0700
TZOFFSETTO:-0800
TZNAME:PST
DTSTART:20271107T090000
END:STANDARD
END:VTIMEZONE
BEGIN:VEVENT
DTSTART;TZID=America/Los_Angeles:20260127T060000
DTEND;TZID=America/Los_Angeles:20260131T210000
DTSTAMP:20260420T142810
CREATED:20260113T144645Z
LAST-MODIFIED:20260113T144645Z
UID:10012926-1769493600-1769893200@pottedinsl.com
SUMMARY:SIM BENEFIT POT
DESCRIPTION:Bid board offering the Sim Benefit pot LE Spriggle Snail Succulent Pot – Sammy at Delirium \nhttp://maps.secondlife.com/secondlife/Delirium%20Breedables/247/133/23
URL:https://pottedinsl.com/event/sim-benefit-pot-711/
LOCATION:http://maps.secondlife.com/secondlife/Delirium%20Breedables/247/133/23
END:VEVENT
BEGIN:VEVENT
DTSTART;TZID=America/Los_Angeles:20260129T060000
DTEND;TZID=America/Los_Angeles:20260131T060000
DTSTAMP:20260420T142810
CREATED:20260112T143043Z
LAST-MODIFIED:20260112T143043Z
UID:10012918-1769666400-1769839200@pottedinsl.com
SUMMARY:SIM BENEFIT POT
DESCRIPTION:Bid board offering the Sim Benefit pot LE Spriggle Snail Succulent pot – Sammy at Potted Plant Mile \nhttp://maps.secondlife.com/secondlife/Euphoria/98/24/967
URL:https://pottedinsl.com/event/sim-benefit-pot-703/
LOCATION:http://maps.secondlife.com/secondlife/Euphoria/98/24/967
END:VEVENT
BEGIN:VEVENT
DTSTART;TZID=America/Los_Angeles:20260129T090000
DTEND;TZID=America/Los_Angeles:20260131T090000
DTSTAMP:20260420T142810
CREATED:20260112T132851Z
LAST-MODIFIED:20260112T132851Z
UID:10012908-1769677200-1769850000@pottedinsl.com
SUMMARY:SIM BENEFIT POT
DESCRIPTION:Bid board offering the Sim Benefit pot LE Spriggle Snail Succulent Pot – Salley at Braxton Flowers \nhttp://maps.secondlife.com/secondlife/Firanelli%20Estates/60/66/77
URL:https://pottedinsl.com/event/sim-benefit-pot-693/
LOCATION:http://maps.secondlife.com/secondlife/Firanelli%20Estates/60/66/77
END:VEVENT
BEGIN:VEVENT
DTSTART;TZID=America/Los_Angeles:20260130T120000
DTEND;TZID=America/Los_Angeles:20260131T120000
DTSTAMP:20260420T142810
CREATED:20260129T071612Z
LAST-MODIFIED:20260129T071612Z
UID:10012965-1769774400-1769860800@pottedinsl.com
SUMMARY:SIM BENEFIT POT
DESCRIPTION:Bid board offering the Sim Benefit pot Spriggly Sammy at Rainbow Potted \nhttp://maps.secondlife.com/secondlife/Covdova/226/130/22
URL:https://pottedinsl.com/event/sim-benefit-pot-724/
LOCATION:http://maps.secondlife.com/secondlife/Covdova/226/130/22
END:VEVENT
BEGIN:VEVENT
DTSTART;TZID=America/Los_Angeles:20260131T110000
DTEND;TZID=America/Los_Angeles:20260131T120000
DTSTAMP:20260420T142810
CREATED:20260102T142319Z
LAST-MODIFIED:20260102T142319Z
UID:10012841-1769857200-1769860800@pottedinsl.com
SUMMARY:Sweetflowers
DESCRIPTION:Potted Auction \nhttp://maps.secondlife.com/secondlife/Woodland%20Hills/208/196/26
URL:https://pottedinsl.com/event/sweetflowers-62/2026-01-31/
LOCATION:http://maps.secondlife.com/secondlife/Woodland%20Hills/208/196/26
END:VEVENT
BEGIN:VEVENT
DTSTART;TZID=America/Los_Angeles:20260131T120000
DTEND;TZID=America/Los_Angeles:20260131T130000
DTSTAMP:20260420T142810
CREATED:20260103T081415Z
LAST-MODIFIED:20260103T081415Z
UID:10012874-1769860800-1769864400@pottedinsl.com
SUMMARY:Nest Egg
DESCRIPTION:Potted Auction \nhttp://maps.secondlife.com/secondlife/The%20Mystical%20Isle/209/211/22
URL:https://pottedinsl.com/event/nest-egg-74/2026-01-31/
LOCATION:http://maps.secondlife.com/secondlife/The%20Mystical%20Isle/209/211/22
END:VEVENT
BEGIN:VEVENT
DTSTART;TZID=America/Los_Angeles:20260131T130000
DTEND;TZID=America/Los_Angeles:20260131T140000
DTSTAMP:20260420T142810
CREATED:20260112T131350Z
LAST-MODIFIED:20260112T131350Z
UID:10012896-1769864400-1769868000@pottedinsl.com
SUMMARY:PWP
DESCRIPTION:Potted Auction \nhttp://maps.secondlife.com/secondlife/Stalkers%20Allowed/128/179/21
URL:https://pottedinsl.com/event/pwp-2/2026-01-31/
LOCATION:http://maps.secondlife.com/secondlife/Stalkers%20Allowed/128/179/21
END:VEVENT
BEGIN:VEVENT
DTSTART;TZID=America/Los_Angeles:20260131T170000
DTEND;TZID=America/Los_Angeles:20260131T180000
DTSTAMP:20260420T142810
CREATED:20251231T095154Z
LAST-MODIFIED:20251231T095154Z
UID:10012764-1769878800-1769882400@pottedinsl.com
SUMMARY:Delirium
DESCRIPTION:Potted Auction \nhttp://maps.secondlife.com/secondlife/Delirium%20Breedables/231/131/21
URL:https://pottedinsl.com/event/delirium-15/2026-01-31/
LOCATION:http://maps.secondlife.com/secondlife/Delirium%20Breedables/231/131/21
END:VEVENT
END:VCALENDAR