BEGIN:VCALENDAR
VERSION:2.0
PRODID:-//Potted - ECPv6.15.20//NONSGML v1.0//EN
CALSCALE:GREGORIAN
METHOD:PUBLISH
X-WR-CALNAME:Potted
X-ORIGINAL-URL:https://pottedinsl.com
X-WR-CALDESC:Events for Potted
REFRESH-INTERVAL;VALUE=DURATION:PT1H
X-Robots-Tag:noindex
X-PUBLISHED-TTL:PT1H
BEGIN:VTIMEZONE
TZID:America/Los_Angeles
BEGIN:DAYLIGHT
TZOFFSETFROM:-0800
TZOFFSETTO:-0700
TZNAME:PDT
DTSTART:20250309T100000
END:DAYLIGHT
BEGIN:STANDARD
TZOFFSETFROM:-0700
TZOFFSETTO:-0800
TZNAME:PST
DTSTART:20251102T090000
END:STANDARD
BEGIN:DAYLIGHT
TZOFFSETFROM:-0800
TZOFFSETTO:-0700
TZNAME:PDT
DTSTART:20260308T100000
END:DAYLIGHT
BEGIN:STANDARD
TZOFFSETFROM:-0700
TZOFFSETTO:-0800
TZNAME:PST
DTSTART:20261101T090000
END:STANDARD
BEGIN:DAYLIGHT
TZOFFSETFROM:-0800
TZOFFSETTO:-0700
TZNAME:PDT
DTSTART:20270314T100000
END:DAYLIGHT
BEGIN:STANDARD
TZOFFSETFROM:-0700
TZOFFSETTO:-0800
TZNAME:PST
DTSTART:20271107T090000
END:STANDARD
END:VTIMEZONE
BEGIN:VEVENT
DTSTART;TZID=America/Los_Angeles:20260127T060000
DTEND;TZID=America/Los_Angeles:20260131T210000
DTSTAMP:20260420T160458
CREATED:20260113T144645Z
LAST-MODIFIED:20260113T144645Z
UID:10012926-1769493600-1769893200@pottedinsl.com
SUMMARY:SIM BENEFIT POT
DESCRIPTION:Bid board offering the Sim Benefit pot LE Spriggle Snail Succulent Pot – Sammy at Delirium \nhttp://maps.secondlife.com/secondlife/Delirium%20Breedables/247/133/23
URL:https://pottedinsl.com/event/sim-benefit-pot-711/
LOCATION:http://maps.secondlife.com/secondlife/Delirium%20Breedables/247/133/23
END:VEVENT
BEGIN:VEVENT
DTSTART;TZID=America/Los_Angeles:20260128T000000
DTEND;TZID=America/Los_Angeles:20260130T200000
DTSTAMP:20260420T160458
CREATED:20260129T070930Z
LAST-MODIFIED:20260129T070930Z
UID:10012964-1769558400-1769803200@pottedinsl.com
SUMMARY:SIM BENEFIT POT
DESCRIPTION:Bid board offering the Sim Benefit pot Spriggly Sammy at Celtic Mystics \nhttp://maps.secondlife.com/secondlife/Celtic/215/64/22
URL:https://pottedinsl.com/event/sim-benefit-pot-723/
LOCATION:http://maps.secondlife.com/secondlife/Celtic/215/64/22
END:VEVENT
BEGIN:VEVENT
DTSTART;TZID=America/Los_Angeles:20260129T060000
DTEND;TZID=America/Los_Angeles:20260131T060000
DTSTAMP:20260420T160458
CREATED:20260112T143043Z
LAST-MODIFIED:20260112T143043Z
UID:10012918-1769666400-1769839200@pottedinsl.com
SUMMARY:SIM BENEFIT POT
DESCRIPTION:Bid board offering the Sim Benefit pot LE Spriggle Snail Succulent pot – Sammy at Potted Plant Mile \nhttp://maps.secondlife.com/secondlife/Euphoria/98/24/967
URL:https://pottedinsl.com/event/sim-benefit-pot-703/
LOCATION:http://maps.secondlife.com/secondlife/Euphoria/98/24/967
END:VEVENT
BEGIN:VEVENT
DTSTART;TZID=America/Los_Angeles:20260129T090000
DTEND;TZID=America/Los_Angeles:20260129T100000
DTSTAMP:20260420T160458
CREATED:20260102T143754Z
LAST-MODIFIED:20260102T143754Z
UID:10012849-1769677200-1769680800@pottedinsl.com
SUMMARY:Ganja Garden
DESCRIPTION:Potted Auction \nhttp://maps.secondlife.com/secondlife/CreditCard/74/195/3482
URL:https://pottedinsl.com/event/ganja-garden-60/2026-01-29/
LOCATION:http://maps.secondlife.com/secondlife/CreditCard/74/195/3482
END:VEVENT
BEGIN:VEVENT
DTSTART;TZID=America/Los_Angeles:20260129T090000
DTEND;TZID=America/Los_Angeles:20260131T090000
DTSTAMP:20260420T160458
CREATED:20260112T132851Z
LAST-MODIFIED:20260112T132851Z
UID:10012908-1769677200-1769850000@pottedinsl.com
SUMMARY:SIM BENEFIT POT
DESCRIPTION:Bid board offering the Sim Benefit pot LE Spriggle Snail Succulent Pot – Salley at Braxton Flowers \nhttp://maps.secondlife.com/secondlife/Firanelli%20Estates/60/66/77
URL:https://pottedinsl.com/event/sim-benefit-pot-693/
LOCATION:http://maps.secondlife.com/secondlife/Firanelli%20Estates/60/66/77
END:VEVENT
BEGIN:VEVENT
DTSTART;TZID=America/Los_Angeles:20260129T110000
DTEND;TZID=America/Los_Angeles:20260129T120000
DTSTAMP:20260420T160458
CREATED:20251231T092941Z
LAST-MODIFIED:20251231T092941Z
UID:10012743-1769684400-1769688000@pottedinsl.com
SUMMARY:Braxton Flowers
DESCRIPTION:Potted Auction \nhttp://maps.secondlife.com/secondlife/Firanelli%20Estates/89/56/76
URL:https://pottedinsl.com/event/braxton-flowers-7/2026-01-29/
LOCATION:http://maps.secondlife.com/secondlife/Firanelli%20Estates/89/56/76
END:VEVENT
BEGIN:VEVENT
DTSTART;TZID=America/Los_Angeles:20260129T120000
DTEND;TZID=America/Los_Angeles:20260129T130000
DTSTAMP:20260420T160458
CREATED:20260102T141841Z
LAST-MODIFIED:20260102T141841Z
UID:10012828-1769688000-1769691600@pottedinsl.com
SUMMARY:GOE
DESCRIPTION:Potted Auction \nhttp://maps.secondlife.com/secondlife/Wines/141/127/20
URL:https://pottedinsl.com/event/goe-18/
LOCATION:http://maps.secondlife.com/secondlife/Wines/141/127/20
END:VEVENT
BEGIN:VEVENT
DTSTART;TZID=America/Los_Angeles:20260129T160000
DTEND;TZID=America/Los_Angeles:20260129T170000
DTSTAMP:20260420T160458
CREATED:20260103T081303Z
LAST-MODIFIED:20260103T081303Z
UID:10012870-1769702400-1769706000@pottedinsl.com
SUMMARY:Nest Egg
DESCRIPTION:Potted Auction \nhttp://maps.secondlife.com/secondlife/The%20Mystical%20Isle/209/211/22
URL:https://pottedinsl.com/event/nest-egg-73/2026-01-29/
LOCATION:http://maps.secondlife.com/secondlife/The%20Mystical%20Isle/209/211/22
END:VEVENT
BEGIN:VEVENT
DTSTART;TZID=America/Los_Angeles:20260129T180000
DTEND;TZID=America/Los_Angeles:20260129T190000
DTSTAMP:20260420T160458
CREATED:20251231T094420Z
LAST-MODIFIED:20251231T094420Z
UID:10012756-1769709600-1769713200@pottedinsl.com
SUMMARY:Riacats
DESCRIPTION:Potted Auction \nhttp://maps.secondlife.com/secondlife/Solarian%20Prime/63/159/25
URL:https://pottedinsl.com/event/riacats-62/2026-01-29/
LOCATION:http://maps.secondlife.com/secondlife/Solarian%20Prime/63/159/25
END:VEVENT
END:VCALENDAR