BEGIN:VCALENDAR
VERSION:2.0
PRODID:-//Potted - ECPv6.15.20//NONSGML v1.0//EN
CALSCALE:GREGORIAN
METHOD:PUBLISH
X-WR-CALNAME:Potted
X-ORIGINAL-URL:https://pottedinsl.com
X-WR-CALDESC:Events for Potted
REFRESH-INTERVAL;VALUE=DURATION:PT1H
X-Robots-Tag:noindex
X-PUBLISHED-TTL:PT1H
BEGIN:VTIMEZONE
TZID:America/Los_Angeles
BEGIN:DAYLIGHT
TZOFFSETFROM:-0800
TZOFFSETTO:-0700
TZNAME:PDT
DTSTART:20250309T100000
END:DAYLIGHT
BEGIN:STANDARD
TZOFFSETFROM:-0700
TZOFFSETTO:-0800
TZNAME:PST
DTSTART:20251102T090000
END:STANDARD
BEGIN:DAYLIGHT
TZOFFSETFROM:-0800
TZOFFSETTO:-0700
TZNAME:PDT
DTSTART:20260308T100000
END:DAYLIGHT
BEGIN:STANDARD
TZOFFSETFROM:-0700
TZOFFSETTO:-0800
TZNAME:PST
DTSTART:20261101T090000
END:STANDARD
BEGIN:DAYLIGHT
TZOFFSETFROM:-0800
TZOFFSETTO:-0700
TZNAME:PDT
DTSTART:20270314T100000
END:DAYLIGHT
BEGIN:STANDARD
TZOFFSETFROM:-0700
TZOFFSETTO:-0800
TZNAME:PST
DTSTART:20271107T090000
END:STANDARD
END:VTIMEZONE
BEGIN:VEVENT
DTSTART;TZID=America/Los_Angeles:20260126T120000
DTEND;TZID=America/Los_Angeles:20260128T120000
DTSTAMP:20260420T224326
CREATED:20260113T141554Z
LAST-MODIFIED:20260113T141554Z
UID:10012922-1769428800-1769601600@pottedinsl.com
SUMMARY:SIM BENEFIT POT
DESCRIPTION:Bid board  offering the Sim Benefit pot LE Spriggle Snail Succulent Pot – Salley at Amore d’Potted \nhttp://maps.secondlife.com/secondlife/Passions/208/147/21
URL:https://pottedinsl.com/event/sim-benefit-pot-707/
LOCATION:http://maps.secondlife.com/secondlife/Passions/208/147/21
END:VEVENT
BEGIN:VEVENT
DTSTART;TZID=America/Los_Angeles:20260127T060000
DTEND;TZID=America/Los_Angeles:20260131T210000
DTSTAMP:20260420T224326
CREATED:20260113T144645Z
LAST-MODIFIED:20260113T144645Z
UID:10012926-1769493600-1769893200@pottedinsl.com
SUMMARY:SIM BENEFIT POT
DESCRIPTION:Bid board offering the Sim Benefit pot LE Spriggle Snail Succulent Pot – Sammy at Delirium \nhttp://maps.secondlife.com/secondlife/Delirium%20Breedables/247/133/23
URL:https://pottedinsl.com/event/sim-benefit-pot-711/
LOCATION:http://maps.secondlife.com/secondlife/Delirium%20Breedables/247/133/23
END:VEVENT
BEGIN:VEVENT
DTSTART;TZID=America/Los_Angeles:20260127T090000
DTEND;TZID=America/Los_Angeles:20260127T100000
DTSTAMP:20260420T224326
CREATED:20260102T143630Z
LAST-MODIFIED:20260102T143630Z
UID:10012845-1769504400-1769508000@pottedinsl.com
SUMMARY:Ganja Garden
DESCRIPTION:Potted Auction \nhttp://maps.secondlife.com/secondlife/CreditCard/74/195/3482
URL:https://pottedinsl.com/event/ganja-garden-59/2026-01-27/
LOCATION:http://maps.secondlife.com/secondlife/CreditCard/74/195/3482
END:VEVENT
BEGIN:VEVENT
DTSTART;TZID=America/Los_Angeles:20260127T090000
DTEND;TZID=America/Los_Angeles:20260127T100000
DTSTAMP:20260420T224326
CREATED:20260123T104619Z
LAST-MODIFIED:20260123T104619Z
UID:10012950-1769504400-1769508000@pottedinsl.com
SUMMARY:GOE
DESCRIPTION:Potted Auction \nhttp://maps.secondlife.com/secondlife/Wines/141/127/20
URL:https://pottedinsl.com/event/goe-30/
LOCATION:http://maps.secondlife.com/secondlife/Wines/141/127/20
END:VEVENT
BEGIN:VEVENT
DTSTART;TZID=America/Los_Angeles:20260127T110000
DTEND;TZID=America/Los_Angeles:20260127T120000
DTSTAMP:20260420T224326
CREATED:20251231T095404Z
LAST-MODIFIED:20251231T095404Z
UID:10012768-1769511600-1769515200@pottedinsl.com
SUMMARY:Rainbow Potted
DESCRIPTION:Potted Auction \nhttp://maps.secondlife.com/secondlife/Covdova/193/18/22
URL:https://pottedinsl.com/event/rainbow-potted-46/2026-01-27/
LOCATION:http://maps.secondlife.com/secondlife/Covdova/193/18/22
END:VEVENT
BEGIN:VEVENT
DTSTART;TZID=America/Los_Angeles:20260127T110000
DTEND;TZID=America/Los_Angeles:20260127T120000
DTSTAMP:20260420T224326
CREATED:20260112T141341Z
LAST-MODIFIED:20260112T141341Z
UID:10012914-1769511600-1769515200@pottedinsl.com
SUMMARY:SIM BENEFIT POT
DESCRIPTION:Potted Auction to include the Sim Benefit pot LE Spriggle Snail Succulent Pot – Sammy at Rainbow Potted \nhttp://maps.secondlife.com/secondlife/Covdova/193/170/22
URL:https://pottedinsl.com/event/sim-benefit-pot-699/
LOCATION:http://maps.secondlife.com/secondlife/Covdova/193/170/22
END:VEVENT
BEGIN:VEVENT
DTSTART;TZID=America/Los_Angeles:20260127T120000
DTEND;TZID=America/Los_Angeles:20260127T130000
DTSTAMP:20260420T224326
CREATED:20251231T112251Z
LAST-MODIFIED:20251231T112251Z
UID:10012792-1769515200-1769518800@pottedinsl.com
SUMMARY:Bakery Woods
DESCRIPTION:Potted Auction \nhttp://maps.secondlife.com/secondlife/Purple%20Rose/38/32/11
URL:https://pottedinsl.com/event/bakery-woods-60/2026-01-27/
LOCATION:http://maps.secondlife.com/secondlife/Purple%20Rose/38/32/11
END:VEVENT
BEGIN:VEVENT
DTSTART;TZID=America/Los_Angeles:20260127T120000
DTEND;TZID=America/Los_Angeles:20260127T130000
DTSTAMP:20260420T224326
CREATED:20260112T143430Z
LAST-MODIFIED:20260115T055315Z
UID:10012920-1769515200-1769518800@pottedinsl.com
SUMMARY:SIM BENEFIT POT
DESCRIPTION:Potted Auction to include the Sim Benefit pot  LE Spriggle Snail Succulent Pot – Salley at Bakery Woods \nhttp://maps.secondlife.com/secondlife/Purple%20Rose/21/33/11
URL:https://pottedinsl.com/event/sim-benefit-pot-705/
LOCATION:http://maps.secondlife.com/secondlife/Purple%20Rose/21/33/11
END:VEVENT
BEGIN:VEVENT
DTSTART;TZID=America/Los_Angeles:20260127T140000
DTEND;TZID=America/Los_Angeles:20260127T150000
DTSTAMP:20260420T224326
CREATED:20251231T095831Z
LAST-MODIFIED:20251231T095831Z
UID:10012781-1769522400-1769526000@pottedinsl.com
SUMMARY:Charmed
DESCRIPTION:Potted Auction \nhttp://maps.secondlife.com/secondlife/Noctura/124/49/27
URL:https://pottedinsl.com/event/charmed-8/2026-01-27/
LOCATION:http://maps.secondlife.com/secondlife/Noctura/124/49/27
END:VEVENT
BEGIN:VEVENT
DTSTART;TZID=America/Los_Angeles:20260127T150000
DTEND;TZID=America/Los_Angeles:20260127T160000
DTSTAMP:20260420T224326
CREATED:20260105T090433Z
LAST-MODIFIED:20260105T090433Z
UID:10012888-1769526000-1769529600@pottedinsl.com
SUMMARY:Jazzy Pots
DESCRIPTION:Potted Auction \nhttp://maps.secondlife.com/secondlife/Elston/102/229/3500
URL:https://pottedinsl.com/event/jazzy-pots-20/2026-01-27/
LOCATION:http://maps.secondlife.com/secondlife/Elston/102/229/3500
END:VEVENT
BEGIN:VEVENT
DTSTART;TZID=America/Los_Angeles:20260127T150000
DTEND;TZID=America/Los_Angeles:20260127T160000
DTSTAMP:20260420T224326
CREATED:20260118T061305Z
LAST-MODIFIED:20260118T061305Z
UID:10012934-1769526000-1769529600@pottedinsl.com
SUMMARY:SIM BENEFIT POT
DESCRIPTION:Potted Auction to include the Sim Benefit pot  LE Spriggle Snail Succulent Pot – Sammy at Jazzy Pots \nhttp://maps.secondlife.com/secondlife/Elston/102/229/3500
URL:https://pottedinsl.com/event/sim-benefit-pot-719/
LOCATION:http://maps.secondlife.com/secondlife/Elston/102/229/3500
END:VEVENT
BEGIN:VEVENT
DTSTART;TZID=America/Los_Angeles:20260127T160000
DTEND;TZID=America/Los_Angeles:20260127T170000
DTSTAMP:20260420T224326
CREATED:20251231T093126Z
LAST-MODIFIED:20251231T093126Z
UID:10012747-1769529600-1769533200@pottedinsl.com
SUMMARY:The Secret Garden
DESCRIPTION:Potted Auction \nhttp://maps.secondlife.com/secondlife/Sweet%20Desire/211/198/44
URL:https://pottedinsl.com/event/the-secret-garden-74/2026-01-27/
LOCATION:http://maps.secondlife.com/secondlife/Sweet%20Desire/211/198/44
END:VEVENT
BEGIN:VEVENT
DTSTART;TZID=America/Los_Angeles:20260127T160000
DTEND;TZID=America/Los_Angeles:20260127T170000
DTSTAMP:20260420T224326
CREATED:20260112T135839Z
LAST-MODIFIED:20260112T135839Z
UID:10012910-1769529600-1769533200@pottedinsl.com
SUMMARY:SIM BENEFIT POT
DESCRIPTION:Potted Auction to include the Sim Benefit pot LE Spriggle Snail Succulent Pot – Sammy at the Secret Garden \nhttp://maps.secondlife.com/secondlife/Sweet%20Desire/211/198/44
URL:https://pottedinsl.com/event/sim-benefit-pot-695/
LOCATION:http://maps.secondlife.com/secondlife/Sweet%20Desire/211/198/44
END:VEVENT
BEGIN:VEVENT
DTSTART;TZID=America/Los_Angeles:20260127T180000
DTEND;TZID=America/Los_Angeles:20260127T190000
DTSTAMP:20260420T224326
CREATED:20251231T094253Z
LAST-MODIFIED:20251231T094253Z
UID:10012754-1769536800-1769540400@pottedinsl.com
SUMMARY:Riacats
DESCRIPTION:Potted Auction \nhttp://maps.secondlife.com/secondlife/Solarian%20Prime/63/159/25
URL:https://pottedinsl.com/event/riacats-61/2026-01-27/
LOCATION:http://maps.secondlife.com/secondlife/Solarian%20Prime/63/159/25
END:VEVENT
END:VCALENDAR