BEGIN:VCALENDAR
VERSION:2.0
PRODID:-//Potted - ECPv6.15.20//NONSGML v1.0//EN
CALSCALE:GREGORIAN
METHOD:PUBLISH
X-ORIGINAL-URL:https://pottedinsl.com
X-WR-CALDESC:Events for Potted
REFRESH-INTERVAL;VALUE=DURATION:PT1H
X-Robots-Tag:noindex
X-PUBLISHED-TTL:PT1H
BEGIN:VTIMEZONE
TZID:America/Los_Angeles
BEGIN:DAYLIGHT
TZOFFSETFROM:-0800
TZOFFSETTO:-0700
TZNAME:PDT
DTSTART:20250309T100000
END:DAYLIGHT
BEGIN:STANDARD
TZOFFSETFROM:-0700
TZOFFSETTO:-0800
TZNAME:PST
DTSTART:20251102T090000
END:STANDARD
BEGIN:DAYLIGHT
TZOFFSETFROM:-0800
TZOFFSETTO:-0700
TZNAME:PDT
DTSTART:20260308T100000
END:DAYLIGHT
BEGIN:STANDARD
TZOFFSETFROM:-0700
TZOFFSETTO:-0800
TZNAME:PST
DTSTART:20261101T090000
END:STANDARD
BEGIN:DAYLIGHT
TZOFFSETFROM:-0800
TZOFFSETTO:-0700
TZNAME:PDT
DTSTART:20270314T100000
END:DAYLIGHT
BEGIN:STANDARD
TZOFFSETFROM:-0700
TZOFFSETTO:-0800
TZNAME:PST
DTSTART:20271107T090000
END:STANDARD
END:VTIMEZONE
BEGIN:VEVENT
DTSTART;TZID=America/Los_Angeles:20260123T090000
DTEND;TZID=America/Los_Angeles:20260126T210000
DTSTAMP:20260420T211001
CREATED:20260120T165519Z
LAST-MODIFIED:20260120T165519Z
UID:10012938-1769158800-1769461200@pottedinsl.com
SUMMARY:MUSIC BLOCK PARTY - PATRON EVENT
DESCRIPTION:KEEP AN EYE ON NOTICES FOR LM AND EVENTS
URL:https://pottedinsl.com/event/music-block-party-patron-event/
END:VEVENT
BEGIN:VEVENT
DTSTART;TZID=America/Los_Angeles:20260123T110000
DTEND;TZID=America/Los_Angeles:20260123T120000
DTSTAMP:20260420T211001
CREATED:20251231T095952Z
LAST-MODIFIED:20251231T095952Z
UID:10012785-1769166000-1769169600@pottedinsl.com
SUMMARY:Charmed
DESCRIPTION:Potted Auction \nhttp://maps.secondlife.com/secondlife/Noctura/124/49/27
URL:https://pottedinsl.com/event/charmed-9/2026-01-23/
LOCATION:http://maps.secondlife.com/secondlife/Noctura/124/49/27
END:VEVENT
BEGIN:VEVENT
DTSTART;TZID=America/Los_Angeles:20260123T120000
DTEND;TZID=America/Los_Angeles:20260123T130000
DTSTAMP:20260420T211001
CREATED:20251231T112421Z
LAST-MODIFIED:20251231T112421Z
UID:10012795-1769169600-1769173200@pottedinsl.com
SUMMARY:Bakery Woods
DESCRIPTION:Potted Auction \nhttp://maps.secondlife.com/secondlife/Purple%20Rose/38/32/11
URL:https://pottedinsl.com/event/bakery-woods-61/2026-01-23/
LOCATION:http://maps.secondlife.com/secondlife/Purple%20Rose/38/32/11
END:VEVENT
BEGIN:VEVENT
DTSTART;TZID=America/Los_Angeles:20260123T130000
DTEND;TZID=America/Los_Angeles:20260123T140000
DTSTAMP:20260420T211001
CREATED:20251231T095531Z
LAST-MODIFIED:20251231T095531Z
UID:10012772-1769173200-1769176800@pottedinsl.com
SUMMARY:Rainbow Potted
DESCRIPTION:Potted Auction \nhttp://maps.secondlife.com/secondlife/Covdova/193/18/22
URL:https://pottedinsl.com/event/rainbow-potted-47/2026-01-23/
LOCATION:http://maps.secondlife.com/secondlife/Covdova/193/18/22
END:VEVENT
BEGIN:VEVENT
DTSTART;TZID=America/Los_Angeles:20260123T140000
DTEND;TZID=America/Los_Angeles:20260123T150000
DTSTAMP:20260420T211001
CREATED:20260103T080955Z
LAST-MODIFIED:20260103T080955Z
UID:10012861-1769176800-1769180400@pottedinsl.com
SUMMARY:Potted Jungle
DESCRIPTION:Potted Auction \nhttp://maps.secondlife.com/secondlife/Infinity%20Acres/104/190/24
URL:https://pottedinsl.com/event/potted-jungle/2026-01-23/
LOCATION:http://maps.secondlife.com/secondlife/Infinity%20Acres/104/190/24
END:VEVENT
BEGIN:VEVENT
DTSTART;TZID=America/Los_Angeles:20260123T150000
DTEND;TZID=America/Los_Angeles:20260123T160000
DTSTAMP:20260420T211001
CREATED:20260102T135519Z
LAST-MODIFIED:20260102T135519Z
UID:10012804-1769180400-1769184000@pottedinsl.com
SUMMARY:Barbasz Got Potted
DESCRIPTION:Potted Auction \nhttp://maps.secondlife.com/secondlife/MOJO/50/128/22
URL:https://pottedinsl.com/event/barbasz-got-potted-86/2026-01-23/
LOCATION:http://maps.secondlife.com/secondlife/MOJO/50/128/22
END:VEVENT
BEGIN:VEVENT
DTSTART;TZID=America/Los_Angeles:20260123T150000
DTEND;TZID=America/Los_Angeles:20260123T160000
DTSTAMP:20260420T211001
CREATED:20260113T142710Z
LAST-MODIFIED:20260113T142710Z
UID:10012924-1769180400-1769184000@pottedinsl.com
SUMMARY:SIM BENEFIT POT
DESCRIPTION:Potted Auction to include the Sim Benefit pot LE Spriggle Snail Succulent Pot – Sammy  at Barbasz \nhttp://maps.secondlife.com/secondlife/MOJO/50/128/22
URL:https://pottedinsl.com/event/sim-benefit-pot-709/
LOCATION:http://maps.secondlife.com/secondlife/MOJO/50/128/22
END:VEVENT
BEGIN:VEVENT
DTSTART;TZID=America/Los_Angeles:20260123T163000
DTEND;TZID=America/Los_Angeles:20260123T173000
DTSTAMP:20260420T211001
CREATED:20260105T090617Z
LAST-MODIFIED:20260105T090617Z
UID:10012891-1769185800-1769189400@pottedinsl.com
SUMMARY:Jazzy Pots
DESCRIPTION:Potted Auction \nhttp://maps.secondlife.com/secondlife/Elston/102/229/3500
URL:https://pottedinsl.com/event/jazzy-pots-21/2026-01-23/
LOCATION:http://maps.secondlife.com/secondlife/Elston/102/229/3500
END:VEVENT
END:VCALENDAR