BEGIN:VCALENDAR
VERSION:2.0
PRODID:-//Potted - ECPv6.15.20//NONSGML v1.0//EN
CALSCALE:GREGORIAN
METHOD:PUBLISH
X-ORIGINAL-URL:https://pottedinsl.com
X-WR-CALDESC:Events for Potted
REFRESH-INTERVAL;VALUE=DURATION:PT1H
X-Robots-Tag:noindex
X-PUBLISHED-TTL:PT1H
BEGIN:VTIMEZONE
TZID:America/Los_Angeles
BEGIN:DAYLIGHT
TZOFFSETFROM:-0800
TZOFFSETTO:-0700
TZNAME:PDT
DTSTART:20250309T100000
END:DAYLIGHT
BEGIN:STANDARD
TZOFFSETFROM:-0700
TZOFFSETTO:-0800
TZNAME:PST
DTSTART:20251102T090000
END:STANDARD
BEGIN:DAYLIGHT
TZOFFSETFROM:-0800
TZOFFSETTO:-0700
TZNAME:PDT
DTSTART:20260308T100000
END:DAYLIGHT
BEGIN:STANDARD
TZOFFSETFROM:-0700
TZOFFSETTO:-0800
TZNAME:PST
DTSTART:20261101T090000
END:STANDARD
BEGIN:DAYLIGHT
TZOFFSETFROM:-0800
TZOFFSETTO:-0700
TZNAME:PDT
DTSTART:20270314T100000
END:DAYLIGHT
BEGIN:STANDARD
TZOFFSETFROM:-0700
TZOFFSETTO:-0800
TZNAME:PST
DTSTART:20271107T090000
END:STANDARD
END:VTIMEZONE
BEGIN:VEVENT
DTSTART;TZID=America/Los_Angeles:20260122T090000
DTEND;TZID=America/Los_Angeles:20260122T100000
DTSTAMP:20260420T210859
CREATED:20260102T143754Z
LAST-MODIFIED:20260102T143754Z
UID:10012848-1769072400-1769076000@pottedinsl.com
SUMMARY:Ganja Garden
DESCRIPTION:Potted Auction \nhttp://maps.secondlife.com/secondlife/CreditCard/74/195/3482
URL:https://pottedinsl.com/event/ganja-garden-60/2026-01-22/
LOCATION:http://maps.secondlife.com/secondlife/CreditCard/74/195/3482
END:VEVENT
BEGIN:VEVENT
DTSTART;TZID=America/Los_Angeles:20260122T110000
DTEND;TZID=America/Los_Angeles:20260122T120000
DTSTAMP:20260420T210859
CREATED:20251231T092941Z
LAST-MODIFIED:20251231T092941Z
UID:10012742-1769079600-1769083200@pottedinsl.com
SUMMARY:Braxton Flowers
DESCRIPTION:Potted Auction \nhttp://maps.secondlife.com/secondlife/Firanelli%20Estates/89/56/76
URL:https://pottedinsl.com/event/braxton-flowers-7/2026-01-22/
LOCATION:http://maps.secondlife.com/secondlife/Firanelli%20Estates/89/56/76
END:VEVENT
BEGIN:VEVENT
DTSTART;TZID=America/Los_Angeles:20260122T120000
DTEND;TZID=America/Los_Angeles:20260122T130000
DTSTAMP:20260420T210859
CREATED:20260102T141534Z
LAST-MODIFIED:20260102T141534Z
UID:10012825-1769083200-1769086800@pottedinsl.com
SUMMARY:GOE
DESCRIPTION:Potted Auction \nhttp://maps.secondlife.com/secondlife/Wines/141/127/20
URL:https://pottedinsl.com/event/goe-15/
LOCATION:http://maps.secondlife.com/secondlife/Wines/141/127/20
END:VEVENT
BEGIN:VEVENT
DTSTART;TZID=America/Los_Angeles:20260122T160000
DTEND;TZID=America/Los_Angeles:20260122T170000
DTSTAMP:20260420T210859
CREATED:20260103T081303Z
LAST-MODIFIED:20260103T081303Z
UID:10012869-1769097600-1769101200@pottedinsl.com
SUMMARY:Nest Egg
DESCRIPTION:Potted Auction \nhttp://maps.secondlife.com/secondlife/The%20Mystical%20Isle/209/211/22
URL:https://pottedinsl.com/event/nest-egg-73/2026-01-22/
LOCATION:http://maps.secondlife.com/secondlife/The%20Mystical%20Isle/209/211/22
END:VEVENT
BEGIN:VEVENT
DTSTART;TZID=America/Los_Angeles:20260122T180000
DTEND;TZID=America/Los_Angeles:20260122T190000
DTSTAMP:20260420T210859
CREATED:20260112T142002Z
LAST-MODIFIED:20260112T142002Z
UID:10012916-1769104800-1769108400@pottedinsl.com
SUMMARY:SIM BENEFIT POT
DESCRIPTION:Potted Auction to include the Sim Benefit pot LE Spriggle Snail Succulent Pot – Sammy at Riacats \nhttp://maps.secondlife.com/secondlife/Solarian%20Prime/63/159/25
URL:https://pottedinsl.com/event/sim-benefit-pot-701/
LOCATION:http://maps.secondlife.com/secondlife/Solarian%20Prime/63/159/25
END:VEVENT
BEGIN:VEVENT
DTSTART;TZID=America/Los_Angeles:20260122T200000
DTEND;TZID=America/Los_Angeles:20260122T210000
DTSTAMP:20260420T210859
CREATED:20260102T140004Z
LAST-MODIFIED:20260102T140004Z
UID:10012816-1769112000-1769115600@pottedinsl.com
SUMMARY:Soil & Soul
DESCRIPTION:Potted Auction \nhttp://maps.secondlife.com/secondlife/Silex/100/126/33
URL:https://pottedinsl.com/event/soil-soul-15/2026-01-22/
LOCATION:http://maps.secondlife.com/secondlife/Silex/100/126/33
END:VEVENT
BEGIN:VEVENT
DTSTART;TZID=America/Los_Angeles:20260122T200000
DTEND;TZID=America/Los_Angeles:20260122T210000
DTSTAMP:20260420T210859
CREATED:20260112T132439Z
LAST-MODIFIED:20260112T132439Z
UID:10012906-1769112000-1769115600@pottedinsl.com
SUMMARY:SIM BENEFIT POT
DESCRIPTION:Potted Auction to include the Sim Benefit pot LE Spriggle Snail Succulent Pot – Salley at Soil & Soul \nhttp://maps.secondlife.com/secondlife/Silex/100/126/33
URL:https://pottedinsl.com/event/sim-benefit-pot-691/
LOCATION:http://maps.secondlife.com/secondlife/Silex/100/126/33
END:VEVENT
END:VCALENDAR