BEGIN:VCALENDAR
VERSION:2.0
PRODID:-//Potted - ECPv6.15.20//NONSGML v1.0//EN
CALSCALE:GREGORIAN
METHOD:PUBLISH
X-ORIGINAL-URL:https://pottedinsl.com
X-WR-CALDESC:Events for Potted
REFRESH-INTERVAL;VALUE=DURATION:PT1H
X-Robots-Tag:noindex
X-PUBLISHED-TTL:PT1H
BEGIN:VTIMEZONE
TZID:America/Los_Angeles
BEGIN:DAYLIGHT
TZOFFSETFROM:-0800
TZOFFSETTO:-0700
TZNAME:PDT
DTSTART:20250309T100000
END:DAYLIGHT
BEGIN:STANDARD
TZOFFSETFROM:-0700
TZOFFSETTO:-0800
TZNAME:PST
DTSTART:20251102T090000
END:STANDARD
BEGIN:DAYLIGHT
TZOFFSETFROM:-0800
TZOFFSETTO:-0700
TZNAME:PDT
DTSTART:20260308T100000
END:DAYLIGHT
BEGIN:STANDARD
TZOFFSETFROM:-0700
TZOFFSETTO:-0800
TZNAME:PST
DTSTART:20261101T090000
END:STANDARD
BEGIN:DAYLIGHT
TZOFFSETFROM:-0800
TZOFFSETTO:-0700
TZNAME:PDT
DTSTART:20270314T100000
END:DAYLIGHT
BEGIN:STANDARD
TZOFFSETFROM:-0700
TZOFFSETTO:-0800
TZNAME:PST
DTSTART:20271107T090000
END:STANDARD
END:VTIMEZONE
BEGIN:VEVENT
DTSTART;TZID=America/Los_Angeles:20260119T100000
DTEND;TZID=America/Los_Angeles:20260121T100000
DTSTAMP:20260420T193444
CREATED:20260119T165155Z
LAST-MODIFIED:20260119T165155Z
UID:10012937-1768816800-1768989600@pottedinsl.com
SUMMARY:SIM BENEFIT POT
DESCRIPTION:Bid board offering the Sim Benefit pot Le Spriggle Snail Salley at Claudia & Co \nhttp://maps.secondlife.com/secondlife/Eternal%20Flames/174/72/22
URL:https://pottedinsl.com/event/sim-benefit-pot-722/
LOCATION:http://maps.secondlife.com/secondlife/Eternal%20Flames/174/72/22
END:VEVENT
BEGIN:VEVENT
DTSTART;TZID=America/Los_Angeles:20260121T090000
DTEND;TZID=America/Los_Angeles:20260121T100000
DTSTAMP:20260420T193444
CREATED:20260102T141422Z
LAST-MODIFIED:20260102T141422Z
UID:10012824-1768986000-1768989600@pottedinsl.com
SUMMARY:GOE
DESCRIPTION:Potted Auction \nhttp://maps.secondlife.com/secondlife/Wines/141/127/20
URL:https://pottedinsl.com/event/goe-14/
LOCATION:http://maps.secondlife.com/secondlife/Wines/141/127/20
END:VEVENT
BEGIN:VEVENT
DTSTART;TZID=America/Los_Angeles:20260121T110000
DTEND;TZID=America/Los_Angeles:20260121T120000
DTSTAMP:20260420T193444
CREATED:20260102T142201Z
LAST-MODIFIED:20260102T142201Z
UID:10012835-1768993200-1768996800@pottedinsl.com
SUMMARY:Sweetflowers
DESCRIPTION:Potted Auction \nhttp://maps.secondlife.com/secondlife/Woodland%20Hills/208/196/26
URL:https://pottedinsl.com/event/sweetflowers-61/2026-01-21/
LOCATION:http://maps.secondlife.com/secondlife/Woodland%20Hills/208/196/26
END:VEVENT
BEGIN:VEVENT
DTSTART;TZID=America/Los_Angeles:20260121T120000
DTEND;TZID=America/Los_Angeles:20260121T130000
DTSTAMP:20260420T193444
CREATED:20260103T081157Z
LAST-MODIFIED:20260103T081157Z
UID:10012865-1768996800-1769000400@pottedinsl.com
SUMMARY:Nest Egg
DESCRIPTION:Potted Auction \nhttp://maps.secondlife.com/secondlife/The%20Mystical%20Isle/209/211/22
URL:https://pottedinsl.com/event/nest-egg-72/2026-01-21/
LOCATION:http://maps.secondlife.com/secondlife/The%20Mystical%20Isle/209/211/22
END:VEVENT
BEGIN:VEVENT
DTSTART;TZID=America/Los_Angeles:20260121T153000
DTEND;TZID=America/Los_Angeles:20260121T163000
DTSTAMP:20260420T193444
CREATED:20260102T135350Z
LAST-MODIFIED:20260102T135350Z
UID:10012799-1769009400-1769013000@pottedinsl.com
SUMMARY:Barbasz Got Potted
DESCRIPTION:Potted Auction \nhttp://maps.secondlife.com/secondlife/MOJO/50/128/22
URL:https://pottedinsl.com/event/barbasz-got-potted-85/2026-01-21/
LOCATION:http://maps.secondlife.com/secondlife/MOJO/50/128/22
END:VEVENT
BEGIN:VEVENT
DTSTART;TZID=America/Los_Angeles:20260121T164500
DTEND;TZID=America/Los_Angeles:20260121T174500
DTSTAMP:20260420T193444
CREATED:20260102T144230Z
LAST-MODIFIED:20260102T144230Z
UID:10012856-1769013900-1769017500@pottedinsl.com
SUMMARY:Celtic Mystics
DESCRIPTION:Potted Auction \nhttp://maps.secondlife.com/secondlife/Celtic/190/73/22
URL:https://pottedinsl.com/event/celtic-mystics-43/2026-01-21/
LOCATION:http://maps.secondlife.com/secondlife/Celtic/190/73/22
END:VEVENT
END:VCALENDAR