BEGIN:VCALENDAR
VERSION:2.0
PRODID:-//Potted - ECPv6.15.20//NONSGML v1.0//EN
CALSCALE:GREGORIAN
METHOD:PUBLISH
X-ORIGINAL-URL:https://pottedinsl.com
X-WR-CALDESC:Events for Potted
REFRESH-INTERVAL;VALUE=DURATION:PT1H
X-Robots-Tag:noindex
X-PUBLISHED-TTL:PT1H
BEGIN:VTIMEZONE
TZID:America/Los_Angeles
BEGIN:DAYLIGHT
TZOFFSETFROM:-0800
TZOFFSETTO:-0700
TZNAME:PDT
DTSTART:20250309T100000
END:DAYLIGHT
BEGIN:STANDARD
TZOFFSETFROM:-0700
TZOFFSETTO:-0800
TZNAME:PST
DTSTART:20251102T090000
END:STANDARD
BEGIN:DAYLIGHT
TZOFFSETFROM:-0800
TZOFFSETTO:-0700
TZNAME:PDT
DTSTART:20260308T100000
END:DAYLIGHT
BEGIN:STANDARD
TZOFFSETFROM:-0700
TZOFFSETTO:-0800
TZNAME:PST
DTSTART:20261101T090000
END:STANDARD
BEGIN:DAYLIGHT
TZOFFSETFROM:-0800
TZOFFSETTO:-0700
TZNAME:PDT
DTSTART:20270314T100000
END:DAYLIGHT
BEGIN:STANDARD
TZOFFSETFROM:-0700
TZOFFSETTO:-0800
TZNAME:PST
DTSTART:20271107T090000
END:STANDARD
END:VTIMEZONE
BEGIN:VEVENT
DTSTART;TZID=America/Los_Angeles:20260116T060000
DTEND;TZID=America/Los_Angeles:20260119T210000
DTSTAMP:20260420T223950
CREATED:20260113T144512Z
LAST-MODIFIED:20260113T144512Z
UID:10012925-1768543200-1768856400@pottedinsl.com
SUMMARY:SIM BENEFIT POT
DESCRIPTION:Bid board offering the Sim Benefit pot LE Spriggle Snail Succulent Pot – Salley at Delirium \nhttp://maps.secondlife.com/secondlife/Delirium%20Breedables/247/133/23
URL:https://pottedinsl.com/event/sim-benefit-pot-710/
LOCATION:http://maps.secondlife.com/secondlife/Delirium%20Breedables/247/133/23
END:VEVENT
BEGIN:VEVENT
DTSTART;TZID=America/Los_Angeles:20260118T060000
DTEND;TZID=America/Los_Angeles:20260120T060000
DTSTAMP:20260420T223950
CREATED:20260112T142840Z
LAST-MODIFIED:20260112T142840Z
UID:10012917-1768716000-1768888800@pottedinsl.com
SUMMARY:SIM BENEFIT POT
DESCRIPTION:Bid board offering the Sim Benefit pot LE Spriggle Snail Succulent pot – Salley at Potted Plant Mile \nhttp://maps.secondlife.com/secondlife/Euphoria/98/24/967
URL:https://pottedinsl.com/event/sim-benefit-pot-702/
LOCATION:http://maps.secondlife.com/secondlife/Euphoria/98/24/967
END:VEVENT
BEGIN:VEVENT
DTSTART;TZID=America/Los_Angeles:20260119T100000
DTEND;TZID=America/Los_Angeles:20260121T100000
DTSTAMP:20260420T223950
CREATED:20260119T165155Z
LAST-MODIFIED:20260119T165155Z
UID:10012937-1768816800-1768989600@pottedinsl.com
SUMMARY:SIM BENEFIT POT
DESCRIPTION:Bid board offering the Sim Benefit pot Le Spriggle Snail Salley at Claudia & Co \nhttp://maps.secondlife.com/secondlife/Eternal%20Flames/174/72/22
URL:https://pottedinsl.com/event/sim-benefit-pot-722/
LOCATION:http://maps.secondlife.com/secondlife/Eternal%20Flames/174/72/22
END:VEVENT
BEGIN:VEVENT
DTSTART;TZID=America/Los_Angeles:20260119T110000
DTEND;TZID=America/Los_Angeles:20260119T120000
DTSTAMP:20260420T223950
CREATED:20251231T095719Z
LAST-MODIFIED:20251231T095719Z
UID:10012776-1768820400-1768824000@pottedinsl.com
SUMMARY:Charmed
DESCRIPTION:Potted Auction \nhttp://maps.secondlife.com/secondlife/Noctura/124/49/27
URL:https://pottedinsl.com/event/charmed-7/2026-01-19/
LOCATION:http://maps.secondlife.com/secondlife/Noctura/124/49/27
END:VEVENT
BEGIN:VEVENT
DTSTART;TZID=America/Los_Angeles:20260119T133000
DTEND;TZID=America/Los_Angeles:20260119T143000
DTSTAMP:20260420T223950
CREATED:20251231T112130Z
LAST-MODIFIED:20251231T112130Z
UID:10012788-1768829400-1768833000@pottedinsl.com
SUMMARY:Bakery Woods
DESCRIPTION:Potted Auction \nhttp://maps.secondlife.com/secondlife/Purple%20Rose/38/32/11
URL:https://pottedinsl.com/event/bakery-woods-59/2026-01-19/
LOCATION:http://maps.secondlife.com/secondlife/Purple%20Rose/38/32/11
END:VEVENT
BEGIN:VEVENT
DTSTART;TZID=America/Los_Angeles:20260119T143000
DTEND;TZID=America/Los_Angeles:20260119T153000
DTSTAMP:20260420T223950
CREATED:20260102T142049Z
LAST-MODIFIED:20260102T142049Z
UID:10012831-1768833000-1768836600@pottedinsl.com
SUMMARY:Sweetflowers
DESCRIPTION:Potted Auction \nhttp://maps.secondlife.com/secondlife/Woodland%20Hills/208/196/26
URL:https://pottedinsl.com/event/sweetflowers-60/2026-01-19/
LOCATION:http://maps.secondlife.com/secondlife/Woodland%20Hills/208/196/26
END:VEVENT
BEGIN:VEVENT
DTSTART;TZID=America/Los_Angeles:20260119T170000
DTEND;TZID=America/Los_Angeles:20260119T180000
DTSTAMP:20260420T223950
CREATED:20260105T090316Z
LAST-MODIFIED:20260105T090316Z
UID:10012883-1768842000-1768845600@pottedinsl.com
SUMMARY:Jazzy Pots
DESCRIPTION:Potted Auction \nhttp://maps.secondlife.com/secondlife/Elston/102/229/3500
URL:https://pottedinsl.com/event/jazzy-pots-19/2026-01-19/
LOCATION:http://maps.secondlife.com/secondlife/Elston/102/229/3500
END:VEVENT
BEGIN:VEVENT
DTSTART;TZID=America/Los_Angeles:20260119T180000
DTEND;TZID=America/Los_Angeles:20260119T190000
DTSTAMP:20260420T223950
CREATED:20260112T012935Z
LAST-MODIFIED:20260112T012936Z
UID:10012750-1768845600-1768849200@pottedinsl.com
SUMMARY:Riacats
DESCRIPTION:Potted Auction \nhttp://maps.secondlife.com/secondlife/Solarian%20Prime/63/159/25
URL:https://pottedinsl.com/event/riacats-60-3/2026-01-19/
LOCATION:http://maps.secondlife.com/secondlife/Solarian%20Prime/63/159/25
END:VEVENT
BEGIN:VEVENT
DTSTART;TZID=America/Los_Angeles:20260119T200000
DTEND;TZID=America/Los_Angeles:20260119T210000
DTSTAMP:20260420T223950
CREATED:20260102T135724Z
LAST-MODIFIED:20260102T135724Z
UID:10012808-1768852800-1768856400@pottedinsl.com
SUMMARY:Soil & Soul
DESCRIPTION:Potted Auction \nhttp://maps.secondlife.com/secondlife/Silex/100/126/33
URL:https://pottedinsl.com/event/soil-soul-13/2026-01-19/
LOCATION:http://maps.secondlife.com/secondlife/Silex/100/126/33
END:VEVENT
END:VCALENDAR