BEGIN:VCALENDAR
VERSION:2.0
PRODID:-//Potted - ECPv6.15.20//NONSGML v1.0//EN
CALSCALE:GREGORIAN
METHOD:PUBLISH
X-ORIGINAL-URL:https://pottedinsl.com
X-WR-CALDESC:Events for Potted
REFRESH-INTERVAL;VALUE=DURATION:PT1H
X-Robots-Tag:noindex
X-PUBLISHED-TTL:PT1H
BEGIN:VTIMEZONE
TZID:America/Los_Angeles
BEGIN:DAYLIGHT
TZOFFSETFROM:-0800
TZOFFSETTO:-0700
TZNAME:PDT
DTSTART:20250309T100000
END:DAYLIGHT
BEGIN:STANDARD
TZOFFSETFROM:-0700
TZOFFSETTO:-0800
TZNAME:PST
DTSTART:20251102T090000
END:STANDARD
BEGIN:DAYLIGHT
TZOFFSETFROM:-0800
TZOFFSETTO:-0700
TZNAME:PDT
DTSTART:20260308T100000
END:DAYLIGHT
BEGIN:STANDARD
TZOFFSETFROM:-0700
TZOFFSETTO:-0800
TZNAME:PST
DTSTART:20261101T090000
END:STANDARD
BEGIN:DAYLIGHT
TZOFFSETFROM:-0800
TZOFFSETTO:-0700
TZNAME:PDT
DTSTART:20270314T100000
END:DAYLIGHT
BEGIN:STANDARD
TZOFFSETFROM:-0700
TZOFFSETTO:-0800
TZNAME:PST
DTSTART:20271107T090000
END:STANDARD
END:VTIMEZONE
BEGIN:VEVENT
DTSTART;TZID=America/Los_Angeles:20260116T060000
DTEND;TZID=America/Los_Angeles:20260119T210000
DTSTAMP:20260420T130319
CREATED:20260113T144512Z
LAST-MODIFIED:20260113T144512Z
UID:10012925-1768543200-1768856400@pottedinsl.com
SUMMARY:SIM BENEFIT POT
DESCRIPTION:Bid board offering the Sim Benefit pot LE Spriggle Snail Succulent Pot – Salley at Delirium \nhttp://maps.secondlife.com/secondlife/Delirium%20Breedables/247/133/23
URL:https://pottedinsl.com/event/sim-benefit-pot-710/
LOCATION:http://maps.secondlife.com/secondlife/Delirium%20Breedables/247/133/23
END:VEVENT
BEGIN:VEVENT
DTSTART;TZID=America/Los_Angeles:20260116T120000
DTEND;TZID=America/Los_Angeles:20260118T120000
DTSTAMP:20260420T130319
CREATED:20260113T141409Z
LAST-MODIFIED:20260113T141409Z
UID:10012921-1768564800-1768737600@pottedinsl.com
SUMMARY:SIM BENEFIT POT
DESCRIPTION:Bid board offering the Sim Benefit pot LE Spriggle Snail Succulent Pot – Sammy at Amore d’Potted \nhttp://maps.secondlife.com/secondlife/Passions/208/147/21
URL:https://pottedinsl.com/event/sim-benefit-pot-706/
LOCATION:http://maps.secondlife.com/secondlife/Passions/208/147/21
END:VEVENT
BEGIN:VEVENT
DTSTART;TZID=America/Los_Angeles:20260118T060000
DTEND;TZID=America/Los_Angeles:20260120T060000
DTSTAMP:20260420T130319
CREATED:20260112T142840Z
LAST-MODIFIED:20260112T142840Z
UID:10012917-1768716000-1768888800@pottedinsl.com
SUMMARY:SIM BENEFIT POT
DESCRIPTION:Bid board offering the Sim Benefit pot LE Spriggle Snail Succulent pot – Salley at Potted Plant Mile \nhttp://maps.secondlife.com/secondlife/Euphoria/98/24/967
URL:https://pottedinsl.com/event/sim-benefit-pot-702/
LOCATION:http://maps.secondlife.com/secondlife/Euphoria/98/24/967
END:VEVENT
BEGIN:VEVENT
DTSTART;TZID=America/Los_Angeles:20260118T110000
DTEND;TZID=America/Los_Angeles:20260118T120000
DTSTAMP:20260420T130319
CREATED:20260103T081835Z
LAST-MODIFIED:20260103T081835Z
UID:10012876-1768734000-1768737600@pottedinsl.com
SUMMARY:Claudia & Co
DESCRIPTION:Potted Auction \nhttp://maps.secondlife.com/secondlife/Eternal%20Flames/201/91/25
URL:https://pottedinsl.com/event/claudia-co-24/2026-01-18/
LOCATION:http://maps.secondlife.com/secondlife/Eternal%20Flames/201/91/25
END:VEVENT
BEGIN:VEVENT
DTSTART;TZID=America/Los_Angeles:20260118T110000
DTEND;TZID=America/Los_Angeles:20260118T120000
DTSTAMP:20260420T130319
CREATED:20260118T061508Z
LAST-MODIFIED:20260118T061508Z
UID:10012935-1768734000-1768737600@pottedinsl.com
SUMMARY:SIM BENEFIT POT
DESCRIPTION:Potted Auction to include the Sim Benefit pot LE Spriggle Snail Succulent Pot – Salley at Claudia & Co \nhttp://maps.secondlife.com/secondlife/Eternal%20Flames/201/91/25
URL:https://pottedinsl.com/event/sim-benefit-pot-720/
LOCATION:http://maps.secondlife.com/secondlife/Eternal%20Flames/201/91/25
END:VEVENT
BEGIN:VEVENT
DTSTART;TZID=America/Los_Angeles:20260118T120000
DTEND;TZID=America/Los_Angeles:20260118T130000
DTSTAMP:20260420T130319
CREATED:20260102T141206Z
LAST-MODIFIED:20260102T141206Z
UID:10012823-1768737600-1768741200@pottedinsl.com
SUMMARY:GOE
DESCRIPTION:Potted Auction \nhttp://maps.secondlife.com/secondlife/Wines/141/127/20
URL:https://pottedinsl.com/event/goe-13/
LOCATION:http://maps.secondlife.com/secondlife/Wines/141/127/20
END:VEVENT
BEGIN:VEVENT
DTSTART;TZID=America/Los_Angeles:20260118T160000
DTEND;TZID=America/Los_Angeles:20260118T170000
DTSTAMP:20260420T130319
CREATED:20260102T143856Z
LAST-MODIFIED:20260102T143856Z
UID:10012852-1768752000-1768755600@pottedinsl.com
SUMMARY:Ganja Garden
DESCRIPTION:Potted Auction \nhttp://maps.secondlife.com/secondlife/CreditCard/74/195/3482
URL:https://pottedinsl.com/event/ganja-garden-61/2026-01-18/
LOCATION:http://maps.secondlife.com/secondlife/CreditCard/74/195/3482
END:VEVENT
BEGIN:VEVENT
DTSTART;TZID=America/Los_Angeles:20260118T180000
DTEND;TZID=America/Los_Angeles:20260118T190000
DTSTAMP:20260420T130319
CREATED:20251231T094517Z
LAST-MODIFIED:20251231T094517Z
UID:10012759-1768759200-1768762800@pottedinsl.com
SUMMARY:Riacats
DESCRIPTION:Potted Auction \nhttp://maps.secondlife.com/secondlife/Solarian%20Prime/63/159/25
URL:https://pottedinsl.com/event/riacats-63/2026-01-18/
LOCATION:http://maps.secondlife.com/secondlife/Solarian%20Prime/63/159/25
END:VEVENT
END:VCALENDAR