BEGIN:VCALENDAR
VERSION:2.0
PRODID:-//Potted - ECPv6.15.20//NONSGML v1.0//EN
CALSCALE:GREGORIAN
METHOD:PUBLISH
X-ORIGINAL-URL:https://pottedinsl.com
X-WR-CALDESC:Events for Potted
REFRESH-INTERVAL;VALUE=DURATION:PT1H
X-Robots-Tag:noindex
X-PUBLISHED-TTL:PT1H
BEGIN:VTIMEZONE
TZID:America/Los_Angeles
BEGIN:DAYLIGHT
TZOFFSETFROM:-0800
TZOFFSETTO:-0700
TZNAME:PDT
DTSTART:20250309T100000
END:DAYLIGHT
BEGIN:STANDARD
TZOFFSETFROM:-0700
TZOFFSETTO:-0800
TZNAME:PST
DTSTART:20251102T090000
END:STANDARD
BEGIN:DAYLIGHT
TZOFFSETFROM:-0800
TZOFFSETTO:-0700
TZNAME:PDT
DTSTART:20260308T100000
END:DAYLIGHT
BEGIN:STANDARD
TZOFFSETFROM:-0700
TZOFFSETTO:-0800
TZNAME:PST
DTSTART:20261101T090000
END:STANDARD
BEGIN:DAYLIGHT
TZOFFSETFROM:-0800
TZOFFSETTO:-0700
TZNAME:PDT
DTSTART:20270314T100000
END:DAYLIGHT
BEGIN:STANDARD
TZOFFSETFROM:-0700
TZOFFSETTO:-0800
TZNAME:PST
DTSTART:20271107T090000
END:STANDARD
END:VTIMEZONE
BEGIN:VEVENT
DTSTART;TZID=America/Los_Angeles:20260101T110000
DTEND;TZID=America/Los_Angeles:20260101T120000
DTSTAMP:20260420T145520
CREATED:20251231T092941Z
LAST-MODIFIED:20251231T092941Z
UID:10012739-1767265200-1767268800@pottedinsl.com
SUMMARY:Braxton Flowers
DESCRIPTION:Potted Auction \nhttp://maps.secondlife.com/secondlife/Firanelli%20Estates/89/56/76
URL:https://pottedinsl.com/event/braxton-flowers-7/2026-01-01/
LOCATION:http://maps.secondlife.com/secondlife/Firanelli%20Estates/89/56/76
END:VEVENT
END:VCALENDAR