BEGIN:VCALENDAR
VERSION:2.0
PRODID:-//Potted - ECPv6.15.20//NONSGML v1.0//EN
CALSCALE:GREGORIAN
METHOD:PUBLISH
X-ORIGINAL-URL:https://pottedinsl.com
X-WR-CALDESC:Events for Potted
REFRESH-INTERVAL;VALUE=DURATION:PT1H
X-Robots-Tag:noindex
X-PUBLISHED-TTL:PT1H
BEGIN:VTIMEZONE
TZID:America/Los_Angeles
BEGIN:DAYLIGHT
TZOFFSETFROM:-0800
TZOFFSETTO:-0700
TZNAME:PDT
DTSTART:20240310T100000
END:DAYLIGHT
BEGIN:STANDARD
TZOFFSETFROM:-0700
TZOFFSETTO:-0800
TZNAME:PST
DTSTART:20241103T090000
END:STANDARD
BEGIN:DAYLIGHT
TZOFFSETFROM:-0800
TZOFFSETTO:-0700
TZNAME:PDT
DTSTART:20250309T100000
END:DAYLIGHT
BEGIN:STANDARD
TZOFFSETFROM:-0700
TZOFFSETTO:-0800
TZNAME:PST
DTSTART:20251102T090000
END:STANDARD
BEGIN:DAYLIGHT
TZOFFSETFROM:-0800
TZOFFSETTO:-0700
TZNAME:PDT
DTSTART:20260308T100000
END:DAYLIGHT
BEGIN:STANDARD
TZOFFSETFROM:-0700
TZOFFSETTO:-0800
TZNAME:PST
DTSTART:20261101T090000
END:STANDARD
END:VTIMEZONE
BEGIN:VEVENT
DTSTART;TZID=America/Los_Angeles:20251219T090000
DTEND;TZID=America/Los_Angeles:20251221T090000
DTSTAMP:20260420T210451
CREATED:20251214T143925Z
LAST-MODIFIED:20251214T143925Z
UID:10012722-1766134800-1766307600@pottedinsl.com
SUMMARY:SIM BENEFIT POT
DESCRIPTION:Bid board offering the Sim Benefit pot LE Mrs. Claus Philodendron Pot at Braxton Flowers \nhttp://maps.secondlife.com/secondlife/Firanelli%20Estates/59/47/77
URL:https://pottedinsl.com/event/sim-benefit-pot-673/
LOCATION:http://maps.secondlife.com/secondlife/Firanelli%20Estates/59/47/77
END:VEVENT
BEGIN:VEVENT
DTSTART;TZID=America/Los_Angeles:20251221T110000
DTEND;TZID=America/Los_Angeles:20251221T120000
DTSTAMP:20260420T210451
CREATED:20251206T084501Z
LAST-MODIFIED:20251206T084501Z
UID:10012695-1766314800-1766318400@pottedinsl.com
SUMMARY:Claudia & Co
DESCRIPTION:Potted Auction \nhttp://maps.secondlife.com/secondlife/Eternal%20Flames/201/91/25
URL:https://pottedinsl.com/event/claudia-co-23/2025-12-21/
LOCATION:http://maps.secondlife.com/secondlife/Eternal%20Flames/201/91/25
END:VEVENT
BEGIN:VEVENT
DTSTART;TZID=America/Los_Angeles:20251221T110000
DTEND;TZID=America/Los_Angeles:20251221T120000
DTSTAMP:20260420T210451
CREATED:20251214T145416Z
LAST-MODIFIED:20251214T145416Z
UID:10012729-1766314800-1766318400@pottedinsl.com
SUMMARY:SIM BENEFIT POT
DESCRIPTION:Potted Auction to include the Sim Benefit pot Potted ~ LE Mrs. Claus Philodendron Pot at Claudia & Co \nhttp://maps.secondlife.com/secondlife/Eternal%20Flames/201/91/25
URL:https://pottedinsl.com/event/sim-benefit-pot-677/
LOCATION:http://maps.secondlife.com/secondlife/Eternal%20Flames/201/91/25
END:VEVENT
BEGIN:VEVENT
DTSTART;TZID=America/Los_Angeles:20251221T120000
DTEND;TZID=America/Los_Angeles:20251221T130000
DTSTAMP:20260420T210451
CREATED:20251126T131114Z
LAST-MODIFIED:20251126T131114Z
UID:10012541-1766318400-1766322000@pottedinsl.com
SUMMARY:Garden of Eden
DESCRIPTION:Potted Auction \nhttp://maps.secondlife.com/secondlife/Wines/141/127/19
URL:https://pottedinsl.com/event/garden-of-eden-368/
LOCATION:http://maps.secondlife.com/secondlife/Wines/141/127/19
END:VEVENT
BEGIN:VEVENT
DTSTART;TZID=America/Los_Angeles:20251221T180000
DTEND;TZID=America/Los_Angeles:20251221T190000
DTSTAMP:20260420T210451
CREATED:20251127T103458Z
LAST-MODIFIED:20251127T103458Z
UID:10012570-1766340000-1766343600@pottedinsl.com
SUMMARY:Riacats
DESCRIPTION:Potted Auction \nhttp://maps.secondlife.com/secondlife/Solarian%20Prime/63/159/25
URL:https://pottedinsl.com/event/riacats-59/2025-12-21/
LOCATION:http://maps.secondlife.com/secondlife/Solarian%20Prime/63/159/25
END:VEVENT
END:VCALENDAR