BEGIN:VCALENDAR
VERSION:2.0
PRODID:-//Potted - ECPv6.15.20//NONSGML v1.0//EN
CALSCALE:GREGORIAN
METHOD:PUBLISH
X-ORIGINAL-URL:https://pottedinsl.com
X-WR-CALDESC:Events for Potted
REFRESH-INTERVAL;VALUE=DURATION:PT1H
X-Robots-Tag:noindex
X-PUBLISHED-TTL:PT1H
BEGIN:VTIMEZONE
TZID:America/Los_Angeles
BEGIN:DAYLIGHT
TZOFFSETFROM:-0800
TZOFFSETTO:-0700
TZNAME:PDT
DTSTART:20240310T100000
END:DAYLIGHT
BEGIN:STANDARD
TZOFFSETFROM:-0700
TZOFFSETTO:-0800
TZNAME:PST
DTSTART:20241103T090000
END:STANDARD
BEGIN:DAYLIGHT
TZOFFSETFROM:-0800
TZOFFSETTO:-0700
TZNAME:PDT
DTSTART:20250309T100000
END:DAYLIGHT
BEGIN:STANDARD
TZOFFSETFROM:-0700
TZOFFSETTO:-0800
TZNAME:PST
DTSTART:20251102T090000
END:STANDARD
BEGIN:DAYLIGHT
TZOFFSETFROM:-0800
TZOFFSETTO:-0700
TZNAME:PDT
DTSTART:20260308T100000
END:DAYLIGHT
BEGIN:STANDARD
TZOFFSETFROM:-0700
TZOFFSETTO:-0800
TZNAME:PST
DTSTART:20261101T090000
END:STANDARD
END:VTIMEZONE
BEGIN:VEVENT
DTSTART;TZID=America/Los_Angeles:20251219T090000
DTEND;TZID=America/Los_Angeles:20251221T090000
DTSTAMP:20260420T144632
CREATED:20251214T143925Z
LAST-MODIFIED:20251214T143925Z
UID:10012722-1766134800-1766307600@pottedinsl.com
SUMMARY:SIM BENEFIT POT
DESCRIPTION:Bid board offering the Sim Benefit pot LE Mrs. Claus Philodendron Pot at Braxton Flowers \nhttp://maps.secondlife.com/secondlife/Firanelli%20Estates/59/47/77
URL:https://pottedinsl.com/event/sim-benefit-pot-673/
LOCATION:http://maps.secondlife.com/secondlife/Firanelli%20Estates/59/47/77
END:VEVENT
BEGIN:VEVENT
DTSTART;TZID=America/Los_Angeles:20251220T110000
DTEND;TZID=America/Los_Angeles:20251220T120000
DTSTAMP:20260420T144632
CREATED:20251206T084012Z
LAST-MODIFIED:20251206T084012Z
UID:10012688-1766228400-1766232000@pottedinsl.com
SUMMARY:Sweetflowers
DESCRIPTION:Potted Auction \nhttp://maps.secondlife.com/secondlife/Woodland%20Hills/208/196/26
URL:https://pottedinsl.com/event/sweetflowers-59/2025-12-20/
LOCATION:http://maps.secondlife.com/secondlife/Woodland%20Hills/208/196/26
END:VEVENT
BEGIN:VEVENT
DTSTART;TZID=America/Los_Angeles:20251220T113000
DTEND;TZID=America/Los_Angeles:20251220T130000
DTSTAMP:20260420T144632
CREATED:20251202T152256Z
LAST-MODIFIED:20251202T152256Z
UID:10012653-1766230200-1766235600@pottedinsl.com
SUMMARY:Nest Egg
DESCRIPTION:Potted Auction \nhttp://maps.secondlife.com/secondlife/The%20Mystical%20Isle/209/211/22
URL:https://pottedinsl.com/event/nest-egg-70/2025-12-20/
LOCATION:http://maps.secondlife.com/secondlife/The%20Mystical%20Isle/209/211/22
END:VEVENT
BEGIN:VEVENT
DTSTART;TZID=America/Los_Angeles:20251220T130000
DTEND;TZID=America/Los_Angeles:20251220T140000
DTSTAMP:20260420T144632
CREATED:20251206T084302Z
LAST-MODIFIED:20251206T084302Z
UID:10012691-1766235600-1766239200@pottedinsl.com
SUMMARY:PWP
DESCRIPTION:Potted Auction \nhttp://maps.secondlife.com/secondlife/Stalkers%20Allowed/128/194/19
URL:https://pottedinsl.com/event/pwp/2025-12-20/
LOCATION:http://maps.secondlife.com/secondlife/Stalkers%20Allowed/128/194/19
END:VEVENT
BEGIN:VEVENT
DTSTART;TZID=America/Los_Angeles:20251220T130000
DTEND;TZID=America/Los_Angeles:20251220T140000
DTSTAMP:20260420T144632
CREATED:20251208T073950Z
LAST-MODIFIED:20251208T073950Z
UID:10012697-1766235600-1766239200@pottedinsl.com
SUMMARY:SIM BENEFIT POT
DESCRIPTION:Potted Auction to include the Sim Benefit pot Potted ~ LE Santa Claus Philodendron  at PWP \nhttp://maps.secondlife.com/secondlife/Stalkers%20Allowed/128/194/19
URL:https://pottedinsl.com/event/sim-benefit-pot-651/
LOCATION:http://maps.secondlife.com/secondlife/Stalkers%20Allowed/128/194/19
END:VEVENT
BEGIN:VEVENT
DTSTART;TZID=America/Los_Angeles:20251220T160000
DTEND;TZID=America/Los_Angeles:20251220T170000
DTSTAMP:20260420T144632
CREATED:20251201T090141Z
LAST-MODIFIED:20251201T090141Z
UID:10012620-1766246400-1766250000@pottedinsl.com
SUMMARY:Celtic Mystics
DESCRIPTION:Potted Auction \nhttp://maps.secondlife.com/secondlife/Celtic/190/73/22
URL:https://pottedinsl.com/event/celtic-mystics-42/2025-12-20/
LOCATION:http://maps.secondlife.com/secondlife/Celtic/190/73/22
END:VEVENT
BEGIN:VEVENT
DTSTART;TZID=America/Los_Angeles:20251220T170000
DTEND;TZID=America/Los_Angeles:20251220T180000
DTSTAMP:20260420T144632
CREATED:20251201T090521Z
LAST-MODIFIED:20251201T090521Z
UID:10012624-1766250000-1766253600@pottedinsl.com
SUMMARY:Delirium
DESCRIPTION:Potted Auction \nhttp://maps.secondlife.com/secondlife/Delirium%20Breedables/221/151/21
URL:https://pottedinsl.com/event/delirium-14/2025-12-20/
LOCATION:http://maps.secondlife.com/secondlife/Delirium%20Breedables/221/151/21
END:VEVENT
END:VCALENDAR