BEGIN:VCALENDAR
VERSION:2.0
PRODID:-//Potted - ECPv6.15.20//NONSGML v1.0//EN
CALSCALE:GREGORIAN
METHOD:PUBLISH
X-WR-CALNAME:Potted
X-ORIGINAL-URL:https://pottedinsl.com
X-WR-CALDESC:Events for Potted
REFRESH-INTERVAL;VALUE=DURATION:PT1H
X-Robots-Tag:noindex
X-PUBLISHED-TTL:PT1H
BEGIN:VTIMEZONE
TZID:America/Los_Angeles
BEGIN:DAYLIGHT
TZOFFSETFROM:-0800
TZOFFSETTO:-0700
TZNAME:PDT
DTSTART:20240310T100000
END:DAYLIGHT
BEGIN:STANDARD
TZOFFSETFROM:-0700
TZOFFSETTO:-0800
TZNAME:PST
DTSTART:20241103T090000
END:STANDARD
BEGIN:DAYLIGHT
TZOFFSETFROM:-0800
TZOFFSETTO:-0700
TZNAME:PDT
DTSTART:20250309T100000
END:DAYLIGHT
BEGIN:STANDARD
TZOFFSETFROM:-0700
TZOFFSETTO:-0800
TZNAME:PST
DTSTART:20251102T090000
END:STANDARD
BEGIN:DAYLIGHT
TZOFFSETFROM:-0800
TZOFFSETTO:-0700
TZNAME:PDT
DTSTART:20260308T100000
END:DAYLIGHT
BEGIN:STANDARD
TZOFFSETFROM:-0700
TZOFFSETTO:-0800
TZNAME:PST
DTSTART:20261101T090000
END:STANDARD
END:VTIMEZONE
BEGIN:VEVENT
DTSTART;TZID=America/Los_Angeles:20251201T090000
DTEND;TZID=America/Los_Angeles:20251206T210000
DTSTAMP:20260420T223119
CREATED:20251130T145247Z
LAST-MODIFIED:20251130T145247Z
UID:10012585-1764579600-1765054800@pottedinsl.com
SUMMARY:MADPEA CHRISTMAS ADVENT CALENDAR 2025
DESCRIPTION:
URL:https://pottedinsl.com/event/madpea-christmas-advent-calendar-2025/
LOCATION:http://maps.secondlife.com/secondlife/Potted/140/134/30
END:VEVENT
BEGIN:VEVENT
DTSTART;TZID=America/Los_Angeles:20251205T110000
DTEND;TZID=America/Los_Angeles:20251205T120000
DTSTAMP:20260420T223119
CREATED:20251203T103114Z
LAST-MODIFIED:20251203T103114Z
UID:10012674-1764932400-1764936000@pottedinsl.com
SUMMARY:Charmed
DESCRIPTION:Potted Auction \nhttp://maps.secondlife.com/secondlife/Noctura/124/49/27
URL:https://pottedinsl.com/event/charmed-6/2025-12-05/
LOCATION:http://maps.secondlife.com/secondlife/Noctura/124/49/27
END:VEVENT
BEGIN:VEVENT
DTSTART;TZID=America/Los_Angeles:20251205T120000
DTEND;TZID=America/Los_Angeles:20251205T130000
DTSTAMP:20260420T223119
CREATED:20251127T102456Z
LAST-MODIFIED:20251127T102456Z
UID:10012554-1764936000-1764939600@pottedinsl.com
SUMMARY:Bakery Woods
DESCRIPTION:Potted Auction \nhttp://maps.secondlife.com/secondlife/Purple%20Rose/38/32/11
URL:https://pottedinsl.com/event/bakery-woods-58/2025-12-05/
LOCATION:http://maps.secondlife.com/secondlife/Purple%20Rose/38/32/11
END:VEVENT
BEGIN:VEVENT
DTSTART;TZID=America/Los_Angeles:20251205T130000
DTEND;TZID=America/Los_Angeles:20251205T140000
DTSTAMP:20260420T223119
CREATED:20251201T085527Z
LAST-MODIFIED:20251201T085527Z
UID:10012609-1764939600-1764943200@pottedinsl.com
SUMMARY:Rainbow Potted
DESCRIPTION:Potted Auction \nhttp://maps.secondlife.com/secondlife/Covdova/193/18/22
URL:https://pottedinsl.com/event/rainbow-potted-45/2025-12-05/
LOCATION:http://maps.secondlife.com/secondlife/Covdova/193/18/22
END:VEVENT
BEGIN:VEVENT
DTSTART;TZID=America/Los_Angeles:20251205T150000
DTEND;TZID=America/Los_Angeles:20251205T160000
DTSTAMP:20260420T223119
CREATED:20251202T150646Z
LAST-MODIFIED:20251202T150646Z
UID:10012631-1764946800-1764950400@pottedinsl.com
SUMMARY:Barbasz Got Potted
DESCRIPTION:Potted Auction \nhttp://maps.secondlife.com/secondlife/MOJO/50/128/22
URL:https://pottedinsl.com/event/barbasz-got-potted-83/2025-12-05/
LOCATION:http://maps.secondlife.com/secondlife/MOJO/50/128/22
END:VEVENT
BEGIN:VEVENT
DTSTART;TZID=America/Los_Angeles:20251205T163000
DTEND;TZID=America/Los_Angeles:20251205T173000
DTSTAMP:20260420T223119
CREATED:20251203T102503Z
LAST-MODIFIED:20251203T102503Z
UID:10012667-1764952200-1764955800@pottedinsl.com
SUMMARY:Jazzy Pots
DESCRIPTION:Potted Auction \nhttp://maps.secondlife.com/secondlife/Elston/102/229/3500
URL:https://pottedinsl.com/event/jazzy-pots-18/2025-12-05/
LOCATION:http://maps.secondlife.com/secondlife/Elston/102/229/3500
END:VEVENT
BEGIN:VEVENT
DTSTART;TZID=America/Los_Angeles:20251205T183000
DTEND;TZID=America/Los_Angeles:20251205T193000
DTSTAMP:20260420T223119
CREATED:20251203T102100Z
LAST-MODIFIED:20251203T102100Z
UID:10012655-1764959400-1764963000@pottedinsl.com
SUMMARY:The Potted Jungle
DESCRIPTION:Potted Auction \nhttp://maps.secondlife.com/secondlife/Infinity%20Acres/107/190/24
URL:https://pottedinsl.com/event/the-potted-jungle-4/2025-12-05/
LOCATION:http://maps.secondlife.com/secondlife/Infinity%20Acres/107/190/24
END:VEVENT
END:VCALENDAR