BEGIN:VCALENDAR
VERSION:2.0
PRODID:-//Potted - ECPv6.15.20//NONSGML v1.0//EN
CALSCALE:GREGORIAN
METHOD:PUBLISH
X-WR-CALNAME:Potted
X-ORIGINAL-URL:https://pottedinsl.com
X-WR-CALDESC:Events for Potted
REFRESH-INTERVAL;VALUE=DURATION:PT1H
X-Robots-Tag:noindex
X-PUBLISHED-TTL:PT1H
BEGIN:VTIMEZONE
TZID:America/Los_Angeles
BEGIN:DAYLIGHT
TZOFFSETFROM:-0800
TZOFFSETTO:-0700
TZNAME:PDT
DTSTART:20240310T100000
END:DAYLIGHT
BEGIN:STANDARD
TZOFFSETFROM:-0700
TZOFFSETTO:-0800
TZNAME:PST
DTSTART:20241103T090000
END:STANDARD
BEGIN:DAYLIGHT
TZOFFSETFROM:-0800
TZOFFSETTO:-0700
TZNAME:PDT
DTSTART:20250309T100000
END:DAYLIGHT
BEGIN:STANDARD
TZOFFSETFROM:-0700
TZOFFSETTO:-0800
TZNAME:PST
DTSTART:20251102T090000
END:STANDARD
BEGIN:DAYLIGHT
TZOFFSETFROM:-0800
TZOFFSETTO:-0700
TZNAME:PDT
DTSTART:20260308T100000
END:DAYLIGHT
BEGIN:STANDARD
TZOFFSETFROM:-0700
TZOFFSETTO:-0800
TZNAME:PST
DTSTART:20261101T090000
END:STANDARD
END:VTIMEZONE
BEGIN:VEVENT
DTSTART;TZID=America/Los_Angeles:20251201T090000
DTEND;TZID=America/Los_Angeles:20251206T210000
DTSTAMP:20260423T135939
CREATED:20251130T145247Z
LAST-MODIFIED:20251130T145247Z
UID:10012585-1764579600-1765054800@pottedinsl.com
SUMMARY:MADPEA CHRISTMAS ADVENT CALENDAR 2025
DESCRIPTION:
URL:https://pottedinsl.com/event/madpea-christmas-advent-calendar-2025/
LOCATION:http://maps.secondlife.com/secondlife/Potted/140/134/30
END:VEVENT
BEGIN:VEVENT
DTSTART;TZID=America/Los_Angeles:20251203T120000
DTEND;TZID=America/Los_Angeles:20251203T130000
DTSTAMP:20260423T135939
CREATED:20251202T152024Z
LAST-MODIFIED:20251202T152024Z
UID:10012645-1764763200-1764766800@pottedinsl.com
SUMMARY:Nest Egg
DESCRIPTION:Potted Auction \nhttp://maps.secondlife.com/secondlife/The%20Mystical%20Isle/209/211/22
URL:https://pottedinsl.com/event/nest-egg-68/2025-12-03/
LOCATION:http://maps.secondlife.com/secondlife/The%20Mystical%20Isle/209/211/22
END:VEVENT
BEGIN:VEVENT
DTSTART;TZID=America/Los_Angeles:20251203T153000
DTEND;TZID=America/Los_Angeles:20251203T163000
DTSTAMP:20260423T135939
CREATED:20251202T150517Z
LAST-MODIFIED:20251202T150517Z
UID:10012626-1764775800-1764779400@pottedinsl.com
SUMMARY:Barbasz Got Potted
DESCRIPTION:Potted Auction \nhttp://maps.secondlife.com/secondlife/MOJO/50/128/22
URL:https://pottedinsl.com/event/barbasz-got-potted-82/2025-12-03/
LOCATION:http://maps.secondlife.com/secondlife/MOJO/50/128/22
END:VEVENT
BEGIN:VEVENT
DTSTART;TZID=America/Los_Angeles:20251203T164500
DTEND;TZID=America/Los_Angeles:20251203T174500
DTSTAMP:20260423T135939
CREATED:20251201T090016Z
LAST-MODIFIED:20251201T090016Z
UID:10012613-1764780300-1764783900@pottedinsl.com
SUMMARY:Celtic Mystics
DESCRIPTION:Potted Auction \nhttp://maps.secondlife.com/secondlife/Celtic/190/73/22
URL:https://pottedinsl.com/event/celtic-mystics-41/2025-12-03/
LOCATION:http://maps.secondlife.com/secondlife/Celtic/190/73/22
END:VEVENT
END:VCALENDAR