BEGIN:VCALENDAR
VERSION:2.0
PRODID:-//Potted - ECPv6.15.20//NONSGML v1.0//EN
CALSCALE:GREGORIAN
METHOD:PUBLISH
X-WR-CALNAME:Potted
X-ORIGINAL-URL:https://pottedinsl.com
X-WR-CALDESC:Events for Potted
REFRESH-INTERVAL;VALUE=DURATION:PT1H
X-Robots-Tag:noindex
X-PUBLISHED-TTL:PT1H
BEGIN:VTIMEZONE
TZID:America/Los_Angeles
BEGIN:DAYLIGHT
TZOFFSETFROM:-0800
TZOFFSETTO:-0700
TZNAME:PDT
DTSTART:20240310T100000
END:DAYLIGHT
BEGIN:STANDARD
TZOFFSETFROM:-0700
TZOFFSETTO:-0800
TZNAME:PST
DTSTART:20241103T090000
END:STANDARD
BEGIN:DAYLIGHT
TZOFFSETFROM:-0800
TZOFFSETTO:-0700
TZNAME:PDT
DTSTART:20250309T100000
END:DAYLIGHT
BEGIN:STANDARD
TZOFFSETFROM:-0700
TZOFFSETTO:-0800
TZNAME:PST
DTSTART:20251102T090000
END:STANDARD
BEGIN:DAYLIGHT
TZOFFSETFROM:-0800
TZOFFSETTO:-0700
TZNAME:PDT
DTSTART:20260308T100000
END:DAYLIGHT
BEGIN:STANDARD
TZOFFSETFROM:-0700
TZOFFSETTO:-0800
TZNAME:PST
DTSTART:20261101T090000
END:STANDARD
END:VTIMEZONE
BEGIN:VEVENT
DTSTART;TZID=America/Los_Angeles:20251115T080000
DTEND;TZID=America/Los_Angeles:20251117T200000
DTSTAMP:20260425T122805
CREATED:20251114T154605Z
LAST-MODIFIED:20251114T154605Z
UID:10012526-1763193600-1763409600@pottedinsl.com
SUMMARY:SIM BENEFIT POT
DESCRIPTION:Bid board offering the Sim Benefit pot Storm at Delirium \nhttp://maps.secondlife.com/secondlife/Delirium%20Breedables/236/132/21
URL:https://pottedinsl.com/event/sim-benefit-pot-645/
LOCATION:http://maps.secondlife.com/secondlife/Delirium%20Breedables/236/132/21
END:VEVENT
BEGIN:VEVENT
DTSTART;TZID=America/Los_Angeles:20251115T120000
DTEND;TZID=America/Los_Angeles:20251117T120000
DTSTAMP:20260425T122805
CREATED:20251114T144442Z
LAST-MODIFIED:20251114T144442Z
UID:10012517-1763208000-1763380800@pottedinsl.com
SUMMARY:SIM BENEFIT POT
DESCRIPTION:Bid board offering the Sim Benefit pot LE Sir Borksalot Philodendron Pot – Spice at Amore d’Potted \nhttp://maps.secondlife.com/secondlife/Passions/208/147/21
URL:https://pottedinsl.com/event/sim-benefit-pot-636/
LOCATION:http://maps.secondlife.com/secondlife/Passions/208/147/21
END:VEVENT
BEGIN:VEVENT
DTSTART;TZID=America/Los_Angeles:20251117T120000
DTEND;TZID=America/Los_Angeles:20251117T130000
DTSTAMP:20260425T122805
CREATED:20251023T144004Z
LAST-MODIFIED:20251023T144004Z
UID:10012323-1763380800-1763384400@pottedinsl.com
SUMMARY:Garden of Eden
DESCRIPTION:Potted Auction \nhttp://maps.secondlife.com/secondlife/Wines/141/127/19
URL:https://pottedinsl.com/event/garden-of-eden-354/
LOCATION:http://maps.secondlife.com/secondlife/Wines/141/127/19
END:VEVENT
BEGIN:VEVENT
DTSTART;TZID=America/Los_Angeles:20251117T133000
DTEND;TZID=America/Los_Angeles:20251117T143000
DTSTAMP:20260425T122805
CREATED:20251105T083917Z
LAST-MODIFIED:20251105T083917Z
UID:10012481-1763386200-1763389800@pottedinsl.com
SUMMARY:Bakery Woods
DESCRIPTION:Potted Auction \nhttp://maps.secondlife.com/secondlife/Purple%20Rose/38/32/11
URL:https://pottedinsl.com/event/bakery-woods-53/2025-11-17/
LOCATION:http://maps.secondlife.com/secondlife/Purple%20Rose/38/32/11
END:VEVENT
BEGIN:VEVENT
DTSTART;TZID=America/Los_Angeles:20251117T133000
DTEND;TZID=America/Los_Angeles:20251117T143000
DTSTAMP:20260425T122805
CREATED:20251114T144910Z
LAST-MODIFIED:20251114T144910Z
UID:10012519-1763386200-1763389800@pottedinsl.com
SUMMARY:SIM BENEFIT POT
DESCRIPTION:Potted Auction to include the Sim Benefit pot  LE Sir Borksalot Philodendron Pot – Spice at Bakery Woods \nhttp://maps.secondlife.com/secondlife/Purple%20Rose/21/33/11
URL:https://pottedinsl.com/event/sim-benefit-pot-638/
LOCATION:http://maps.secondlife.com/secondlife/Purple%20Rose/21/33/11
END:VEVENT
BEGIN:VEVENT
DTSTART;TZID=America/Los_Angeles:20251117T143000
DTEND;TZID=America/Los_Angeles:20251117T153000
DTSTAMP:20260425T122805
CREATED:20251029T094738Z
LAST-MODIFIED:20251029T094738Z
UID:10012346-1763389800-1763393400@pottedinsl.com
SUMMARY:Sweetflowers
DESCRIPTION:Potted Auction \nhttp://maps.secondlife.com/secondlife/Woodland%20Hills/208/196/26
URL:https://pottedinsl.com/event/sweetflowers-55/2025-11-17/
LOCATION:http://maps.secondlife.com/secondlife/Woodland%20Hills/208/196/26
END:VEVENT
BEGIN:VEVENT
DTSTART;TZID=America/Los_Angeles:20251117T154500
DTEND;TZID=America/Los_Angeles:20251117T164500
DTSTAMP:20260425T122805
CREATED:20251029T095149Z
LAST-MODIFIED:20251029T095149Z
UID:10012354-1763394300-1763397900@pottedinsl.com
SUMMARY:Celtic Mystics
DESCRIPTION:Potted Auction \nhttp://maps.secondlife.com/secondlife/Celtic/191/73/22
URL:https://pottedinsl.com/event/celtic-mystics-38/2025-11-17/
LOCATION:http://maps.secondlife.com/secondlife/Celtic/191/73/22
END:VEVENT
BEGIN:VEVENT
DTSTART;TZID=America/Los_Angeles:20251117T170000
DTEND;TZID=America/Los_Angeles:20251117T180000
DTSTAMP:20260425T122805
CREATED:20251101T092703Z
LAST-MODIFIED:20251101T092703Z
UID:10012425-1763398800-1763402400@pottedinsl.com
SUMMARY:Jazzy Pots
DESCRIPTION:Potted Auction \nhttp://maps.secondlife.com/secondlife/Elston/102/229/3500
URL:https://pottedinsl.com/event/jazzy-pots-13/2025-11-17/
LOCATION:http://maps.secondlife.com/secondlife/Elston/102/229/3500
END:VEVENT
BEGIN:VEVENT
DTSTART;TZID=America/Los_Angeles:20251117T200000
DTEND;TZID=America/Los_Angeles:20251117T210000
DTSTAMP:20260425T122805
CREATED:20251029T102452Z
LAST-MODIFIED:20251029T102452Z
UID:10012377-1763409600-1763413200@pottedinsl.com
SUMMARY:Soil & Soul
DESCRIPTION:Potted Auction \nhttp://maps.secondlife.com/secondlife/Silex/100/126/33
URL:https://pottedinsl.com/event/soil-soul-7/2025-11-17/
LOCATION:http://maps.secondlife.com/secondlife/Silex/100/126/33
END:VEVENT
BEGIN:VEVENT
DTSTART;TZID=America/Los_Angeles:20251117T200000
DTEND;TZID=America/Los_Angeles:20251117T210000
DTSTAMP:20260425T122805
CREATED:20251111T102803Z
LAST-MODIFIED:20251111T102803Z
UID:10012497-1763409600-1763413200@pottedinsl.com
SUMMARY:SIM BENEFIT POT
DESCRIPTION:Potted Auction to include the Sim Benefit pot LE Sir Borksalot Philodendron Pot – Spice at Soil & Soul \nhttp://maps.secondlife.com/secondlife/Silex/100/126/33
URL:https://pottedinsl.com/event/sim-benefit-pot-624/
LOCATION:http://maps.secondlife.com/secondlife/Silex/100/126/33
END:VEVENT
END:VCALENDAR