BEGIN:VCALENDAR
VERSION:2.0
PRODID:-//Potted - ECPv6.15.20//NONSGML v1.0//EN
CALSCALE:GREGORIAN
METHOD:PUBLISH
X-WR-CALNAME:Potted
X-ORIGINAL-URL:https://pottedinsl.com
X-WR-CALDESC:Events for Potted
REFRESH-INTERVAL;VALUE=DURATION:PT1H
X-Robots-Tag:noindex
X-PUBLISHED-TTL:PT1H
BEGIN:VTIMEZONE
TZID:America/Los_Angeles
BEGIN:DAYLIGHT
TZOFFSETFROM:-0800
TZOFFSETTO:-0700
TZNAME:PDT
DTSTART:20240310T100000
END:DAYLIGHT
BEGIN:STANDARD
TZOFFSETFROM:-0700
TZOFFSETTO:-0800
TZNAME:PST
DTSTART:20241103T090000
END:STANDARD
BEGIN:DAYLIGHT
TZOFFSETFROM:-0800
TZOFFSETTO:-0700
TZNAME:PDT
DTSTART:20250309T100000
END:DAYLIGHT
BEGIN:STANDARD
TZOFFSETFROM:-0700
TZOFFSETTO:-0800
TZNAME:PST
DTSTART:20251102T090000
END:STANDARD
BEGIN:DAYLIGHT
TZOFFSETFROM:-0800
TZOFFSETTO:-0700
TZNAME:PDT
DTSTART:20260308T100000
END:DAYLIGHT
BEGIN:STANDARD
TZOFFSETFROM:-0700
TZOFFSETTO:-0800
TZNAME:PST
DTSTART:20261101T090000
END:STANDARD
END:VTIMEZONE
BEGIN:VEVENT
DTSTART;TZID=America/Los_Angeles:20251115T080000
DTEND;TZID=America/Los_Angeles:20251117T200000
DTSTAMP:20260425T174057
CREATED:20251114T154605Z
LAST-MODIFIED:20251114T154605Z
UID:10012526-1763193600-1763409600@pottedinsl.com
SUMMARY:SIM BENEFIT POT
DESCRIPTION:Bid board offering the Sim Benefit pot Storm at Delirium \nhttp://maps.secondlife.com/secondlife/Delirium%20Breedables/236/132/21
URL:https://pottedinsl.com/event/sim-benefit-pot-645/
LOCATION:http://maps.secondlife.com/secondlife/Delirium%20Breedables/236/132/21
END:VEVENT
BEGIN:VEVENT
DTSTART;TZID=America/Los_Angeles:20251115T120000
DTEND;TZID=America/Los_Angeles:20251117T120000
DTSTAMP:20260425T174057
CREATED:20251114T144442Z
LAST-MODIFIED:20251114T144442Z
UID:10012517-1763208000-1763380800@pottedinsl.com
SUMMARY:SIM BENEFIT POT
DESCRIPTION:Bid board offering the Sim Benefit pot LE Sir Borksalot Philodendron Pot – Spice at Amore d’Potted \nhttp://maps.secondlife.com/secondlife/Passions/208/147/21
URL:https://pottedinsl.com/event/sim-benefit-pot-636/
LOCATION:http://maps.secondlife.com/secondlife/Passions/208/147/21
END:VEVENT
BEGIN:VEVENT
DTSTART;TZID=America/Los_Angeles:20251116T110000
DTEND;TZID=America/Los_Angeles:20251116T120000
DTSTAMP:20260425T174057
CREATED:20251101T093049Z
LAST-MODIFIED:20251101T093049Z
UID:10012436-1763290800-1763294400@pottedinsl.com
SUMMARY:Claudia & Co
DESCRIPTION:Potted Auction \nhttp://maps.secondlife.com/secondlife/Eternal%20Flames/201/91/25
URL:https://pottedinsl.com/event/claudia-co-22/2025-11-16/
LOCATION:http://maps.secondlife.com/secondlife/Eternal%20Flames/201/91/25
END:VEVENT
BEGIN:VEVENT
DTSTART;TZID=America/Los_Angeles:20251116T110000
DTEND;TZID=America/Los_Angeles:20251116T120000
DTSTAMP:20260425T174057
CREATED:20251114T145219Z
LAST-MODIFIED:20251114T145219Z
UID:10012521-1763290800-1763294400@pottedinsl.com
SUMMARY:SIM BENEFIT POT
DESCRIPTION:Potted Auction to include the Sim Benefit pot LE Sir Borksalot Philodendron Pot – Storm at Claudia & Co \nhttp://maps.secondlife.com/secondlife/Eternal%20Flames/201/91/25
URL:https://pottedinsl.com/event/sim-benefit-pot-640/
LOCATION:http://maps.secondlife.com/secondlife/Eternal%20Flames/201/91/25
END:VEVENT
BEGIN:VEVENT
DTSTART;TZID=America/Los_Angeles:20251116T120000
DTEND;TZID=America/Los_Angeles:20251116T130000
DTSTAMP:20260425T174057
CREATED:20251111T105940Z
LAST-MODIFIED:20251111T105940Z
UID:10012507-1763294400-1763298000@pottedinsl.com
SUMMARY:SIM BENEFIT POT
DESCRIPTION:Potted Auction to include the Sim Benefit pot LE Sir Borksalot Philodendron Pot – Spice at GOE \nhttp://maps.secondlife.com/secondlife/Wines/141/127/19
URL:https://pottedinsl.com/event/sim-benefit-pot-632/
LOCATION:http://maps.secondlife.com/secondlife/Wines/141/127/19
END:VEVENT
BEGIN:VEVENT
DTSTART;TZID=America/Los_Angeles:20251116T140000
DTEND;TZID=America/Los_Angeles:20251116T150000
DTSTAMP:20260425T174057
CREATED:20251030T101436Z
LAST-MODIFIED:20251030T101436Z
UID:10012407-1763301600-1763305200@pottedinsl.com
SUMMARY:Charmed
DESCRIPTION:Potted Auction \nhttp://maps.secondlife.com/secondlife/Noctura/133/161/30
URL:https://pottedinsl.com/event/charmed-3/2025-11-16/
LOCATION:http://maps.secondlife.com/secondlife/Noctura/133/161/30
END:VEVENT
BEGIN:VEVENT
DTSTART;TZID=America/Los_Angeles:20251116T160000
DTEND;TZID=America/Los_Angeles:20251116T170000
DTSTAMP:20260425T174057
CREATED:20251102T060620Z
LAST-MODIFIED:20251102T060620Z
UID:10012450-1763308800-1763312400@pottedinsl.com
SUMMARY:Ganja Garden
DESCRIPTION:Potted Auction \nhttp://maps.secondlife.com/secondlife/CreditCard/74/195/3482
URL:https://pottedinsl.com/event/ganja-garden-55/2025-11-16/
LOCATION:http://maps.secondlife.com/secondlife/CreditCard/74/195/3482
END:VEVENT
BEGIN:VEVENT
DTSTART;TZID=America/Los_Angeles:20251116T160000
DTEND;TZID=America/Los_Angeles:20251116T170000
DTSTAMP:20260425T174057
CREATED:20251114T145738Z
LAST-MODIFIED:20251114T145738Z
UID:10012524-1763308800-1763312400@pottedinsl.com
SUMMARY:SIM BENEFIT POT
DESCRIPTION:Potted Auction to include the Sim Benefit pot  Storm at Ganja Garden \nhttp://maps.secondlife.com/secondlife/CreditCard/74/195/3482
URL:https://pottedinsl.com/event/sim-benefit-pot-643/
LOCATION:http://maps.secondlife.com/secondlife/CreditCard/74/195/3482
END:VEVENT
BEGIN:VEVENT
DTSTART;TZID=America/Los_Angeles:20251116T180000
DTEND;TZID=America/Los_Angeles:20251116T190000
DTSTAMP:20260425T174057
CREATED:20251111T101336Z
LAST-MODIFIED:20251111T101336Z
UID:10012492-1763316000-1763319600@pottedinsl.com
SUMMARY:SIM BENEFIT POT
DESCRIPTION:Potted Auction to include the Sim Benefit pot LE Sir Borksalot Philodendron Pot – Storm at Riacats \nhttp://maps.secondlife.com/secondlife/Solarian%20Prime/63/159/25
URL:https://pottedinsl.com/event/sim-benefit-pot-618/
LOCATION:http://maps.secondlife.com/secondlife/Solarian%20Prime/63/159/25
END:VEVENT
END:VCALENDAR